BEGIN:VCALENDAR
VERSION:2.0
PRODID:-// GoSeeDoATL.com  - ECPv6.15.20//NONSGML v1.0//EN
CALSCALE:GREGORIAN
METHOD:PUBLISH
X-ORIGINAL-URL:https://goseedoatl.com
X-WR-CALDESC:Events for  GoSeeDoATL.com 
REFRESH-INTERVAL;VALUE=DURATION:PT1H
X-Robots-Tag:noindex
X-PUBLISHED-TTL:PT1H
BEGIN:VTIMEZONE
TZID:America/Denver
BEGIN:DAYLIGHT
TZOFFSETFROM:-0700
TZOFFSETTO:-0600
TZNAME:MDT
DTSTART:20220313T090000
END:DAYLIGHT
BEGIN:STANDARD
TZOFFSETFROM:-0600
TZOFFSETTO:-0700
TZNAME:MST
DTSTART:20221106T080000
END:STANDARD
BEGIN:DAYLIGHT
TZOFFSETFROM:-0700
TZOFFSETTO:-0600
TZNAME:MDT
DTSTART:20230312T090000
END:DAYLIGHT
BEGIN:STANDARD
TZOFFSETFROM:-0600
TZOFFSETTO:-0700
TZNAME:MST
DTSTART:20231105T080000
END:STANDARD
BEGIN:DAYLIGHT
TZOFFSETFROM:-0700
TZOFFSETTO:-0600
TZNAME:MDT
DTSTART:20240310T090000
END:DAYLIGHT
BEGIN:STANDARD
TZOFFSETFROM:-0600
TZOFFSETTO:-0700
TZNAME:MST
DTSTART:20241103T080000
END:STANDARD
BEGIN:DAYLIGHT
TZOFFSETFROM:-0700
TZOFFSETTO:-0600
TZNAME:MDT
DTSTART:20250309T090000
END:DAYLIGHT
BEGIN:STANDARD
TZOFFSETFROM:-0600
TZOFFSETTO:-0700
TZNAME:MST
DTSTART:20251102T080000
END:STANDARD
END:VTIMEZONE
BEGIN:VEVENT
DTSTART;TZID=America/Denver:20240628T193000
DTEND;TZID=America/Denver:20240628T230000
DTSTAMP:20260421T172217
CREATED:20240624T204606Z
LAST-MODIFIED:20240624T204606Z
UID:245096-1719603000-1719615600@goseedoatl.com
SUMMARY:8th Annual Jazz Matters at The Wren's Nest
DESCRIPTION:A soulful jazz evening with The Bill Hart Band plus Edwin Williams & Friends. The Wren’s Nest-1050 Ralph David Abernathy Blvd SW. Get tickets at www.yesjazzmatters.org
URL:https://goseedoatl.com/event/8th-annual-jazz-matters-at-the-wrens-nest-2/
LOCATION:The Wren’s Nest\, 1050 Ralph David Abernathy Blvd\, Atlanta\, GA\, 30310\, United States
ATTACH;FMTTYPE=image/jpeg:https://goseedoatl.com/wp-content/uploads/2024/06/June-28-Jazz-Matters-Flyer-scaled.jpg
END:VEVENT
BEGIN:VEVENT
DTSTART;TZID=America/Denver:20231125T110000
DTEND;TZID=America/Denver:20231125T150000
DTSTAMP:20260421T172217
CREATED:20231125T130434Z
LAST-MODIFIED:20231125T130434Z
UID:244603-1700910000-1700924400@goseedoatl.com
SUMMARY:Home for the Holidays at The Wren's Nest
DESCRIPTION:Take a step back in time on holiday tours of The Wren’s Nest\, complete with complimentary cookies and cocoa. Be sure to shop in our gift shop for Victorian and Br’er Rabbit inspired jewelry\, decor and keepsakes. Reserve your tickets at eventbrite.com
URL:https://goseedoatl.com/event/home-for-the-holidays-at-the-wrens-nest/2023-11-25/
LOCATION:The Wren’s Nest\, 1050 Ralph David Abernathy Blvd\, Atlanta\, GA\, 30310\, United States
ATTACH;FMTTYPE=image/png:https://goseedoatl.com/wp-content/uploads/2023/11/The-Wrens-Nest.png
END:VEVENT
END:VCALENDAR