BEGIN:VCALENDAR
VERSION:2.0
PRODID:-// GoSeeDoATL.com  - ECPv6.15.20//NONSGML v1.0//EN
CALSCALE:GREGORIAN
METHOD:PUBLISH
X-WR-CALNAME: GoSeeDoATL.com 
X-ORIGINAL-URL:https://goseedoatl.com
X-WR-CALDESC:Events for  GoSeeDoATL.com 
REFRESH-INTERVAL;VALUE=DURATION:PT1H
X-Robots-Tag:noindex
X-PUBLISHED-TTL:PT1H
BEGIN:VTIMEZONE
TZID:America/Denver
BEGIN:DAYLIGHT
TZOFFSETFROM:-0700
TZOFFSETTO:-0600
TZNAME:MDT
DTSTART:20250309T090000
END:DAYLIGHT
BEGIN:STANDARD
TZOFFSETFROM:-0600
TZOFFSETTO:-0700
TZNAME:MST
DTSTART:20251102T080000
END:STANDARD
BEGIN:DAYLIGHT
TZOFFSETFROM:-0700
TZOFFSETTO:-0600
TZNAME:MDT
DTSTART:20260308T090000
END:DAYLIGHT
BEGIN:STANDARD
TZOFFSETFROM:-0600
TZOFFSETTO:-0700
TZNAME:MST
DTSTART:20261101T080000
END:STANDARD
BEGIN:DAYLIGHT
TZOFFSETFROM:-0700
TZOFFSETTO:-0600
TZNAME:MDT
DTSTART:20270314T090000
END:DAYLIGHT
BEGIN:STANDARD
TZOFFSETFROM:-0600
TZOFFSETTO:-0700
TZNAME:MST
DTSTART:20271107T080000
END:STANDARD
END:VTIMEZONE
BEGIN:VEVENT
DTSTART;TZID=America/Denver:20260425T103000
DTEND;TZID=America/Denver:20260425T180000
DTSTAMP:20260424T152755
CREATED:20260103T181432Z
LAST-MODIFIED:20260103T181432Z
UID:2049518-1777113000-1777140000@goseedoatl.com
SUMMARY:Georgia Renaissance Festival
DESCRIPTION:Go back in time to the Renaissance era. Rain or shine event. Parking is free. Join us for entertainment shows\, arts & crafts\, games & rides and more.
URL:https://goseedoatl.com/event/georgia-renaissance-festival-5/2026-04-25/
LOCATION:6905 Virlyn B Smith Road Fairburn
ATTACH;FMTTYPE=image/jpeg:https://goseedoatl.com/wp-content/uploads/2025/12/GA-RenFest-2026-website-scaled.jpg
END:VEVENT
BEGIN:VEVENT
DTSTART;TZID=America/Denver:20260426T103000
DTEND;TZID=America/Denver:20260426T180000
DTSTAMP:20260424T152755
CREATED:20260103T181432Z
LAST-MODIFIED:20260103T181432Z
UID:2049519-1777199400-1777226400@goseedoatl.com
SUMMARY:Georgia Renaissance Festival
DESCRIPTION:Go back in time to the Renaissance era. Rain or shine event. Parking is free. Join us for entertainment shows\, arts & crafts\, games & rides and more.
URL:https://goseedoatl.com/event/georgia-renaissance-festival-5/2026-04-26/
LOCATION:6905 Virlyn B Smith Road Fairburn
ATTACH;FMTTYPE=image/jpeg:https://goseedoatl.com/wp-content/uploads/2025/12/GA-RenFest-2026-website-scaled.jpg
END:VEVENT
BEGIN:VEVENT
DTSTART;TZID=America/Denver:20260502T103000
DTEND;TZID=America/Denver:20260502T180000
DTSTAMP:20260424T152755
CREATED:20260103T181432Z
LAST-MODIFIED:20260103T181432Z
UID:2049520-1777717800-1777744800@goseedoatl.com
SUMMARY:Georgia Renaissance Festival
DESCRIPTION:Go back in time to the Renaissance era. Rain or shine event. Parking is free. Join us for entertainment shows\, arts & crafts\, games & rides and more.
URL:https://goseedoatl.com/event/georgia-renaissance-festival-5/2026-05-02/
LOCATION:6905 Virlyn B Smith Road Fairburn
ATTACH;FMTTYPE=image/jpeg:https://goseedoatl.com/wp-content/uploads/2025/12/GA-RenFest-2026-website-scaled.jpg
END:VEVENT
BEGIN:VEVENT
DTSTART;TZID=America/Denver:20260503T103000
DTEND;TZID=America/Denver:20260503T180000
DTSTAMP:20260424T152755
CREATED:20260103T181432Z
LAST-MODIFIED:20260103T181432Z
UID:2049521-1777804200-1777831200@goseedoatl.com
SUMMARY:Georgia Renaissance Festival
DESCRIPTION:Go back in time to the Renaissance era. Rain or shine event. Parking is free. Join us for entertainment shows\, arts & crafts\, games & rides and more.
URL:https://goseedoatl.com/event/georgia-renaissance-festival-5/2026-05-03/
LOCATION:6905 Virlyn B Smith Road Fairburn
ATTACH;FMTTYPE=image/jpeg:https://goseedoatl.com/wp-content/uploads/2025/12/GA-RenFest-2026-website-scaled.jpg
END:VEVENT
BEGIN:VEVENT
DTSTART;TZID=America/Denver:20260509T103000
DTEND;TZID=America/Denver:20260509T180000
DTSTAMP:20260424T152755
CREATED:20260103T181432Z
LAST-MODIFIED:20260103T181432Z
UID:2049522-1778322600-1778349600@goseedoatl.com
SUMMARY:Georgia Renaissance Festival
DESCRIPTION:Go back in time to the Renaissance era. Rain or shine event. Parking is free. Join us for entertainment shows\, arts & crafts\, games & rides and more.
URL:https://goseedoatl.com/event/georgia-renaissance-festival-5/2026-05-09/
LOCATION:6905 Virlyn B Smith Road Fairburn
ATTACH;FMTTYPE=image/jpeg:https://goseedoatl.com/wp-content/uploads/2025/12/GA-RenFest-2026-website-scaled.jpg
END:VEVENT
BEGIN:VEVENT
DTSTART;TZID=America/Denver:20260510T103000
DTEND;TZID=America/Denver:20260510T180000
DTSTAMP:20260424T152755
CREATED:20260103T181432Z
LAST-MODIFIED:20260103T181432Z
UID:2049523-1778409000-1778436000@goseedoatl.com
SUMMARY:Georgia Renaissance Festival
DESCRIPTION:Go back in time to the Renaissance era. Rain or shine event. Parking is free. Join us for entertainment shows\, arts & crafts\, games & rides and more.
URL:https://goseedoatl.com/event/georgia-renaissance-festival-5/2026-05-10/
LOCATION:6905 Virlyn B Smith Road Fairburn
ATTACH;FMTTYPE=image/jpeg:https://goseedoatl.com/wp-content/uploads/2025/12/GA-RenFest-2026-website-scaled.jpg
END:VEVENT
BEGIN:VEVENT
DTSTART;TZID=America/Denver:20260516T103000
DTEND;TZID=America/Denver:20260516T180000
DTSTAMP:20260424T152755
CREATED:20260103T181432Z
LAST-MODIFIED:20260103T181432Z
UID:2049524-1778927400-1778954400@goseedoatl.com
SUMMARY:Georgia Renaissance Festival
DESCRIPTION:Go back in time to the Renaissance era. Rain or shine event. Parking is free. Join us for entertainment shows\, arts & crafts\, games & rides and more.
URL:https://goseedoatl.com/event/georgia-renaissance-festival-5/2026-05-16/
LOCATION:6905 Virlyn B Smith Road Fairburn
ATTACH;FMTTYPE=image/jpeg:https://goseedoatl.com/wp-content/uploads/2025/12/GA-RenFest-2026-website-scaled.jpg
END:VEVENT
BEGIN:VEVENT
DTSTART;TZID=America/Denver:20260517T103000
DTEND;TZID=America/Denver:20260517T180000
DTSTAMP:20260424T152755
CREATED:20260103T181432Z
LAST-MODIFIED:20260103T181432Z
UID:2049525-1779013800-1779040800@goseedoatl.com
SUMMARY:Georgia Renaissance Festival
DESCRIPTION:Go back in time to the Renaissance era. Rain or shine event. Parking is free. Join us for entertainment shows\, arts & crafts\, games & rides and more.
URL:https://goseedoatl.com/event/georgia-renaissance-festival-5/2026-05-17/
LOCATION:6905 Virlyn B Smith Road Fairburn
ATTACH;FMTTYPE=image/jpeg:https://goseedoatl.com/wp-content/uploads/2025/12/GA-RenFest-2026-website-scaled.jpg
END:VEVENT
BEGIN:VEVENT
DTSTART;TZID=America/Denver:20260523T103000
DTEND;TZID=America/Denver:20260523T180000
DTSTAMP:20260424T152755
CREATED:20260103T181432Z
LAST-MODIFIED:20260103T181432Z
UID:2049526-1779532200-1779559200@goseedoatl.com
SUMMARY:Georgia Renaissance Festival
DESCRIPTION:Go back in time to the Renaissance era. Rain or shine event. Parking is free. Join us for entertainment shows\, arts & crafts\, games & rides and more.
URL:https://goseedoatl.com/event/georgia-renaissance-festival-5/2026-05-23/
LOCATION:6905 Virlyn B Smith Road Fairburn
ATTACH;FMTTYPE=image/jpeg:https://goseedoatl.com/wp-content/uploads/2025/12/GA-RenFest-2026-website-scaled.jpg
END:VEVENT
BEGIN:VEVENT
DTSTART;TZID=America/Denver:20260524T103000
DTEND;TZID=America/Denver:20260524T180000
DTSTAMP:20260424T152755
CREATED:20260103T181432Z
LAST-MODIFIED:20260103T181432Z
UID:2049527-1779618600-1779645600@goseedoatl.com
SUMMARY:Georgia Renaissance Festival
DESCRIPTION:Go back in time to the Renaissance era. Rain or shine event. Parking is free. Join us for entertainment shows\, arts & crafts\, games & rides and more.
URL:https://goseedoatl.com/event/georgia-renaissance-festival-5/2026-05-24/
LOCATION:6905 Virlyn B Smith Road Fairburn
ATTACH;FMTTYPE=image/jpeg:https://goseedoatl.com/wp-content/uploads/2025/12/GA-RenFest-2026-website-scaled.jpg
END:VEVENT
BEGIN:VEVENT
DTSTART;TZID=America/Denver:20260526T103000
DTEND;TZID=America/Denver:20260526T180000
DTSTAMP:20260424T152755
CREATED:20260103T181432Z
LAST-MODIFIED:20260103T181432Z
UID:2049529-1779791400-1779818400@goseedoatl.com
SUMMARY:Georgia Renaissance Festival
DESCRIPTION:Go back in time to the Renaissance era. Rain or shine event. Parking is free. Join us for entertainment shows\, arts & crafts\, games & rides and more.
URL:https://goseedoatl.com/event/georgia-renaissance-festival-5/2026-05-26/
LOCATION:6905 Virlyn B Smith Road Fairburn
ATTACH;FMTTYPE=image/jpeg:https://goseedoatl.com/wp-content/uploads/2025/12/GA-RenFest-2026-website-scaled.jpg
END:VEVENT
BEGIN:VEVENT
DTSTART;TZID=America/Denver:20260530T103000
DTEND;TZID=America/Denver:20260530T180000
DTSTAMP:20260424T152755
CREATED:20260103T181432Z
LAST-MODIFIED:20260103T181432Z
UID:2049530-1780137000-1780164000@goseedoatl.com
SUMMARY:Georgia Renaissance Festival
DESCRIPTION:Go back in time to the Renaissance era. Rain or shine event. Parking is free. Join us for entertainment shows\, arts & crafts\, games & rides and more.
URL:https://goseedoatl.com/event/georgia-renaissance-festival-5/2026-05-30/
LOCATION:6905 Virlyn B Smith Road Fairburn
ATTACH;FMTTYPE=image/jpeg:https://goseedoatl.com/wp-content/uploads/2025/12/GA-RenFest-2026-website-scaled.jpg
END:VEVENT
BEGIN:VEVENT
DTSTART;TZID=America/Denver:20260531T103000
DTEND;TZID=America/Denver:20260531T180000
DTSTAMP:20260424T152755
CREATED:20260103T181432Z
LAST-MODIFIED:20260103T181432Z
UID:2049531-1780223400-1780250400@goseedoatl.com
SUMMARY:Georgia Renaissance Festival
DESCRIPTION:Go back in time to the Renaissance era. Rain or shine event. Parking is free. Join us for entertainment shows\, arts & crafts\, games & rides and more.
URL:https://goseedoatl.com/event/georgia-renaissance-festival-5/2026-05-31/
LOCATION:6905 Virlyn B Smith Road Fairburn
ATTACH;FMTTYPE=image/jpeg:https://goseedoatl.com/wp-content/uploads/2025/12/GA-RenFest-2026-website-scaled.jpg
END:VEVENT
END:VCALENDAR