BEGIN:VCALENDAR
VERSION:2.0
PRODID:-// GoSeeDoATL.com  - ECPv6.15.20//NONSGML v1.0//EN
CALSCALE:GREGORIAN
METHOD:PUBLISH
X-WR-CALNAME: GoSeeDoATL.com 
X-ORIGINAL-URL:https://goseedoatl.com
X-WR-CALDESC:Events for  GoSeeDoATL.com 
REFRESH-INTERVAL;VALUE=DURATION:PT1H
X-Robots-Tag:noindex
X-PUBLISHED-TTL:PT1H
BEGIN:VTIMEZONE
TZID:America/Denver
BEGIN:DAYLIGHT
TZOFFSETFROM:-0700
TZOFFSETTO:-0600
TZNAME:MDT
DTSTART:20220313T090000
END:DAYLIGHT
BEGIN:STANDARD
TZOFFSETFROM:-0600
TZOFFSETTO:-0700
TZNAME:MST
DTSTART:20221106T080000
END:STANDARD
BEGIN:DAYLIGHT
TZOFFSETFROM:-0700
TZOFFSETTO:-0600
TZNAME:MDT
DTSTART:20230312T090000
END:DAYLIGHT
BEGIN:STANDARD
TZOFFSETFROM:-0600
TZOFFSETTO:-0700
TZNAME:MST
DTSTART:20231105T080000
END:STANDARD
BEGIN:DAYLIGHT
TZOFFSETFROM:-0700
TZOFFSETTO:-0600
TZNAME:MDT
DTSTART:20240310T090000
END:DAYLIGHT
BEGIN:STANDARD
TZOFFSETFROM:-0600
TZOFFSETTO:-0700
TZNAME:MST
DTSTART:20241103T080000
END:STANDARD
BEGIN:DAYLIGHT
TZOFFSETFROM:-0700
TZOFFSETTO:-0600
TZNAME:MDT
DTSTART:20250309T090000
END:DAYLIGHT
BEGIN:STANDARD
TZOFFSETFROM:-0600
TZOFFSETTO:-0700
TZNAME:MST
DTSTART:20251102T080000
END:STANDARD
BEGIN:DAYLIGHT
TZOFFSETFROM:-0700
TZOFFSETTO:-0600
TZNAME:MDT
DTSTART:20260308T090000
END:DAYLIGHT
BEGIN:STANDARD
TZOFFSETFROM:-0600
TZOFFSETTO:-0700
TZNAME:MST
DTSTART:20261101T080000
END:STANDARD
BEGIN:DAYLIGHT
TZOFFSETFROM:-0700
TZOFFSETTO:-0600
TZNAME:MDT
DTSTART:20270314T090000
END:DAYLIGHT
BEGIN:STANDARD
TZOFFSETFROM:-0600
TZOFFSETTO:-0700
TZNAME:MST
DTSTART:20271107T080000
END:STANDARD
END:VTIMEZONE
BEGIN:VEVENT
DTSTART;TZID=America/Denver:20260419T103000
DTEND;TZID=America/Denver:20260419T180000
DTSTAMP:20260424T172411
CREATED:20260103T181432Z
LAST-MODIFIED:20260103T181432Z
UID:2049517-1776594600-1776621600@goseedoatl.com
SUMMARY:Georgia Renaissance Festival
DESCRIPTION:Go back in time to the Renaissance era. Rain or shine event. Parking is free. Join us for entertainment shows\, arts & crafts\, games & rides and more.
URL:https://goseedoatl.com/event/georgia-renaissance-festival-5/2026-04-19/
LOCATION:6905 Virlyn B Smith Road Fairburn
ATTACH;FMTTYPE=image/jpeg:https://goseedoatl.com/wp-content/uploads/2025/12/GA-RenFest-2026-website-scaled.jpg
END:VEVENT
BEGIN:VEVENT
DTSTART;TZID=America/Denver:20260418T103000
DTEND;TZID=America/Denver:20260418T180000
DTSTAMP:20260424T172411
CREATED:20260103T181432Z
LAST-MODIFIED:20260103T181432Z
UID:2049516-1776508200-1776535200@goseedoatl.com
SUMMARY:Georgia Renaissance Festival
DESCRIPTION:Go back in time to the Renaissance era. Rain or shine event. Parking is free. Join us for entertainment shows\, arts & crafts\, games & rides and more.
URL:https://goseedoatl.com/event/georgia-renaissance-festival-5/2026-04-18/
LOCATION:6905 Virlyn B Smith Road Fairburn
ATTACH;FMTTYPE=image/jpeg:https://goseedoatl.com/wp-content/uploads/2025/12/GA-RenFest-2026-website-scaled.jpg
END:VEVENT
BEGIN:VEVENT
DTSTART;TZID=America/Denver:20260412T103000
DTEND;TZID=America/Denver:20260412T180000
DTSTAMP:20260424T172411
CREATED:20260103T181432Z
LAST-MODIFIED:20260103T181432Z
UID:2049507-1775989800-1776016800@goseedoatl.com
SUMMARY:Georgia Renaissance Festival
DESCRIPTION:Go back in time to the Renaissance era. Rain or shine event. Parking is free. Join us for entertainment shows\, arts & crafts\, games & rides and more.
URL:https://goseedoatl.com/event/georgia-renaissance-festival-5/2026-04-12/
LOCATION:6905 Virlyn B Smith Road Fairburn
ATTACH;FMTTYPE=image/jpeg:https://goseedoatl.com/wp-content/uploads/2025/12/GA-RenFest-2026-website-scaled.jpg
END:VEVENT
BEGIN:VEVENT
DTSTART;TZID=America/Denver:20260411T103000
DTEND;TZID=America/Denver:20260411T180000
DTSTAMP:20260424T172411
CREATED:20260103T181432Z
LAST-MODIFIED:20260103T181432Z
UID:2049506-1775903400-1775930400@goseedoatl.com
SUMMARY:Georgia Renaissance Festival
DESCRIPTION:Go back in time to the Renaissance era. Rain or shine event. Parking is free. Join us for entertainment shows\, arts & crafts\, games & rides and more.
URL:https://goseedoatl.com/event/georgia-renaissance-festival-5/2026-04-11/
LOCATION:6905 Virlyn B Smith Road Fairburn
ATTACH;FMTTYPE=image/jpeg:https://goseedoatl.com/wp-content/uploads/2025/12/GA-RenFest-2026-website-scaled.jpg
END:VEVENT
BEGIN:VEVENT
DTSTART;TZID=America/Denver:20240518T103000
DTEND;TZID=America/Denver:20240518T180000
DTSTAMP:20260424T172411
CREATED:20240215T202911Z
LAST-MODIFIED:20240215T202911Z
UID:244835-1716028200-1716055200@goseedoatl.com
SUMMARY:Georgia Renaissance Festival
DESCRIPTION:The Party is Back! Saturdays and Sundays from April 13-June 2 plus Memorial Day Monday\, May 27. Rain or Shine from 10:30am-6pm. FREE parking.
URL:https://goseedoatl.com/event/georgia-renaissance-festival-4/2024-05-18/
LOCATION:6905 Virlyn B Smith Road Fairburn
ATTACH;FMTTYPE=image/jpeg:https://goseedoatl.com/wp-content/uploads/2024/02/RenFest-2024-scaled.jpg
END:VEVENT
BEGIN:VEVENT
DTSTART;TZID=America/Denver:20240512T103000
DTEND;TZID=America/Denver:20240512T180000
DTSTAMP:20260424T172411
CREATED:20240215T202911Z
LAST-MODIFIED:20240215T202911Z
UID:244834-1715509800-1715536800@goseedoatl.com
SUMMARY:Georgia Renaissance Festival
DESCRIPTION:The Party is Back! Saturdays and Sundays from April 13-June 2 plus Memorial Day Monday\, May 27. Rain or Shine from 10:30am-6pm. FREE parking.
URL:https://goseedoatl.com/event/georgia-renaissance-festival-4/2024-05-12/
LOCATION:6905 Virlyn B Smith Road Fairburn
ATTACH;FMTTYPE=image/jpeg:https://goseedoatl.com/wp-content/uploads/2024/02/RenFest-2024-scaled.jpg
END:VEVENT
BEGIN:VEVENT
DTSTART;TZID=America/Denver:20240511T103000
DTEND;TZID=America/Denver:20240511T180000
DTSTAMP:20260424T172411
CREATED:20240215T202911Z
LAST-MODIFIED:20240215T202911Z
UID:244833-1715423400-1715450400@goseedoatl.com
SUMMARY:Georgia Renaissance Festival
DESCRIPTION:The Party is Back! Saturdays and Sundays from April 13-June 2 plus Memorial Day Monday\, May 27. Rain or Shine from 10:30am-6pm. FREE parking.
URL:https://goseedoatl.com/event/georgia-renaissance-festival-4/2024-05-11/
LOCATION:6905 Virlyn B Smith Road Fairburn
ATTACH;FMTTYPE=image/jpeg:https://goseedoatl.com/wp-content/uploads/2024/02/RenFest-2024-scaled.jpg
END:VEVENT
BEGIN:VEVENT
DTSTART;TZID=America/Denver:20240505T103000
DTEND;TZID=America/Denver:20240505T180000
DTSTAMP:20260424T172411
CREATED:20240215T202911Z
LAST-MODIFIED:20240215T202911Z
UID:244832-1714905000-1714932000@goseedoatl.com
SUMMARY:Georgia Renaissance Festival
DESCRIPTION:The Party is Back! Saturdays and Sundays from April 13-June 2 plus Memorial Day Monday\, May 27. Rain or Shine from 10:30am-6pm. FREE parking.
URL:https://goseedoatl.com/event/georgia-renaissance-festival-4/2024-05-05/
LOCATION:6905 Virlyn B Smith Road Fairburn
ATTACH;FMTTYPE=image/jpeg:https://goseedoatl.com/wp-content/uploads/2024/02/RenFest-2024-scaled.jpg
END:VEVENT
BEGIN:VEVENT
DTSTART;TZID=America/Denver:20240504T103000
DTEND;TZID=America/Denver:20240504T180000
DTSTAMP:20260424T172411
CREATED:20240215T202911Z
LAST-MODIFIED:20240215T202911Z
UID:244831-1714818600-1714845600@goseedoatl.com
SUMMARY:Georgia Renaissance Festival
DESCRIPTION:The Party is Back! Saturdays and Sundays from April 13-June 2 plus Memorial Day Monday\, May 27. Rain or Shine from 10:30am-6pm. FREE parking.
URL:https://goseedoatl.com/event/georgia-renaissance-festival-4/2024-05-04/
LOCATION:6905 Virlyn B Smith Road Fairburn
ATTACH;FMTTYPE=image/jpeg:https://goseedoatl.com/wp-content/uploads/2024/02/RenFest-2024-scaled.jpg
END:VEVENT
BEGIN:VEVENT
DTSTART;TZID=America/Denver:20240428T103000
DTEND;TZID=America/Denver:20240428T180000
DTSTAMP:20260424T172411
CREATED:20240215T202911Z
LAST-MODIFIED:20240215T202911Z
UID:244830-1714300200-1714327200@goseedoatl.com
SUMMARY:Georgia Renaissance Festival
DESCRIPTION:The Party is Back! Saturdays and Sundays from April 13-June 2 plus Memorial Day Monday\, May 27. Rain or Shine from 10:30am-6pm. FREE parking.
URL:https://goseedoatl.com/event/georgia-renaissance-festival-4/2024-04-28/
LOCATION:6905 Virlyn B Smith Road Fairburn
ATTACH;FMTTYPE=image/jpeg:https://goseedoatl.com/wp-content/uploads/2024/02/RenFest-2024-scaled.jpg
END:VEVENT
BEGIN:VEVENT
DTSTART;TZID=America/Denver:20240427T103000
DTEND;TZID=America/Denver:20240427T180000
DTSTAMP:20260424T172411
CREATED:20240215T202911Z
LAST-MODIFIED:20240215T202911Z
UID:244829-1714213800-1714240800@goseedoatl.com
SUMMARY:Georgia Renaissance Festival
DESCRIPTION:The Party is Back! Saturdays and Sundays from April 13-June 2 plus Memorial Day Monday\, May 27. Rain or Shine from 10:30am-6pm. FREE parking.
URL:https://goseedoatl.com/event/georgia-renaissance-festival-4/2024-04-27/
LOCATION:6905 Virlyn B Smith Road Fairburn
ATTACH;FMTTYPE=image/jpeg:https://goseedoatl.com/wp-content/uploads/2024/02/RenFest-2024-scaled.jpg
END:VEVENT
BEGIN:VEVENT
DTSTART;TZID=America/Denver:20240413T103000
DTEND;TZID=America/Denver:20240413T180000
DTSTAMP:20260424T172411
CREATED:20240215T202911Z
LAST-MODIFIED:20240215T202911Z
UID:244824-1713004200-1713031200@goseedoatl.com
SUMMARY:Georgia Renaissance Festival
DESCRIPTION:The Party is Back! Saturdays and Sundays from April 13-June 2 plus Memorial Day Monday\, May 27. Rain or Shine from 10:30am-6pm. FREE parking.
URL:https://goseedoatl.com/event/georgia-renaissance-festival-4/2024-04-13/
LOCATION:6905 Virlyn B Smith Road Fairburn
ATTACH;FMTTYPE=image/jpeg:https://goseedoatl.com/wp-content/uploads/2024/02/RenFest-2024-scaled.jpg
END:VEVENT
BEGIN:VEVENT
DTSTART;TZID=America/Denver:20230529T103000
DTEND;TZID=America/Denver:20230529T180000
DTSTAMP:20260424T172411
CREATED:20230210T002407Z
LAST-MODIFIED:20230222T201224Z
UID:241239-1685356200-1685383200@goseedoatl.com
SUMMARY:Georgia Renaissance Festival
DESCRIPTION:
URL:https://goseedoatl.com/event/georgia-renaissance-festival-3/
LOCATION:6905 Virlyn B Smith Road Fairburn
ATTACH;FMTTYPE=image/jpeg:https://goseedoatl.com/wp-content/uploads/2023/02/RenFest-23.jpg
END:VEVENT
BEGIN:VEVENT
DTSTART;TZID=America/Denver:20230513T103000
DTEND;TZID=America/Denver:20230513T180000
DTSTAMP:20260424T172411
CREATED:20230210T001756Z
LAST-MODIFIED:20230222T201007Z
UID:241229-1683973800-1684000800@goseedoatl.com
SUMMARY:Georgia Renaissance Festival
DESCRIPTION:
URL:https://goseedoatl.com/event/georgia-renaissance-festival-2-copy-copy-copy-copy-2023-05-13/2023-05-13/
LOCATION:6905 Virlyn B Smith Road Fairburn
ATTACH;FMTTYPE=image/jpeg:https://goseedoatl.com/wp-content/uploads/2023/02/RenFest.jpg
END:VEVENT
BEGIN:VEVENT
DTSTART;TZID=America/Denver:20230507T103000
DTEND;TZID=America/Denver:20230507T180000
DTSTAMP:20260424T172411
CREATED:20230210T001629Z
LAST-MODIFIED:20230222T200912Z
UID:241234-1683455400-1683482400@goseedoatl.com
SUMMARY:Georgia Renaissance Festival
DESCRIPTION:
URL:https://goseedoatl.com/event/georgia-renaissance-festival-2-copy-copy-copy-2023-05-07/2023-05-07/
LOCATION:6905 Virlyn B Smith Road Fairburn
ATTACH;FMTTYPE=image/jpeg:https://goseedoatl.com/wp-content/uploads/2023/02/RenFest-23.jpg
END:VEVENT
BEGIN:VEVENT
DTSTART;TZID=America/Denver:20230506T103000
DTEND;TZID=America/Denver:20230506T180000
DTSTAMP:20260424T172411
CREATED:20230210T001756Z
LAST-MODIFIED:20230222T200824Z
UID:241228-1683369000-1683396000@goseedoatl.com
SUMMARY:Georgia Renaissance Festival
DESCRIPTION:
URL:https://goseedoatl.com/event/georgia-renaissance-festival-2-copy-copy-copy-copy-2023-05-06/
LOCATION:6905 Virlyn B Smith Road Fairburn
ATTACH;FMTTYPE=image/jpeg:https://goseedoatl.com/wp-content/uploads/2023/02/RenFest.jpg
END:VEVENT
BEGIN:VEVENT
DTSTART;TZID=America/Denver:20230430T103000
DTEND;TZID=America/Denver:20230430T180000
DTSTAMP:20260424T172411
CREATED:20230210T001629Z
LAST-MODIFIED:20230211T181551Z
UID:241233-1682850600-1682877600@goseedoatl.com
SUMMARY:Georgia Renaissance Festival
DESCRIPTION:
URL:https://goseedoatl.com/event/georgia-renaissance-festival-2-copy-copy-copy-2023-04-30/
LOCATION:6905 Virlyn B Smith Road Fairburn
ATTACH;FMTTYPE=image/jpeg:https://goseedoatl.com/wp-content/uploads/2023/02/RenFest-23.jpg
END:VEVENT
BEGIN:VEVENT
DTSTART;TZID=America/Denver:20230429T103000
DTEND;TZID=America/Denver:20230429T180000
DTSTAMP:20260424T172411
CREATED:20230210T001756Z
LAST-MODIFIED:20230211T181502Z
UID:241226-1682764200-1682791200@goseedoatl.com
SUMMARY:Georgia Renaissance Festival
DESCRIPTION:
URL:https://goseedoatl.com/event/georgia-renaissance-festival-2-copy-copy-copy-copy/
LOCATION:6905 Virlyn B Smith Road Fairburn
ATTACH;FMTTYPE=image/jpeg:https://goseedoatl.com/wp-content/uploads/2023/02/RenFest.jpg
END:VEVENT
BEGIN:VEVENT
DTSTART;TZID=America/Denver:20230423T103000
DTEND;TZID=America/Denver:20230423T180000
DTSTAMP:20260424T172411
CREATED:20230210T001629Z
LAST-MODIFIED:20230211T181335Z
UID:241224-1682245800-1682272800@goseedoatl.com
SUMMARY:Georgia Renaissance Festival
DESCRIPTION:
URL:https://goseedoatl.com/event/georgia-renaissance-festival-2-copy-copy-copy/
LOCATION:6905 Virlyn B Smith Road Fairburn
ATTACH;FMTTYPE=image/jpeg:https://goseedoatl.com/wp-content/uploads/2023/02/RenFest.jpg
END:VEVENT
BEGIN:VEVENT
DTSTART;TZID=America/Denver:20230422T103000
DTEND;TZID=America/Denver:20230422T180000
DTSTAMP:20260424T172411
CREATED:20230210T001529Z
LAST-MODIFIED:20230211T181101Z
UID:241222-1682159400-1682186400@goseedoatl.com
SUMMARY:Georgia Renaissance Festival
DESCRIPTION:
URL:https://goseedoatl.com/event/georgia-renaissance-festival-2-copy-copy/
LOCATION:6905 Virlyn B Smith Road Fairburn
ATTACH;FMTTYPE=image/jpeg:https://goseedoatl.com/wp-content/uploads/2023/02/RenFest-23.jpg
END:VEVENT
BEGIN:VEVENT
DTSTART;TZID=America/Denver:20230416T103000
DTEND;TZID=America/Denver:20230416T180000
DTSTAMP:20260424T172411
CREATED:20230210T001423Z
LAST-MODIFIED:20230211T180908Z
UID:241220-1681641000-1681668000@goseedoatl.com
SUMMARY:Georgia Renaissance Festival
DESCRIPTION:
URL:https://goseedoatl.com/event/georgia-renaissance-festival-2-copy/
LOCATION:6905 Virlyn B Smith Road Fairburn
ATTACH;FMTTYPE=image/jpeg:https://goseedoatl.com/wp-content/uploads/2023/02/RenFest-23.jpg
END:VEVENT
BEGIN:VEVENT
DTSTART;TZID=America/Denver:20230415T103000
DTEND;TZID=America/Denver:20230415T180000
DTSTAMP:20260424T172411
CREATED:20230210T001254Z
LAST-MODIFIED:20230210T002728Z
UID:241217-1681554600-1681581600@goseedoatl.com
SUMMARY:Georgia Renaissance Festival
DESCRIPTION:
URL:https://goseedoatl.com/event/georgia-renaissance-festival-2/
LOCATION:6905 Virlyn B Smith Road Fairburn
ATTACH;FMTTYPE=image/jpeg:https://goseedoatl.com/wp-content/uploads/2023/02/RenFest.jpg
END:VEVENT
END:VCALENDAR