BEGIN:VCALENDAR
VERSION:2.0
PRODID:-// GoSeeDoATL.com  - ECPv6.15.20//NONSGML v1.0//EN
CALSCALE:GREGORIAN
METHOD:PUBLISH
X-WR-CALNAME: GoSeeDoATL.com 
X-ORIGINAL-URL:https://goseedoatl.com
X-WR-CALDESC:Events for  GoSeeDoATL.com 
REFRESH-INTERVAL;VALUE=DURATION:PT1H
X-Robots-Tag:noindex
X-PUBLISHED-TTL:PT1H
BEGIN:VTIMEZONE
TZID:America/Denver
BEGIN:DAYLIGHT
TZOFFSETFROM:-0700
TZOFFSETTO:-0600
TZNAME:MDT
DTSTART:20250309T090000
END:DAYLIGHT
BEGIN:STANDARD
TZOFFSETFROM:-0600
TZOFFSETTO:-0700
TZNAME:MST
DTSTART:20251102T080000
END:STANDARD
BEGIN:DAYLIGHT
TZOFFSETFROM:-0700
TZOFFSETTO:-0600
TZNAME:MDT
DTSTART:20260308T090000
END:DAYLIGHT
BEGIN:STANDARD
TZOFFSETFROM:-0600
TZOFFSETTO:-0700
TZNAME:MST
DTSTART:20261101T080000
END:STANDARD
BEGIN:DAYLIGHT
TZOFFSETFROM:-0700
TZOFFSETTO:-0600
TZNAME:MDT
DTSTART:20270314T090000
END:DAYLIGHT
BEGIN:STANDARD
TZOFFSETFROM:-0600
TZOFFSETTO:-0700
TZNAME:MST
DTSTART:20271107T080000
END:STANDARD
END:VTIMEZONE
BEGIN:VEVENT
DTSTART;TZID=America/Denver:20260801T200000
DTEND;TZID=America/Denver:20260801T220000
DTSTAMP:20260422T084029
CREATED:20250829T193222Z
LAST-MODIFIED:20250829T193222Z
UID:1541380-1785614400-1785621600@goseedoatl.com
SUMMARY:Southside Theatre Guild presents Little Shop of Horrors
DESCRIPTION:A gleefully twisted musical comedy about love\, ambition and the price of feeding your darkest desires.
URL:https://goseedoatl.com/event/southside-theatre-guild-presents-little-shop-of-horrors/2026-08-01/
ATTACH;FMTTYPE=image/jpeg:https://goseedoatl.com/wp-content/uploads/2025/08/Little-Shop.jpg
END:VEVENT
BEGIN:VEVENT
DTSTART;TZID=America/Denver:20260802T143000
DTEND;TZID=America/Denver:20260802T170000
DTSTAMP:20260422T084029
CREATED:20250829T193222Z
LAST-MODIFIED:20250829T193222Z
UID:1541381-1785681000-1785690000@goseedoatl.com
SUMMARY:Southside Theatre Guild presents Little Shop of Horrors
DESCRIPTION:A gleefully twisted musical comedy about love\, ambition and the price of feeding your darkest desires.
URL:https://goseedoatl.com/event/southside-theatre-guild-presents-little-shop-of-horrors/2026-08-02/
ATTACH;FMTTYPE=image/jpeg:https://goseedoatl.com/wp-content/uploads/2025/08/Little-Shop.jpg
END:VEVENT
BEGIN:VEVENT
DTSTART;TZID=America/Denver:20260802T183000
DTEND;TZID=America/Denver:20260802T203000
DTSTAMP:20260422T084029
CREATED:20250829T153215Z
LAST-MODIFIED:20250829T153215Z
UID:1541042-1785695400-1785702600@goseedoatl.com
SUMMARY:Sunday Variety Series at Academy Theatre
DESCRIPTION:Almost every Sunday evening\, Academy Theatre in Hapeville presents different performing artists who take the stage for a night of music\, magic\, improv or other styles of entertainment. Shows start at 6:30pm. Contact the theatre to see who will be performing next.
URL:https://goseedoatl.com/event/sunday-variety-series-at-academy-theatre-3/2026-08-02/
LOCATION:Academy Theatre\, 599 N Central Avenue\, Hapeville\, GA\, 30354\, United States
ATTACH;FMTTYPE=image/png:https://goseedoatl.com/wp-content/uploads/2023/09/Sunday-Series-Academy-Theatre.png
END:VEVENT
BEGIN:VEVENT
DTSTART;TZID=America/Denver:20260808T083000
DTEND;TZID=America/Denver:20260808T120000
DTSTAMP:20260422T084029
CREATED:20260103T223507Z
LAST-MODIFIED:20260103T223507Z
UID:2049584-1786177800-1786190400@goseedoatl.com
SUMMARY:Hapeville Coffee and Chrome Car & Motorcycle Show
DESCRIPTION:Hapeville Coffee and Chrome Car & Motorcycle Show-2nd Saturday of the month April thru September from 8:30am-12:00pm. FREE admission and FREE entry for classic cars\, trucks and motorcycles. Jess Lucas Y-Teen Park-680 S Central Ave. in Hapeville.
URL:https://goseedoatl.com/event/hapeville-coffee-and-chrome-car-motorcycle-show-10/
LOCATION:jess lucas y teen park hapeville
ATTACH;FMTTYPE=image/jpeg:https://goseedoatl.com/wp-content/uploads/2026/01/car-show-6.jpg
END:VEVENT
BEGIN:VEVENT
DTSTART;TZID=America/Denver:20260809T183000
DTEND;TZID=America/Denver:20260809T203000
DTSTAMP:20260422T084029
CREATED:20250829T153215Z
LAST-MODIFIED:20250829T153215Z
UID:1541043-1786300200-1786307400@goseedoatl.com
SUMMARY:Sunday Variety Series at Academy Theatre
DESCRIPTION:Almost every Sunday evening\, Academy Theatre in Hapeville presents different performing artists who take the stage for a night of music\, magic\, improv or other styles of entertainment. Shows start at 6:30pm. Contact the theatre to see who will be performing next.
URL:https://goseedoatl.com/event/sunday-variety-series-at-academy-theatre-3/2026-08-09/
LOCATION:Academy Theatre\, 599 N Central Avenue\, Hapeville\, GA\, 30354\, United States
ATTACH;FMTTYPE=image/png:https://goseedoatl.com/wp-content/uploads/2023/09/Sunday-Series-Academy-Theatre.png
END:VEVENT
BEGIN:VEVENT
DTSTART;TZID=America/Denver:20260815T193000
DTEND;TZID=America/Denver:20260815T210000
DTSTAMP:20260422T084029
CREATED:20260103T182257Z
LAST-MODIFIED:20260103T182257Z
UID:2049514-1786822200-1786827600@goseedoatl.com
SUMMARY:Southside Sidekicks Improv Show
DESCRIPTION:Enjoy the spontaneous world of improv comedy-these quick-thinking performers create scenes\, characters and stories on the fly-guided by audience suggestions and pure imagination.
URL:https://goseedoatl.com/event/southside-sidekicks-improv-show-2/2026-08-15/
LOCATION:Southside Theatre Guild
ATTACH;FMTTYPE=image/jpeg:https://goseedoatl.com/wp-content/uploads/2023/09/Southside-Theatre-Guild-III.jpg
END:VEVENT
BEGIN:VEVENT
DTSTART;TZID=America/Denver:20260816T170000
DTEND;TZID=America/Denver:20260816T190000
DTSTAMP:20260422T084029
CREATED:20260103T212122Z
LAST-MODIFIED:20260103T213226Z
UID:2049544-1786899600-1786906800@goseedoatl.com
SUMMARY:Jazz Matters & Plywood Place Celebrating Jazz Icons
DESCRIPTION:Join us for the third event in the Jazz ICONS Series at Plywood Place 933 Lee Street SW Suite B-1 in Atlanta.
URL:https://goseedoatl.com/event/jazz-matters-plywood-place-celebrating-jazz-icons-2/
LOCATION:Plywood Place\, 933 Lee St SW\, Atlanta\, GA\, 30310\, United States
ATTACH;FMTTYPE=image/jpeg:https://goseedoatl.com/wp-content/uploads/2026/01/Jazz-Matters-events.jpg
END:VEVENT
BEGIN:VEVENT
DTSTART;TZID=America/Denver:20260816T183000
DTEND;TZID=America/Denver:20260816T203000
DTSTAMP:20260422T084029
CREATED:20250829T153215Z
LAST-MODIFIED:20250829T153215Z
UID:1541044-1786905000-1786912200@goseedoatl.com
SUMMARY:Sunday Variety Series at Academy Theatre
DESCRIPTION:Almost every Sunday evening\, Academy Theatre in Hapeville presents different performing artists who take the stage for a night of music\, magic\, improv or other styles of entertainment. Shows start at 6:30pm. Contact the theatre to see who will be performing next.
URL:https://goseedoatl.com/event/sunday-variety-series-at-academy-theatre-3/2026-08-16/
LOCATION:Academy Theatre\, 599 N Central Avenue\, Hapeville\, GA\, 30354\, United States
ATTACH;FMTTYPE=image/png:https://goseedoatl.com/wp-content/uploads/2023/09/Sunday-Series-Academy-Theatre.png
END:VEVENT
BEGIN:VEVENT
DTSTART;TZID=America/Denver:20260823T183000
DTEND;TZID=America/Denver:20260823T203000
DTSTAMP:20260422T084029
CREATED:20250829T153215Z
LAST-MODIFIED:20250829T153215Z
UID:1541045-1787509800-1787517000@goseedoatl.com
SUMMARY:Sunday Variety Series at Academy Theatre
DESCRIPTION:Almost every Sunday evening\, Academy Theatre in Hapeville presents different performing artists who take the stage for a night of music\, magic\, improv or other styles of entertainment. Shows start at 6:30pm. Contact the theatre to see who will be performing next.
URL:https://goseedoatl.com/event/sunday-variety-series-at-academy-theatre-3/2026-08-23/
LOCATION:Academy Theatre\, 599 N Central Avenue\, Hapeville\, GA\, 30354\, United States
ATTACH;FMTTYPE=image/png:https://goseedoatl.com/wp-content/uploads/2023/09/Sunday-Series-Academy-Theatre.png
END:VEVENT
BEGIN:VEVENT
DTSTART;TZID=America/Denver:20260830T183000
DTEND;TZID=America/Denver:20260830T203000
DTSTAMP:20260422T084029
CREATED:20250829T153215Z
LAST-MODIFIED:20250829T153215Z
UID:1549175-1788114600-1788121800@goseedoatl.com
SUMMARY:Sunday Variety Series at Academy Theatre
DESCRIPTION:Almost every Sunday evening\, Academy Theatre in Hapeville presents different performing artists who take the stage for a night of music\, magic\, improv or other styles of entertainment. Shows start at 6:30pm. Contact the theatre to see who will be performing next.
URL:https://goseedoatl.com/event/sunday-variety-series-at-academy-theatre-3/2026-08-30/
LOCATION:Academy Theatre\, 599 N Central Avenue\, Hapeville\, GA\, 30354\, United States
ATTACH;FMTTYPE=image/png:https://goseedoatl.com/wp-content/uploads/2023/09/Sunday-Series-Academy-Theatre.png
END:VEVENT
END:VCALENDAR