BEGIN:VCALENDAR
VERSION:2.0
PRODID:-// GoSeeDoATL.com  - ECPv6.15.20//NONSGML v1.0//EN
CALSCALE:GREGORIAN
METHOD:PUBLISH
X-WR-CALNAME: GoSeeDoATL.com 
X-ORIGINAL-URL:https://goseedoatl.com
X-WR-CALDESC:Events for  GoSeeDoATL.com 
REFRESH-INTERVAL;VALUE=DURATION:PT1H
X-Robots-Tag:noindex
X-PUBLISHED-TTL:PT1H
BEGIN:VTIMEZONE
TZID:America/Denver
BEGIN:DAYLIGHT
TZOFFSETFROM:-0700
TZOFFSETTO:-0600
TZNAME:MDT
DTSTART:20240310T090000
END:DAYLIGHT
BEGIN:STANDARD
TZOFFSETFROM:-0600
TZOFFSETTO:-0700
TZNAME:MST
DTSTART:20241103T080000
END:STANDARD
BEGIN:DAYLIGHT
TZOFFSETFROM:-0700
TZOFFSETTO:-0600
TZNAME:MDT
DTSTART:20250309T090000
END:DAYLIGHT
BEGIN:STANDARD
TZOFFSETFROM:-0600
TZOFFSETTO:-0700
TZNAME:MST
DTSTART:20251102T080000
END:STANDARD
BEGIN:DAYLIGHT
TZOFFSETFROM:-0700
TZOFFSETTO:-0600
TZNAME:MDT
DTSTART:20260308T090000
END:DAYLIGHT
BEGIN:STANDARD
TZOFFSETFROM:-0600
TZOFFSETTO:-0700
TZNAME:MST
DTSTART:20261101T080000
END:STANDARD
END:VTIMEZONE
BEGIN:VEVENT
DTSTART;TZID=America/Denver:20250928T183000
DTEND;TZID=America/Denver:20250928T203000
DTSTAMP:20260423T091027
CREATED:20250829T153215Z
LAST-MODIFIED:20250829T153215Z
UID:1540941-1759084200-1759091400@goseedoatl.com
SUMMARY:Sunday Variety Series at Academy Theatre
DESCRIPTION:Almost every Sunday evening\, Academy Theatre in Hapeville presents different performing artists who take the stage for a night of music\, magic\, improv or other styles of entertainment. Shows start at 6:30pm. Contact the theatre to see who will be performing next.
URL:https://goseedoatl.com/event/sunday-variety-series-at-academy-theatre-3/2025-09-28/
LOCATION:Academy Theatre\, 599 N Central Avenue\, Hapeville\, GA\, 30354\, United States
ATTACH;FMTTYPE=image/png:https://goseedoatl.com/wp-content/uploads/2023/09/Sunday-Series-Academy-Theatre.png
END:VEVENT
BEGIN:VEVENT
DTSTART;TZID=America/Denver:20250928T150000
DTEND;TZID=America/Denver:20250928T170000
DTSTAMP:20260423T091027
CREATED:20250829T154603Z
LAST-MODIFIED:20250829T154603Z
UID:1540955-1759071600-1759078800@goseedoatl.com
SUMMARY:Academy Theatre & Lynna Schmidt Productions present I Ought to Be in Pictures
DESCRIPTION:A comedy by Neil Simon about a strugglung screenwriter in Hollywood who is surprised by the arrival of his estranged young adult daughter from Brooklyn. Featuring Ron Raissle\, Lynna Schmidt and Katie Merriman and directed by Lynna Schmmidt.
URL:https://goseedoatl.com/event/academy-theatre-lynna-schmidt-productions-present-i-ought-to-be-in-pictures/2025-09-28/
LOCATION:Academy Theatre\, 599 N Central Avenue\, Hapeville\, GA\, 30354\, United States
ATTACH;FMTTYPE=image/jpeg:https://goseedoatl.com/wp-content/uploads/2025/08/Academy-Theatre-I-Ought-to-be-in-Pictures-flyer-final.jpg
END:VEVENT
BEGIN:VEVENT
DTSTART;TZID=America/Denver:20250928T140000
DTEND;TZID=America/Denver:20250928T173000
DTSTAMP:20260423T091027
CREATED:20250829T142858Z
LAST-MODIFIED:20250829T201714Z
UID:1540901-1759068000-1759080600@goseedoatl.com
SUMMARY:Legacy Theater presents Tell Me On a Sunday
DESCRIPTION:Tell Me On a Sunday-a young English girl arrives in New York to seek success\, companionship and love. With songs by Andrew Lloyd Webber\, this one-woman\, one-act musical is a delight.
URL:https://goseedoatl.com/event/legacy-theater-presents-tell-me-on-a-sunday/2025-09-28/
LOCATION:The Legacy Theatre\, Tyrone GA
ATTACH;FMTTYPE=image/png:https://goseedoatl.com/wp-content/uploads/2025/08/TM.png
END:VEVENT
BEGIN:VEVENT
DTSTART;TZID=America/Denver:20250927T200000
DTEND;TZID=America/Denver:20250927T220000
DTSTAMP:20260423T091027
CREATED:20250829T154603Z
LAST-MODIFIED:20250829T154603Z
UID:1540954-1759003200-1759010400@goseedoatl.com
SUMMARY:Academy Theatre & Lynna Schmidt Productions present I Ought to Be in Pictures
DESCRIPTION:A comedy by Neil Simon about a strugglung screenwriter in Hollywood who is surprised by the arrival of his estranged young adult daughter from Brooklyn. Featuring Ron Raissle\, Lynna Schmidt and Katie Merriman and directed by Lynna Schmmidt.
URL:https://goseedoatl.com/event/academy-theatre-lynna-schmidt-productions-present-i-ought-to-be-in-pictures/2025-09-27/
LOCATION:Academy Theatre\, 599 N Central Avenue\, Hapeville\, GA\, 30354\, United States
ATTACH;FMTTYPE=image/jpeg:https://goseedoatl.com/wp-content/uploads/2025/08/Academy-Theatre-I-Ought-to-be-in-Pictures-flyer-final.jpg
END:VEVENT
BEGIN:VEVENT
DTSTART;TZID=America/Denver:20250927T190000
DTEND;TZID=America/Denver:20250927T213000
DTSTAMP:20260423T091027
CREATED:20250829T142858Z
LAST-MODIFIED:20250829T201712Z
UID:1540900-1758999600-1759008600@goseedoatl.com
SUMMARY:Legacy Theater presents Tell Me On a Sunday
DESCRIPTION:Tell Me On a Sunday-a young English girl arrives in New York to seek success\, companionship and love. With songs by Andrew Lloyd Webber\, this one-woman\, one-act musical is a delight.
URL:https://goseedoatl.com/event/legacy-theater-presents-tell-me-on-a-sunday/2025-09-27/2/
LOCATION:The Legacy Theatre\, Tyrone GA
ATTACH;FMTTYPE=image/png:https://goseedoatl.com/wp-content/uploads/2025/08/TM.png
END:VEVENT
BEGIN:VEVENT
DTSTART;TZID=America/Denver:20250927T140000
DTEND;TZID=America/Denver:20250927T180000
DTSTAMP:20260423T091027
CREATED:20250607T171927Z
LAST-MODIFIED:20250607T171927Z
UID:1320930-1758981600-1758996000@goseedoatl.com
SUMMARY:The Fairburn Exchange Marketplace For Wellness & Community
DESCRIPTION:FREE event with fun for everyone: Live fitness demonstration\, gardening instruction\, wellness checks\, mobile petting zoo\, food trucks and more. Saturday June 28\, August 30\, September 27 and October 11 from 2-6pm at 320 NW Broad Street in Fairburn.
URL:https://goseedoatl.com/event/the-fairburn-exchange-marketplace-for-wellness-community/2025-09-27/
LOCATION:320 NW Broad Street Fairburn GA 30213
ATTACH;FMTTYPE=image/jpeg:https://goseedoatl.com/wp-content/uploads/2025/06/fairburn_exchange_flyer_-_new_dates.jpg
END:VEVENT
BEGIN:VEVENT
DTSTART;TZID=America/Denver:20250927T140000
DTEND;TZID=America/Denver:20250927T173000
DTSTAMP:20260423T091027
CREATED:20250829T142858Z
LAST-MODIFIED:20250829T201711Z
UID:1540899-1758981600-1758994200@goseedoatl.com
SUMMARY:Legacy Theater presents Tell Me On a Sunday
DESCRIPTION:Tell Me On a Sunday-a young English girl arrives in New York to seek success\, companionship and love. With songs by Andrew Lloyd Webber\, this one-woman\, one-act musical is a delight.
URL:https://goseedoatl.com/event/legacy-theater-presents-tell-me-on-a-sunday/2025-09-27/
LOCATION:The Legacy Theatre\, Tyrone GA
ATTACH;FMTTYPE=image/png:https://goseedoatl.com/wp-content/uploads/2025/08/TM.png
END:VEVENT
BEGIN:VEVENT
DTSTART;TZID=America/Denver:20250927T080000
DTEND;TZID=America/Denver:20250927T160000
DTSTAMP:20260423T091027
CREATED:20250607T160332Z
LAST-MODIFIED:20250607T160332Z
UID:1320679-1758960000-1758988800@goseedoatl.com
SUMMARY:Peachtree City Dragon Boat Race & International Festival
DESCRIPTION:Come for a thrilling day of dragon boat racing and cultural celebration. Fast paced 200m races on the waters of Lake Peachtree\, live entertainment\, food trucks\, artisan vendors and special events. Hosted by the 501c3 non-profit organization\, Peach State Dragon Academy.
URL:https://goseedoatl.com/event/peachtree-city-dragon-boat-race-international-festival/
LOCATION:Drake Field Peachtree City
ATTACH;FMTTYPE=image/jpeg:https://goseedoatl.com/wp-content/uploads/2025/06/PC-Dragon-Boat.jpg
END:VEVENT
BEGIN:VEVENT
DTSTART;TZID=America/Denver:20250926T190000
DTEND;TZID=America/Denver:20250926T213000
DTSTAMP:20260423T091027
CREATED:20250829T142858Z
LAST-MODIFIED:20250829T201710Z
UID:1540896-1758913200-1758922200@goseedoatl.com
SUMMARY:Legacy Theater presents Tell Me On a Sunday
DESCRIPTION:Tell Me On a Sunday-a young English girl arrives in New York to seek success\, companionship and love. With songs by Andrew Lloyd Webber\, this one-woman\, one-act musical is a delight.
URL:https://goseedoatl.com/event/legacy-theater-presents-tell-me-on-a-sunday/2025-09-26/
LOCATION:The Legacy Theatre\, Tyrone GA
ATTACH;FMTTYPE=image/png:https://goseedoatl.com/wp-content/uploads/2025/08/TM.png
END:VEVENT
BEGIN:VEVENT
DTSTART;TZID=America/Denver:20250921T183000
DTEND;TZID=America/Denver:20250921T203000
DTSTAMP:20260423T091027
CREATED:20250829T153215Z
LAST-MODIFIED:20250829T153215Z
UID:1540940-1758479400-1758486600@goseedoatl.com
SUMMARY:Sunday Variety Series at Academy Theatre
DESCRIPTION:Almost every Sunday evening\, Academy Theatre in Hapeville presents different performing artists who take the stage for a night of music\, magic\, improv or other styles of entertainment. Shows start at 6:30pm. Contact the theatre to see who will be performing next.
URL:https://goseedoatl.com/event/sunday-variety-series-at-academy-theatre-3/2025-09-21/
LOCATION:Academy Theatre\, 599 N Central Avenue\, Hapeville\, GA\, 30354\, United States
ATTACH;FMTTYPE=image/png:https://goseedoatl.com/wp-content/uploads/2023/09/Sunday-Series-Academy-Theatre.png
END:VEVENT
BEGIN:VEVENT
DTSTART;TZID=America/Denver:20250921T150000
DTEND;TZID=America/Denver:20250921T170000
DTSTAMP:20260423T091027
CREATED:20250829T154603Z
LAST-MODIFIED:20250829T154603Z
UID:1540953-1758466800-1758474000@goseedoatl.com
SUMMARY:Academy Theatre & Lynna Schmidt Productions present I Ought to Be in Pictures
DESCRIPTION:A comedy by Neil Simon about a strugglung screenwriter in Hollywood who is surprised by the arrival of his estranged young adult daughter from Brooklyn. Featuring Ron Raissle\, Lynna Schmidt and Katie Merriman and directed by Lynna Schmmidt.
URL:https://goseedoatl.com/event/academy-theatre-lynna-schmidt-productions-present-i-ought-to-be-in-pictures/2025-09-21/
LOCATION:Academy Theatre\, 599 N Central Avenue\, Hapeville\, GA\, 30354\, United States
ATTACH;FMTTYPE=image/jpeg:https://goseedoatl.com/wp-content/uploads/2025/08/Academy-Theatre-I-Ought-to-be-in-Pictures-flyer-final.jpg
END:VEVENT
BEGIN:VEVENT
DTSTART;TZID=America/Denver:20250920T200000
DTEND;TZID=America/Denver:20250920T220000
DTSTAMP:20260423T091027
CREATED:20250829T154603Z
LAST-MODIFIED:20250829T154603Z
UID:1540952-1758398400-1758405600@goseedoatl.com
SUMMARY:Academy Theatre & Lynna Schmidt Productions present I Ought to Be in Pictures
DESCRIPTION:A comedy by Neil Simon about a strugglung screenwriter in Hollywood who is surprised by the arrival of his estranged young adult daughter from Brooklyn. Featuring Ron Raissle\, Lynna Schmidt and Katie Merriman and directed by Lynna Schmmidt.
URL:https://goseedoatl.com/event/academy-theatre-lynna-schmidt-productions-present-i-ought-to-be-in-pictures/2025-09-20/
LOCATION:Academy Theatre\, 599 N Central Avenue\, Hapeville\, GA\, 30354\, United States
ATTACH;FMTTYPE=image/jpeg:https://goseedoatl.com/wp-content/uploads/2025/08/Academy-Theatre-I-Ought-to-be-in-Pictures-flyer-final.jpg
END:VEVENT
BEGIN:VEVENT
DTSTART;TZID=America/Denver:20250920T190000
DTEND;TZID=America/Denver:20250920T220000
DTSTAMP:20260423T091027
CREATED:20250421T205514Z
LAST-MODIFIED:20250421T205514Z
UID:1011189-1758394800-1758405600@goseedoatl.com
SUMMARY:Happy Days Weekend in Hapeville
DESCRIPTION:Join us for two nights of free concerts in Jess Lucas Park. Each night will include two musical performances as well as food and artist vendors.
URL:https://goseedoatl.com/event/happy-days-weekend-in-hapeville-2/2025-09-20/
LOCATION:jess lucas y teen park hapeville
ATTACH;FMTTYPE=image/jpeg:https://goseedoatl.com/wp-content/uploads/2025/04/Happy-Days.jpg
END:VEVENT
BEGIN:VEVENT
DTSTART;TZID=America/Denver:20250919T200000
DTEND;TZID=America/Denver:20250919T220000
DTSTAMP:20260423T091027
CREATED:20250829T154603Z
LAST-MODIFIED:20250829T154603Z
UID:1540950-1758312000-1758319200@goseedoatl.com
SUMMARY:Academy Theatre & Lynna Schmidt Productions present I Ought to Be in Pictures
DESCRIPTION:A comedy by Neil Simon about a strugglung screenwriter in Hollywood who is surprised by the arrival of his estranged young adult daughter from Brooklyn. Featuring Ron Raissle\, Lynna Schmidt and Katie Merriman and directed by Lynna Schmmidt.
URL:https://goseedoatl.com/event/academy-theatre-lynna-schmidt-productions-present-i-ought-to-be-in-pictures/2025-09-19/
LOCATION:Academy Theatre\, 599 N Central Avenue\, Hapeville\, GA\, 30354\, United States
ATTACH;FMTTYPE=image/jpeg:https://goseedoatl.com/wp-content/uploads/2025/08/Academy-Theatre-I-Ought-to-be-in-Pictures-flyer-final.jpg
END:VEVENT
BEGIN:VEVENT
DTSTART;TZID=America/Denver:20250919T190000
DTEND;TZID=America/Denver:20250919T220000
DTSTAMP:20260423T091027
CREATED:20250421T205514Z
LAST-MODIFIED:20250421T205514Z
UID:1011174-1758308400-1758319200@goseedoatl.com
SUMMARY:Happy Days Weekend in Hapeville
DESCRIPTION:Join us for two nights of free concerts in Jess Lucas Park. Each night will include two musical performances as well as food and artist vendors.
URL:https://goseedoatl.com/event/happy-days-weekend-in-hapeville-2/2025-09-19/
LOCATION:jess lucas y teen park hapeville
ATTACH;FMTTYPE=image/jpeg:https://goseedoatl.com/wp-content/uploads/2025/04/Happy-Days.jpg
END:VEVENT
BEGIN:VEVENT
DTSTART;TZID=America/Denver:20250914T183000
DTEND;TZID=America/Denver:20250914T203000
DTSTAMP:20260423T091027
CREATED:20250829T153215Z
LAST-MODIFIED:20250829T153439Z
UID:1540938-1757874600-1757881800@goseedoatl.com
SUMMARY:Sunday Variety Series at Academy Theatre
DESCRIPTION:Almost every Sunday evening\, Academy Theatre in Hapeville presents different performing artists who take the stage for a night of music\, magic\, improv or other styles of entertainment. Shows start at 6:30pm. Contact the theatre to see who will be performing next.
URL:https://goseedoatl.com/event/sunday-variety-series-at-academy-theatre-3/2025-09-14/
LOCATION:Academy Theatre\, 599 N Central Avenue\, Hapeville\, GA\, 30354\, United States
ATTACH;FMTTYPE=image/png:https://goseedoatl.com/wp-content/uploads/2023/09/Sunday-Series-Academy-Theatre.png
END:VEVENT
BEGIN:VEVENT
DTSTART;TZID=America/Denver:20250913T083000
DTEND;TZID=America/Denver:20250913T120000
DTSTAMP:20260423T091027
CREATED:20250119T181729Z
LAST-MODIFIED:20250119T181729Z
UID:413434-1757752200-1757764800@goseedoatl.com
SUMMARY:Hapeville Coffee and Chrome Car & Motorcycle Show
DESCRIPTION:Hapeville Coffee and Chrome Car & Motorcycle Show-2nd Saturday of the month April thru September from 8:30am-12:00pm. FREE admission and FREE entry for classic cars\, trucks and motorcycles. Jess Lucas Y-Teen Park-680 S Central Ave.
URL:https://goseedoatl.com/event/hapeville-coffee-and-chrome-car-motorcycle-show-7/
LOCATION:jess lucas y teen park hapeville
ATTACH;FMTTYPE=image/jpeg:https://goseedoatl.com/wp-content/uploads/2025/01/IMG_2154.jpg
END:VEVENT
BEGIN:VEVENT
DTSTART;TZID=America/Denver:20250830T140000
DTEND;TZID=America/Denver:20250830T180000
DTSTAMP:20260423T091027
CREATED:20250607T171927Z
LAST-MODIFIED:20250607T171927Z
UID:1320929-1756562400-1756576800@goseedoatl.com
SUMMARY:The Fairburn Exchange Marketplace For Wellness & Community
DESCRIPTION:FREE event with fun for everyone: Live fitness demonstration\, gardening instruction\, wellness checks\, mobile petting zoo\, food trucks and more. Saturday June 28\, August 30\, September 27 and October 11 from 2-6pm at 320 NW Broad Street in Fairburn.
URL:https://goseedoatl.com/event/the-fairburn-exchange-marketplace-for-wellness-community/2025-08-30/
LOCATION:320 NW Broad Street Fairburn GA 30213
ATTACH;FMTTYPE=image/jpeg:https://goseedoatl.com/wp-content/uploads/2025/06/fairburn_exchange_flyer_-_new_dates.jpg
END:VEVENT
BEGIN:VEVENT
DTSTART;TZID=America/Denver:20250816T190000
DTEND;TZID=America/Denver:20250816T220000
DTSTAMP:20260423T091027
CREATED:20250119T192932Z
LAST-MODIFIED:20250119T192932Z
UID:413691-1755370800-1755381600@goseedoatl.com
SUMMARY:Hapeville Downtown Live Concert Series presents Wings & Strings
DESCRIPTION:FREE\, Family-friendly concert outdoors at Jess Lucas Y-Teen Park on August 16th from 7-10pm.
URL:https://goseedoatl.com/event/hapeville-downtown-live-concert-series-presents-wings-strings/
LOCATION:jess lucas y teen park hapeville
ATTACH;FMTTYPE=image/jpeg:https://goseedoatl.com/wp-content/uploads/2025/01/DSC01090-scaled.jpg
END:VEVENT
BEGIN:VEVENT
DTSTART;TZID=America/Denver:20250809T083000
DTEND;TZID=America/Denver:20250809T120000
DTSTAMP:20260423T091027
CREATED:20250119T181502Z
LAST-MODIFIED:20250119T181502Z
UID:413431-1754728200-1754740800@goseedoatl.com
SUMMARY:Hapeville Coffee and Chrome Car & Motorcycle Show
DESCRIPTION:Hapeville Coffee and Chrome Car & Motorcycle Show-2nd Saturday of the month April thru September from 8:30am-12:00pm. FREE admission and FREE entry for classic cars\, trucks and motorcycles. Jess Lucas Y-Teen Park-680 S Central Ave.
URL:https://goseedoatl.com/event/hapeville-coffee-and-chrome-car-motorcycle-show-6/
LOCATION:jess lucas y teen park hapeville
ATTACH;FMTTYPE=image/jpeg:https://goseedoatl.com/wp-content/uploads/2025/01/IMG_2152.jpg
END:VEVENT
BEGIN:VEVENT
DTSTART;TZID=America/Denver:20250719T190000
DTEND;TZID=America/Denver:20250719T220000
DTSTAMP:20260423T091027
CREATED:20250119T190002Z
LAST-MODIFIED:20250119T190002Z
UID:413588-1752951600-1752962400@goseedoatl.com
SUMMARY:Hapeville Downtown Live Concert Series presents Jazz & Seafood
DESCRIPTION:Join us for an evening packed with smooth tunes and delicious seafood at Jess Lucas Y-Teen Park in Hapeville. Friday July 19th from 7-10pm.
URL:https://goseedoatl.com/event/hapeville-downtown-live-concert-series-presents-jazz-seafood/
LOCATION:jess lucas y teen park hapeville
ATTACH;FMTTYPE=image/jpeg:https://goseedoatl.com/wp-content/uploads/2025/01/Hpeville-downtown-live-II.jpg
END:VEVENT
BEGIN:VEVENT
DTSTART;TZID=America/Denver:20250712T083000
DTEND;TZID=America/Denver:20250712T120000
DTSTAMP:20260423T091027
CREATED:20250119T181213Z
LAST-MODIFIED:20250119T181213Z
UID:413404-1752309000-1752321600@goseedoatl.com
SUMMARY:Hapeville Coffee and Chrome Car & Motorcycle Show
DESCRIPTION:Hapeville Coffee and Chrome Car & Motorcycle Show-2nd Saturday of the month April thru September from 8:30am-12:00pm. FREE admission and FREE entry for classic cars\, trucks and motorcycles. Jess Lucas Y-Teen Park-680 S Central Ave.
URL:https://goseedoatl.com/event/hapeville-coffee-and-chrome-car-motorcycle-show-5/
LOCATION:jess lucas y teen park hapeville
ATTACH;FMTTYPE=image/jpeg:https://goseedoatl.com/wp-content/uploads/2025/01/IMG_2119.jpg
END:VEVENT
BEGIN:VEVENT
DTSTART;TZID=America/Denver:20250628T140000
DTEND;TZID=America/Denver:20250628T180000
DTSTAMP:20260423T091027
CREATED:20250607T171927Z
LAST-MODIFIED:20250607T171927Z
UID:1320912-1751119200-1751133600@goseedoatl.com
SUMMARY:The Fairburn Exchange Marketplace For Wellness & Community
DESCRIPTION:FREE event with fun for everyone: Live fitness demonstration\, gardening instruction\, wellness checks\, mobile petting zoo\, food trucks and more. Saturday June 28\, August 30\, September 27 and October 11 from 2-6pm at 320 NW Broad Street in Fairburn.
URL:https://goseedoatl.com/event/the-fairburn-exchange-marketplace-for-wellness-community/2025-06-28/
LOCATION:320 NW Broad Street Fairburn GA 30213
ATTACH;FMTTYPE=image/jpeg:https://goseedoatl.com/wp-content/uploads/2025/06/fairburn_exchange_flyer_-_new_dates.jpg
END:VEVENT
BEGIN:VEVENT
DTSTART;TZID=America/Denver:20250622T183000
DTEND;TZID=America/Denver:20250622T203000
DTSTAMP:20260423T091027
CREATED:20250607T172919Z
LAST-MODIFIED:20250607T172919Z
UID:1320945-1750617000-1750624200@goseedoatl.com
SUMMARY:Academy Theatre Sunday Variety Series presents Cooper Tisdale
DESCRIPTION:Academy Theatre in Hapeville presents Cooper Tisdale Sunday June 22nd at 6:30pm. Cooper has played from Canada to the coast of Georgia. His jazz/rock guitar show is a soulful and eclectic mix of music. He has opened shows for musicians such as Chet Atkins\, REO Speedwagon\, Spyro Gyra and Down To the Bone. Tickets on sale now.
URL:https://goseedoatl.com/event/academy-theatre-sunday-variety-series-presents-cooper-tisdale/
LOCATION:Academy Theatre\, 599 N Central Avenue\, Hapeville\, GA\, 30354\, United States
ATTACH;FMTTYPE=image/jpeg:https://goseedoatl.com/wp-content/uploads/2025/06/CooperTisdale.jpg
END:VEVENT
BEGIN:VEVENT
DTSTART;TZID=America/Denver:20250620T180000
DTEND;TZID=America/Denver:20250620T220000
DTSTAMP:20260423T091027
CREATED:20250607T165818Z
LAST-MODIFIED:20250607T165818Z
UID:1320853-1750442400-1750456800@goseedoatl.com
SUMMARY:Fairburn's Juneteenth Cultural Celebration & Concert
DESCRIPTION:Come join us on Friday June 20th from 6-10pm at Fairburn Education Campus-320 NW Broad Street- for a night of food\, music\, and fun for everyone . FREE Event hosted by Fairburn Third Friday Events with FREE Parking at Fairburn Education Campus.
URL:https://goseedoatl.com/event/fairburns-juneteenth-cultural-celebration-concert/
LOCATION:320 NW Broad Street Fairburn GA 30213
ATTACH;FMTTYPE=image/jpeg:https://goseedoatl.com/wp-content/uploads/2025/06/Fairburn-Juneteenth.jpg
END:VEVENT
BEGIN:VEVENT
DTSTART;TZID=America/Denver:20250619T130000
DTEND;TZID=America/Denver:20250619T183000
DTSTAMP:20260423T091027
CREATED:20250607T161922Z
LAST-MODIFIED:20250607T161922Z
UID:1320747-1750338000-1750357800@goseedoatl.com
SUMMARY:City of Hapeville Juneteenth Freedom Day Celebration
DESCRIPTION:Join us for a day of culture\, creativity and community at Hapeville’s Inagural Juneteenth Freedom Day Celebration: Thursday\, June 19th from 1-6:30pm. Food trucks\, live music and performances at Jess Lucas Park\, history tour\, history panel discussions\, poetry\, and more at the Hapeville Depot Museum.
URL:https://goseedoatl.com/event/city-of-hapeville-juneteenth-freedom-day-celebration/
LOCATION:Jess Lucas Park Hapeville and Hapeville Depot Museum
ATTACH;FMTTYPE=image/png:https://goseedoatl.com/wp-content/uploads/2025/06/HVL-scaled.png
END:VEVENT
BEGIN:VEVENT
DTSTART;TZID=America/Denver:20250619T100000
DTEND;TZID=America/Denver:20250619T170000
DTSTAMP:20260423T091027
CREATED:20250607T163532Z
LAST-MODIFIED:20250607T163532Z
UID:1320784-1750327200-1750352400@goseedoatl.com
SUMMARY:College Park Juneteenth Parade and Freedom Celebration
DESCRIPTION:Join us Thursday\, June 19th from 10am-12pm for College Park’s Juneteenth Parade and then stay after for Kids’ Korner (12-5pm) and Music on the Lawn (3-5pm) at Tracey Wyatt Recreation Complex.
URL:https://goseedoatl.com/event/college-park-juneteenth-parade-and-freedom-celebration/
LOCATION:College Park GA and Tracey Wyatt Recreation Complex
ATTACH;FMTTYPE=image/jpeg:https://goseedoatl.com/wp-content/uploads/2025/06/CP-Juneteenth25-Flyer-FINAL.jpg
END:VEVENT
BEGIN:VEVENT
DTSTART;TZID=America/Denver:20250615T150000
DTEND;TZID=America/Denver:20250615T173000
DTSTAMP:20260423T091027
CREATED:20250421T204045Z
LAST-MODIFIED:20250421T204045Z
UID:1011116-1749999600-1750008600@goseedoatl.com
SUMMARY:Midsummer: A Staged Reading with Music presented with Aris Theatre
DESCRIPTION:Academy Theatre and Aris Theatre present Midsummer: A Staged Reading by David Grier & Gordon McIntyre. It’s midsummer and it’s raining. Bob & Helena\, a pair of mismatched strangers\, find each other in a night of reckless abandon. A joyful story of love\, uncertainty and stupid decisions. Contact Academy Theatre for more information.
URL:https://goseedoatl.com/event/midsummer-a-staged-reading-with-music-presented-with-aris-theatre/
LOCATION:Academy Theatre\, 599 N Central Avenue\, Hapeville\, GA\, 30354\, United States
ATTACH;FMTTYPE=image/png:https://goseedoatl.com/wp-content/uploads/2025/04/Midsummer.png
END:VEVENT
BEGIN:VEVENT
DTSTART;TZID=America/Denver:20250614T180000
DTEND;TZID=America/Denver:20250614T220000
DTSTAMP:20260423T091027
CREATED:20250607T164358Z
LAST-MODIFIED:20250607T164358Z
UID:1320831-1749924000-1749938400@goseedoatl.com
SUMMARY:Union City's Juneteenth & Community Health Day
DESCRIPTION:Celebrate culture\, freedom and wellness at Union City’s Juneteenth & Community Health Day. Enjoy live music\, food trucks\, giveaways and a Luther Vandross Tribute performance by Danny Clay. Bring your family\, friends and lawn chairs to Eagles Nest Sports Complex.
URL:https://goseedoatl.com/event/union-citys-juneteenth-community-health-day/
LOCATION:Eagles Nest Sports Complex  6245 Roosevelt Highway Union City GA
ATTACH;FMTTYPE=image/jpeg:https://goseedoatl.com/wp-content/uploads/2025/06/UC-Juneteenth-2025.jpg
END:VEVENT
BEGIN:VEVENT
DTSTART;TZID=America/Denver:20250614T180000
DTEND;TZID=America/Denver:20250614T220000
DTSTAMP:20260423T091027
CREATED:20250607T162831Z
LAST-MODIFIED:20250607T162831Z
UID:1320765-1749924000-1749938400@goseedoatl.com
SUMMARY:City of South Fulton 2025 Juneteenth Celebration
DESCRIPTION:The City of South Fulton will host its annual Juneteenth Celebration Saturday\, June 14th from 6-10pm at Wolf Creek Amphitheater. FREE community event featuring live performances across a variety of music genres\, dance and spoken word. Food trucks\, bounce houses\, face painting and interactive exhibits.
URL:https://goseedoatl.com/event/city-of-south-fulton-2025-juneteenth-celebration/
LOCATION:Wolf Creek Amphitheater
ATTACH;FMTTYPE=image/png:https://goseedoatl.com/wp-content/uploads/2025/06/CSF-Juneteenth-2025.png
END:VEVENT
END:VCALENDAR