BEGIN:VCALENDAR
VERSION:2.0
PRODID:-// GoSeeDoATL.com  - ECPv6.15.20//NONSGML v1.0//EN
CALSCALE:GREGORIAN
METHOD:PUBLISH
X-WR-CALNAME: GoSeeDoATL.com 
X-ORIGINAL-URL:https://goseedoatl.com
X-WR-CALDESC:Events for  GoSeeDoATL.com 
REFRESH-INTERVAL;VALUE=DURATION:PT1H
X-Robots-Tag:noindex
X-PUBLISHED-TTL:PT1H
BEGIN:VTIMEZONE
TZID:America/Denver
BEGIN:DAYLIGHT
TZOFFSETFROM:-0700
TZOFFSETTO:-0600
TZNAME:MDT
DTSTART:20240310T090000
END:DAYLIGHT
BEGIN:STANDARD
TZOFFSETFROM:-0600
TZOFFSETTO:-0700
TZNAME:MST
DTSTART:20241103T080000
END:STANDARD
BEGIN:DAYLIGHT
TZOFFSETFROM:-0700
TZOFFSETTO:-0600
TZNAME:MDT
DTSTART:20250309T090000
END:DAYLIGHT
BEGIN:STANDARD
TZOFFSETFROM:-0600
TZOFFSETTO:-0700
TZNAME:MST
DTSTART:20251102T080000
END:STANDARD
BEGIN:DAYLIGHT
TZOFFSETFROM:-0700
TZOFFSETTO:-0600
TZNAME:MDT
DTSTART:20260308T090000
END:DAYLIGHT
BEGIN:STANDARD
TZOFFSETFROM:-0600
TZOFFSETTO:-0700
TZNAME:MST
DTSTART:20261101T080000
END:STANDARD
END:VTIMEZONE
BEGIN:VEVENT
DTSTART;TZID=America/Denver:20251128T190000
DTEND;TZID=America/Denver:20251128T213000
DTSTAMP:20260422T235850
CREATED:20250829T201415Z
LAST-MODIFIED:20250829T201415Z
UID:1541547-1764356400-1764365400@goseedoatl.com
SUMMARY:Legacy Theatre presents Irving Berlin's White Christmas
DESCRIPTION:A musical for audiences of all ages. Two World War II vets have a successful song and dance act. They follow a duo of beautiful singing sisters to a Vermont lodge\, which just happens to be owned by their former Army commander where they put on a holiday entertainment show while falling in love with the sisters.
URL:https://goseedoatl.com/event/legacy-theatre-presents-irving-berlins-white-christmas/2025-11-28/
LOCATION:The Legacy Theatre\, Tyrone GA
ATTACH;FMTTYPE=image/png:https://goseedoatl.com/wp-content/uploads/2025/08/Screenshot-2025-08-29-at-16-12-06-Irving-Berlins-White-Christmas-Legacy-Theater.png
END:VEVENT
BEGIN:VEVENT
DTSTART;TZID=America/Denver:20251123T183000
DTEND;TZID=America/Denver:20251123T203000
DTSTAMP:20260422T235850
CREATED:20250829T153215Z
LAST-MODIFIED:20250829T153215Z
UID:1540949-1763922600-1763929800@goseedoatl.com
SUMMARY:Sunday Variety Series at Academy Theatre
DESCRIPTION:Almost every Sunday evening\, Academy Theatre in Hapeville presents different performing artists who take the stage for a night of music\, magic\, improv or other styles of entertainment. Shows start at 6:30pm. Contact the theatre to see who will be performing next.
URL:https://goseedoatl.com/event/sunday-variety-series-at-academy-theatre-3/2025-11-23/
LOCATION:Academy Theatre\, 599 N Central Avenue\, Hapeville\, GA\, 30354\, United States
ATTACH;FMTTYPE=image/png:https://goseedoatl.com/wp-content/uploads/2023/09/Sunday-Series-Academy-Theatre.png
END:VEVENT
BEGIN:VEVENT
DTSTART;TZID=America/Denver:20251123T140000
DTEND;TZID=America/Denver:20251123T170000
DTSTAMP:20260422T235850
CREATED:20250829T201415Z
LAST-MODIFIED:20250829T201415Z
UID:1541546-1763906400-1763917200@goseedoatl.com
SUMMARY:Legacy Theatre presents Irving Berlin's White Christmas
DESCRIPTION:A musical for audiences of all ages. Two World War II vets have a successful song and dance act. They follow a duo of beautiful singing sisters to a Vermont lodge\, which just happens to be owned by their former Army commander where they put on a holiday entertainment show while falling in love with the sisters.
URL:https://goseedoatl.com/event/legacy-theatre-presents-irving-berlins-white-christmas/2025-11-23/
LOCATION:The Legacy Theatre\, Tyrone GA
ATTACH;FMTTYPE=image/png:https://goseedoatl.com/wp-content/uploads/2025/08/Screenshot-2025-08-29-at-16-12-06-Irving-Berlins-White-Christmas-Legacy-Theater.png
END:VEVENT
BEGIN:VEVENT
DTSTART;TZID=America/Denver:20251122T190000
DTEND;TZID=America/Denver:20251122T213000
DTSTAMP:20260422T235850
CREATED:20250829T201415Z
LAST-MODIFIED:20250829T201415Z
UID:1541545-1763838000-1763847000@goseedoatl.com
SUMMARY:Legacy Theatre presents Irving Berlin's White Christmas
DESCRIPTION:A musical for audiences of all ages. Two World War II vets have a successful song and dance act. They follow a duo of beautiful singing sisters to a Vermont lodge\, which just happens to be owned by their former Army commander where they put on a holiday entertainment show while falling in love with the sisters.
URL:https://goseedoatl.com/event/legacy-theatre-presents-irving-berlins-white-christmas/2025-11-22/3/
LOCATION:The Legacy Theatre\, Tyrone GA
ATTACH;FMTTYPE=image/png:https://goseedoatl.com/wp-content/uploads/2025/08/Screenshot-2025-08-29-at-16-12-06-Irving-Berlins-White-Christmas-Legacy-Theater.png
END:VEVENT
BEGIN:VEVENT
DTSTART;TZID=America/Denver:20251122T140000
DTEND;TZID=America/Denver:20251122T170000
DTSTAMP:20260422T235850
CREATED:20250829T201415Z
LAST-MODIFIED:20250829T201415Z
UID:1541544-1763820000-1763830800@goseedoatl.com
SUMMARY:Legacy Theatre presents Irving Berlin's White Christmas
DESCRIPTION:A musical for audiences of all ages. Two World War II vets have a successful song and dance act. They follow a duo of beautiful singing sisters to a Vermont lodge\, which just happens to be owned by their former Army commander where they put on a holiday entertainment show while falling in love with the sisters.
URL:https://goseedoatl.com/event/legacy-theatre-presents-irving-berlins-white-christmas/2025-11-22/
LOCATION:The Legacy Theatre\, Tyrone GA
ATTACH;FMTTYPE=image/png:https://goseedoatl.com/wp-content/uploads/2025/08/Screenshot-2025-08-29-at-16-12-06-Irving-Berlins-White-Christmas-Legacy-Theater.png
END:VEVENT
BEGIN:VEVENT
DTSTART;TZID=America/Denver:20251121T190000
DTEND;TZID=America/Denver:20251121T213000
DTSTAMP:20260422T235850
CREATED:20250829T201415Z
LAST-MODIFIED:20250829T201415Z
UID:1541543-1763751600-1763760600@goseedoatl.com
SUMMARY:Legacy Theatre presents Irving Berlin's White Christmas
DESCRIPTION:A musical for audiences of all ages. Two World War II vets have a successful song and dance act. They follow a duo of beautiful singing sisters to a Vermont lodge\, which just happens to be owned by their former Army commander where they put on a holiday entertainment show while falling in love with the sisters.
URL:https://goseedoatl.com/event/legacy-theatre-presents-irving-berlins-white-christmas/2025-11-21/
LOCATION:The Legacy Theatre\, Tyrone GA
ATTACH;FMTTYPE=image/png:https://goseedoatl.com/wp-content/uploads/2025/08/Screenshot-2025-08-29-at-16-12-06-Irving-Berlins-White-Christmas-Legacy-Theater.png
END:VEVENT
BEGIN:VEVENT
DTSTART;TZID=America/Denver:20251116T183000
DTEND;TZID=America/Denver:20251116T203000
DTSTAMP:20260422T235850
CREATED:20250829T153215Z
LAST-MODIFIED:20250829T153215Z
UID:1540948-1763317800-1763325000@goseedoatl.com
SUMMARY:Sunday Variety Series at Academy Theatre
DESCRIPTION:Almost every Sunday evening\, Academy Theatre in Hapeville presents different performing artists who take the stage for a night of music\, magic\, improv or other styles of entertainment. Shows start at 6:30pm. Contact the theatre to see who will be performing next.
URL:https://goseedoatl.com/event/sunday-variety-series-at-academy-theatre-3/2025-11-16/
LOCATION:Academy Theatre\, 599 N Central Avenue\, Hapeville\, GA\, 30354\, United States
ATTACH;FMTTYPE=image/png:https://goseedoatl.com/wp-content/uploads/2023/09/Sunday-Series-Academy-Theatre.png
END:VEVENT
BEGIN:VEVENT
DTSTART;TZID=America/Denver:20251116T140000
DTEND;TZID=America/Denver:20251116T170000
DTSTAMP:20260422T235850
CREATED:20250829T201415Z
LAST-MODIFIED:20250829T201415Z
UID:1541542-1763301600-1763312400@goseedoatl.com
SUMMARY:Legacy Theatre presents Irving Berlin's White Christmas
DESCRIPTION:A musical for audiences of all ages. Two World War II vets have a successful song and dance act. They follow a duo of beautiful singing sisters to a Vermont lodge\, which just happens to be owned by their former Army commander where they put on a holiday entertainment show while falling in love with the sisters.
URL:https://goseedoatl.com/event/legacy-theatre-presents-irving-berlins-white-christmas/2025-11-16/
LOCATION:The Legacy Theatre\, Tyrone GA
ATTACH;FMTTYPE=image/png:https://goseedoatl.com/wp-content/uploads/2025/08/Screenshot-2025-08-29-at-16-12-06-Irving-Berlins-White-Christmas-Legacy-Theater.png
END:VEVENT
BEGIN:VEVENT
DTSTART;TZID=America/Denver:20251115T193000
DTEND;TZID=America/Denver:20251115T220000
DTSTAMP:20260422T235850
CREATED:20250829T185937Z
LAST-MODIFIED:20250829T185937Z
UID:1541237-1763235000-1763244000@goseedoatl.com
SUMMARY:Branford Marsalis Quartet at Spivey Hall
DESCRIPTION:Appearing at Spivey Hall in Morrow on Saturday November 15th at 7:30pm-The Branford Marsalis Quartet. Contact Spivey Hall for more information.
URL:https://goseedoatl.com/event/branford-marsalis-quartet-at-spivey-hall/
LOCATION:spivey hall
ATTACH;FMTTYPE=image/jpeg:https://goseedoatl.com/wp-content/uploads/2025/08/Spivey-Hall.jpg
END:VEVENT
BEGIN:VEVENT
DTSTART;TZID=America/Denver:20251115T190000
DTEND;TZID=America/Denver:20251115T213000
DTSTAMP:20260422T235850
CREATED:20250829T201415Z
LAST-MODIFIED:20250829T201415Z
UID:1541541-1763233200-1763242200@goseedoatl.com
SUMMARY:Legacy Theatre presents Irving Berlin's White Christmas
DESCRIPTION:A musical for audiences of all ages. Two World War II vets have a successful song and dance act. They follow a duo of beautiful singing sisters to a Vermont lodge\, which just happens to be owned by their former Army commander where they put on a holiday entertainment show while falling in love with the sisters.
URL:https://goseedoatl.com/event/legacy-theatre-presents-irving-berlins-white-christmas/2025-11-15/2/
LOCATION:The Legacy Theatre\, Tyrone GA
ATTACH;FMTTYPE=image/png:https://goseedoatl.com/wp-content/uploads/2025/08/Screenshot-2025-08-29-at-16-12-06-Irving-Berlins-White-Christmas-Legacy-Theater.png
END:VEVENT
BEGIN:VEVENT
DTSTART;TZID=America/Denver:20251115T140000
DTEND;TZID=America/Denver:20251115T170000
DTSTAMP:20260422T235850
CREATED:20250829T201415Z
LAST-MODIFIED:20250829T201415Z
UID:1541540-1763215200-1763226000@goseedoatl.com
SUMMARY:Legacy Theatre presents Irving Berlin's White Christmas
DESCRIPTION:A musical for audiences of all ages. Two World War II vets have a successful song and dance act. They follow a duo of beautiful singing sisters to a Vermont lodge\, which just happens to be owned by their former Army commander where they put on a holiday entertainment show while falling in love with the sisters.
URL:https://goseedoatl.com/event/legacy-theatre-presents-irving-berlins-white-christmas/2025-11-15/
LOCATION:The Legacy Theatre\, Tyrone GA
ATTACH;FMTTYPE=image/png:https://goseedoatl.com/wp-content/uploads/2025/08/Screenshot-2025-08-29-at-16-12-06-Irving-Berlins-White-Christmas-Legacy-Theater.png
END:VEVENT
BEGIN:VEVENT
DTSTART;TZID=America/Denver:20251114T190000
DTEND;TZID=America/Denver:20251114T213000
DTSTAMP:20260422T235850
CREATED:20250829T201415Z
LAST-MODIFIED:20250829T201415Z
UID:1541483-1763146800-1763155800@goseedoatl.com
SUMMARY:Legacy Theatre presents Irving Berlin's White Christmas
DESCRIPTION:A musical for audiences of all ages. Two World War II vets have a successful song and dance act. They follow a duo of beautiful singing sisters to a Vermont lodge\, which just happens to be owned by their former Army commander where they put on a holiday entertainment show while falling in love with the sisters.
URL:https://goseedoatl.com/event/legacy-theatre-presents-irving-berlins-white-christmas/2025-11-14/
LOCATION:The Legacy Theatre\, Tyrone GA
ATTACH;FMTTYPE=image/png:https://goseedoatl.com/wp-content/uploads/2025/08/Screenshot-2025-08-29-at-16-12-06-Irving-Berlins-White-Christmas-Legacy-Theater.png
END:VEVENT
BEGIN:VEVENT
DTSTART;TZID=America/Denver:20251109T183000
DTEND;TZID=America/Denver:20251109T203000
DTSTAMP:20260422T235850
CREATED:20250829T153215Z
LAST-MODIFIED:20250829T153215Z
UID:1540947-1762713000-1762720200@goseedoatl.com
SUMMARY:Sunday Variety Series at Academy Theatre
DESCRIPTION:Almost every Sunday evening\, Academy Theatre in Hapeville presents different performing artists who take the stage for a night of music\, magic\, improv or other styles of entertainment. Shows start at 6:30pm. Contact the theatre to see who will be performing next.
URL:https://goseedoatl.com/event/sunday-variety-series-at-academy-theatre-3/2025-11-09/
LOCATION:Academy Theatre\, 599 N Central Avenue\, Hapeville\, GA\, 30354\, United States
ATTACH;FMTTYPE=image/png:https://goseedoatl.com/wp-content/uploads/2023/09/Sunday-Series-Academy-Theatre.png
END:VEVENT
BEGIN:VEVENT
DTSTART;TZID=America/Denver:20251106T110000
DTEND;TZID=America/Denver:20251106T220000
DTSTAMP:20260422T235850
CREATED:20250829T184625Z
LAST-MODIFIED:20250829T184735Z
UID:1541233-1762426800-1762466400@goseedoatl.com
SUMMARY:Global South Film Festival
DESCRIPTION:An annual gathering celebrating the voices and visions of filmmakers from Africa\, the Caribbean\, Latin America and the American South. Screenings\, workshops\, performances and civic engagement activities to spark dialogue across generations and borders.
URL:https://goseedoatl.com/event/global-south-film-festival/2025-11-06/
LOCATION:Southwest Arts Center
ATTACH;FMTTYPE=image/png:https://goseedoatl.com/wp-content/uploads/2025/08/Document.png
END:VEVENT
BEGIN:VEVENT
DTSTART;TZID=America/Denver:20251105T110000
DTEND;TZID=America/Denver:20251105T220000
DTSTAMP:20260422T235850
CREATED:20250829T184625Z
LAST-MODIFIED:20250829T184735Z
UID:1541150-1762340400-1762380000@goseedoatl.com
SUMMARY:Global South Film Festival
DESCRIPTION:An annual gathering celebrating the voices and visions of filmmakers from Africa\, the Caribbean\, Latin America and the American South. Screenings\, workshops\, performances and civic engagement activities to spark dialogue across generations and borders.
URL:https://goseedoatl.com/event/global-south-film-festival/2025-11-05/
LOCATION:Southwest Arts Center
ATTACH;FMTTYPE=image/png:https://goseedoatl.com/wp-content/uploads/2025/08/Document.png
END:VEVENT
BEGIN:VEVENT
DTSTART;TZID=America/Denver:20251102T183000
DTEND;TZID=America/Denver:20251102T203000
DTSTAMP:20260422T235850
CREATED:20250829T155751Z
LAST-MODIFIED:20250829T155751Z
UID:1540962-1762108200-1762115400@goseedoatl.com
SUMMARY:An Introduction to Latin Rhythms with Chris Burroughs & Frankie Quinones
DESCRIPTION:Sunday November 2\, 6:30-8:30pm at the Academy Theatre in Hapeville. An evening of musical delight as Chris and Frankie introduce you to different Latin Rhythm musical styles.
URL:https://goseedoatl.com/event/an-introduction-to-latin-rhythms-with-chris-burroughs-frankie-quinones/
LOCATION:Academy Theatre\, 599 N Central Avenue\, Hapeville\, GA\, 30354\, United States
ATTACH;FMTTYPE=image/jpeg:https://goseedoatl.com/wp-content/uploads/2025/08/burroughsaugust10latin.jpg
END:VEVENT
BEGIN:VEVENT
DTSTART;TZID=America/Denver:20251102T183000
DTEND;TZID=America/Denver:20251102T203000
DTSTAMP:20260422T235850
CREATED:20250829T153215Z
LAST-MODIFIED:20250829T153215Z
UID:1540946-1762108200-1762115400@goseedoatl.com
SUMMARY:Sunday Variety Series at Academy Theatre
DESCRIPTION:Almost every Sunday evening\, Academy Theatre in Hapeville presents different performing artists who take the stage for a night of music\, magic\, improv or other styles of entertainment. Shows start at 6:30pm. Contact the theatre to see who will be performing next.
URL:https://goseedoatl.com/event/sunday-variety-series-at-academy-theatre-3/2025-11-02/
LOCATION:Academy Theatre\, 599 N Central Avenue\, Hapeville\, GA\, 30354\, United States
ATTACH;FMTTYPE=image/png:https://goseedoatl.com/wp-content/uploads/2023/09/Sunday-Series-Academy-Theatre.png
END:VEVENT
BEGIN:VEVENT
DTSTART;TZID=America/Denver:20251026T183000
DTEND;TZID=America/Denver:20251026T203000
DTSTAMP:20260422T235850
CREATED:20250829T153215Z
LAST-MODIFIED:20250829T153215Z
UID:1540945-1761503400-1761510600@goseedoatl.com
SUMMARY:Sunday Variety Series at Academy Theatre
DESCRIPTION:Almost every Sunday evening\, Academy Theatre in Hapeville presents different performing artists who take the stage for a night of music\, magic\, improv or other styles of entertainment. Shows start at 6:30pm. Contact the theatre to see who will be performing next.
URL:https://goseedoatl.com/event/sunday-variety-series-at-academy-theatre-3/2025-10-26/
LOCATION:Academy Theatre\, 599 N Central Avenue\, Hapeville\, GA\, 30354\, United States
ATTACH;FMTTYPE=image/png:https://goseedoatl.com/wp-content/uploads/2023/09/Sunday-Series-Academy-Theatre.png
END:VEVENT
BEGIN:VEVENT
DTSTART;TZID=America/Denver:20251025T170000
DTEND;TZID=America/Denver:20251025T210000
DTSTAMP:20260422T235850
CREATED:20250421T210240Z
LAST-MODIFIED:20250421T210240Z
UID:1011191-1761411600-1761426000@goseedoatl.com
SUMMARY:Hapeville's 7th Annual Dia de Muertos Celebration
DESCRIPTION:Celebrate the Day of the Dead with us in Hapeville. Enjoy live music\, delicious food\, traditional crafts and family-friendly activities. Jess Lucas Park-680 S Central Avenue in Hapeville October 25th from 5-9pm.
URL:https://goseedoatl.com/event/hapevilles-7th-annual-dia-de-muertos-celebration/
LOCATION:jess lucas y teen park hapeville
ATTACH;FMTTYPE=image/jpeg:https://goseedoatl.com/wp-content/uploads/2025/04/Dia-2024-scaled.jpg
END:VEVENT
BEGIN:VEVENT
DTSTART;TZID=America/Denver:20251019T183000
DTEND;TZID=America/Denver:20251019T203000
DTSTAMP:20260422T235850
CREATED:20250829T153215Z
LAST-MODIFIED:20250829T153215Z
UID:1540944-1760898600-1760905800@goseedoatl.com
SUMMARY:Sunday Variety Series at Academy Theatre
DESCRIPTION:Almost every Sunday evening\, Academy Theatre in Hapeville presents different performing artists who take the stage for a night of music\, magic\, improv or other styles of entertainment. Shows start at 6:30pm. Contact the theatre to see who will be performing next.
URL:https://goseedoatl.com/event/sunday-variety-series-at-academy-theatre-3/2025-10-19/
LOCATION:Academy Theatre\, 599 N Central Avenue\, Hapeville\, GA\, 30354\, United States
ATTACH;FMTTYPE=image/png:https://goseedoatl.com/wp-content/uploads/2023/09/Sunday-Series-Academy-Theatre.png
END:VEVENT
BEGIN:VEVENT
DTSTART;TZID=America/Denver:20251019T143000
DTEND;TZID=America/Denver:20251019T163000
DTSTAMP:20260422T235850
CREATED:20250829T145228Z
LAST-MODIFIED:20250829T145228Z
UID:1540925-1760884200-1760891400@goseedoatl.com
SUMMARY:Southside Theatre Guild Presents M*A*S*H
DESCRIPTION:Based on the bestselling novel that inspired the film and TV series\, MASH follows the antics of the irreverent surgeons and nurses of the 4077th Mobile Army Surgical Hospital during the Korean War. Contact theater for more information.
URL:https://goseedoatl.com/event/southside-theatre-guild-presents-mash/2025-10-19/
LOCATION:Southside Theatre Guild
ATTACH;FMTTYPE=image/jpeg:https://goseedoatl.com/wp-content/uploads/2025/08/stg-MASH.jpg
END:VEVENT
BEGIN:VEVENT
DTSTART;TZID=America/Denver:20251018T200000
DTEND;TZID=America/Denver:20251018T223000
DTSTAMP:20260422T235850
CREATED:20250829T145228Z
LAST-MODIFIED:20250829T145228Z
UID:1540924-1760817600-1760826600@goseedoatl.com
SUMMARY:Southside Theatre Guild Presents M*A*S*H
DESCRIPTION:Based on the bestselling novel that inspired the film and TV series\, MASH follows the antics of the irreverent surgeons and nurses of the 4077th Mobile Army Surgical Hospital during the Korean War. Contact theater for more information.
URL:https://goseedoatl.com/event/southside-theatre-guild-presents-mash/2025-10-18/
LOCATION:Southside Theatre Guild
ATTACH;FMTTYPE=image/jpeg:https://goseedoatl.com/wp-content/uploads/2025/08/stg-MASH.jpg
END:VEVENT
BEGIN:VEVENT
DTSTART;TZID=America/Denver:20251018T160000
DTEND;TZID=America/Denver:20251018T190000
DTSTAMP:20260422T235850
CREATED:20250421T204910Z
LAST-MODIFIED:20250421T204910Z
UID:1011136-1760803200-1760814000@goseedoatl.com
SUMMARY:Hapeville Chili Cook-Off
DESCRIPTION:Spice up your weekend and savor the flavors of the best chili in town while enjoying live music. October 18th from 4-7pm. Proceeds support Family Life Ministries.
URL:https://goseedoatl.com/event/hapeville-chili-cook-off/
LOCATION:Arts Alley Hapeville
ATTACH;FMTTYPE=image/jpeg:https://goseedoatl.com/wp-content/uploads/2025/04/Chili-Cook-Off-scaled.jpg
END:VEVENT
BEGIN:VEVENT
DTSTART;TZID=America/Denver:20251017T200000
DTEND;TZID=America/Denver:20251017T223000
DTSTAMP:20260422T235850
CREATED:20250829T145228Z
LAST-MODIFIED:20250829T145228Z
UID:1540923-1760731200-1760740200@goseedoatl.com
SUMMARY:Southside Theatre Guild Presents M*A*S*H
DESCRIPTION:Based on the bestselling novel that inspired the film and TV series\, MASH follows the antics of the irreverent surgeons and nurses of the 4077th Mobile Army Surgical Hospital during the Korean War. Contact theater for more information.
URL:https://goseedoatl.com/event/southside-theatre-guild-presents-mash/2025-10-17/
LOCATION:Southside Theatre Guild
ATTACH;FMTTYPE=image/jpeg:https://goseedoatl.com/wp-content/uploads/2025/08/stg-MASH.jpg
END:VEVENT
BEGIN:VEVENT
DTSTART;TZID=America/Denver:20251016T200000
DTEND;TZID=America/Denver:20251016T223000
DTSTAMP:20260422T235850
CREATED:20250829T145228Z
LAST-MODIFIED:20250829T145228Z
UID:1540922-1760644800-1760653800@goseedoatl.com
SUMMARY:Southside Theatre Guild Presents M*A*S*H
DESCRIPTION:Based on the bestselling novel that inspired the film and TV series\, MASH follows the antics of the irreverent surgeons and nurses of the 4077th Mobile Army Surgical Hospital during the Korean War. Contact theater for more information.
URL:https://goseedoatl.com/event/southside-theatre-guild-presents-mash/2025-10-16/
LOCATION:Southside Theatre Guild
ATTACH;FMTTYPE=image/jpeg:https://goseedoatl.com/wp-content/uploads/2025/08/stg-MASH.jpg
END:VEVENT
BEGIN:VEVENT
DTSTART;TZID=America/Denver:20251012T183000
DTEND;TZID=America/Denver:20251012T203000
DTSTAMP:20260422T235850
CREATED:20250829T153215Z
LAST-MODIFIED:20250829T153215Z
UID:1540943-1760293800-1760301000@goseedoatl.com
SUMMARY:Sunday Variety Series at Academy Theatre
DESCRIPTION:Almost every Sunday evening\, Academy Theatre in Hapeville presents different performing artists who take the stage for a night of music\, magic\, improv or other styles of entertainment. Shows start at 6:30pm. Contact the theatre to see who will be performing next.
URL:https://goseedoatl.com/event/sunday-variety-series-at-academy-theatre-3/2025-10-12/
LOCATION:Academy Theatre\, 599 N Central Avenue\, Hapeville\, GA\, 30354\, United States
ATTACH;FMTTYPE=image/png:https://goseedoatl.com/wp-content/uploads/2023/09/Sunday-Series-Academy-Theatre.png
END:VEVENT
BEGIN:VEVENT
DTSTART;TZID=America/Denver:20251012T140000
DTEND;TZID=America/Denver:20251012T163000
DTSTAMP:20260422T235850
CREATED:20250829T145228Z
LAST-MODIFIED:20250829T145228Z
UID:1540921-1760277600-1760286600@goseedoatl.com
SUMMARY:Southside Theatre Guild Presents M*A*S*H
DESCRIPTION:Based on the bestselling novel that inspired the film and TV series\, MASH follows the antics of the irreverent surgeons and nurses of the 4077th Mobile Army Surgical Hospital during the Korean War. Contact theater for more information.
URL:https://goseedoatl.com/event/southside-theatre-guild-presents-mash/2025-10-12/
LOCATION:Southside Theatre Guild
ATTACH;FMTTYPE=image/jpeg:https://goseedoatl.com/wp-content/uploads/2025/08/stg-MASH.jpg
END:VEVENT
BEGIN:VEVENT
DTSTART;TZID=America/Denver:20251012T090000
DTEND;TZID=America/Denver:20251012T160000
DTSTAMP:20260422T235850
CREATED:20250829T151922Z
LAST-MODIFIED:20250829T151922Z
UID:1540936-1760259600-1760284800@goseedoatl.com
SUMMARY:Atlanta Air Show 2025
DESCRIPTION:October 11-12 at Atlanta Regional Airport in Peachtree City\, GA. Gates open at 9am-featuring the US Air Force Thunderbirds\, REMAX Parachute Team\, attack helicopter demo and other aerial acts.
URL:https://goseedoatl.com/event/atlanta-air-show-2025/2025-10-12/
LOCATION:Atlanta Regional Airport Peachtree City GA
ATTACH;FMTTYPE=image/png:https://goseedoatl.com/wp-content/uploads/2025/08/AST25-Standard-Logo-768x266-1.png
END:VEVENT
BEGIN:VEVENT
DTSTART;TZID=America/Denver:20251011T143000
DTEND;TZID=America/Denver:20251011T163000
DTSTAMP:20260422T235850
CREATED:20250829T145228Z
LAST-MODIFIED:20250829T145228Z
UID:1540920-1760193000-1760200200@goseedoatl.com
SUMMARY:Southside Theatre Guild Presents M*A*S*H
DESCRIPTION:Based on the bestselling novel that inspired the film and TV series\, MASH follows the antics of the irreverent surgeons and nurses of the 4077th Mobile Army Surgical Hospital during the Korean War. Contact theater for more information.
URL:https://goseedoatl.com/event/southside-theatre-guild-presents-mash/2025-10-11/
LOCATION:Southside Theatre Guild
ATTACH;FMTTYPE=image/jpeg:https://goseedoatl.com/wp-content/uploads/2025/08/stg-MASH.jpg
END:VEVENT
BEGIN:VEVENT
DTSTART;TZID=America/Denver:20251011T140000
DTEND;TZID=America/Denver:20251011T180000
DTSTAMP:20260422T235850
CREATED:20250607T171927Z
LAST-MODIFIED:20250607T171927Z
UID:1320931-1760191200-1760205600@goseedoatl.com
SUMMARY:The Fairburn Exchange Marketplace For Wellness & Community
DESCRIPTION:FREE event with fun for everyone: Live fitness demonstration\, gardening instruction\, wellness checks\, mobile petting zoo\, food trucks and more. Saturday June 28\, August 30\, September 27 and October 11 from 2-6pm at 320 NW Broad Street in Fairburn.
URL:https://goseedoatl.com/event/the-fairburn-exchange-marketplace-for-wellness-community/2025-10-11/
LOCATION:320 NW Broad Street Fairburn GA 30213
ATTACH;FMTTYPE=image/jpeg:https://goseedoatl.com/wp-content/uploads/2025/06/fairburn_exchange_flyer_-_new_dates.jpg
END:VEVENT
END:VCALENDAR