BEGIN:VCALENDAR
VERSION:2.0
PRODID:-// GoSeeDoATL.com  - ECPv6.15.20//NONSGML v1.0//EN
CALSCALE:GREGORIAN
METHOD:PUBLISH
X-WR-CALNAME: GoSeeDoATL.com 
X-ORIGINAL-URL:https://goseedoatl.com
X-WR-CALDESC:Events for  GoSeeDoATL.com 
REFRESH-INTERVAL;VALUE=DURATION:PT1H
X-Robots-Tag:noindex
X-PUBLISHED-TTL:PT1H
BEGIN:VTIMEZONE
TZID:America/Denver
BEGIN:DAYLIGHT
TZOFFSETFROM:-0700
TZOFFSETTO:-0600
TZNAME:MDT
DTSTART:20230312T090000
END:DAYLIGHT
BEGIN:STANDARD
TZOFFSETFROM:-0600
TZOFFSETTO:-0700
TZNAME:MST
DTSTART:20231105T080000
END:STANDARD
BEGIN:DAYLIGHT
TZOFFSETFROM:-0700
TZOFFSETTO:-0600
TZNAME:MDT
DTSTART:20240310T090000
END:DAYLIGHT
BEGIN:STANDARD
TZOFFSETFROM:-0600
TZOFFSETTO:-0700
TZNAME:MST
DTSTART:20241103T080000
END:STANDARD
BEGIN:DAYLIGHT
TZOFFSETFROM:-0700
TZOFFSETTO:-0600
TZNAME:MDT
DTSTART:20250309T090000
END:DAYLIGHT
BEGIN:STANDARD
TZOFFSETFROM:-0600
TZOFFSETTO:-0700
TZNAME:MST
DTSTART:20251102T080000
END:STANDARD
END:VTIMEZONE
BEGIN:VEVENT
DTSTART;TZID=America/Denver:20241102T090000
DTEND;TZID=America/Denver:20241102T130000
DTSTAMP:20260424T194512
CREATED:20240817T154630Z
LAST-MODIFIED:20240817T154630Z
UID:245291-1730538000-1730552400@goseedoatl.com
SUMMARY:Peachtree City Farmers Market
DESCRIPTION:Every Wednesday and Saturday from 9am-1pm at Aberdeen Village Shopping Center at 215 Northlake Drive
URL:https://goseedoatl.com/event/peachtree-city-farmers-market/2024-11-02/
LOCATION:215 Northlake Drive  Peachtree City
ATTACH;FMTTYPE=image/jpeg:https://goseedoatl.com/wp-content/uploads/2023/02/Small-PC-Market.jpg
END:VEVENT
BEGIN:VEVENT
DTSTART;TZID=America/Denver:20241030T160000
DTEND;TZID=America/Denver:20241030T190000
DTSTAMP:20260424T194512
CREATED:20240817T161003Z
LAST-MODIFIED:20240817T161003Z
UID:245352-1730304000-1730314800@goseedoatl.com
SUMMARY:East Point Farmers Market
DESCRIPTION:Every Wednesday from 4-7pm through December 11\, 2024. Downtown Commons-2714 East Point Street.
URL:https://goseedoatl.com/event/east-point-farmers-market/2024-10-30/
LOCATION:Downtown Commons 2714 East Point Street
ATTACH;FMTTYPE=image/jpeg:https://goseedoatl.com/wp-content/uploads/2022/01/5.jpg
END:VEVENT
BEGIN:VEVENT
DTSTART;TZID=America/Denver:20241030T090000
DTEND;TZID=America/Denver:20241030T130000
DTSTAMP:20260424T194512
CREATED:20240817T155140Z
LAST-MODIFIED:20240817T155140Z
UID:245318-1730278800-1730293200@goseedoatl.com
SUMMARY:Peachtree City Farmers Market
DESCRIPTION:Every Wednesday and Saturday from 9am-1pm at Aberdeen Village Shopping Center at 215 Northlake Drive
URL:https://goseedoatl.com/event/peachtree-city-farmers-market-2/2024-10-30/
LOCATION:215 Northlake Drive  Peachtree City
ATTACH;FMTTYPE=image/jpeg:https://goseedoatl.com/wp-content/uploads/2023/02/Small-PC-Market.jpg
END:VEVENT
BEGIN:VEVENT
DTSTART;TZID=America/Denver:20241027T183000
DTEND;TZID=America/Denver:20241027T210000
DTSTAMP:20260424T194512
CREATED:20240215T200902Z
LAST-MODIFIED:20240215T200902Z
UID:245002-1730053800-1730062800@goseedoatl.com
SUMMARY:Sunday Variety Series at Academy Theatre
DESCRIPTION:Every Sunday at Academy Theatre-Sunday Variety Series featuring a different act each week. Music\, dance\, improv\, magic and more. 599 N Central Avenue in Hapeville. Shows start at 6:30pm.
URL:https://goseedoatl.com/event/sunday-variety-series-at-academy-theatre-2/2024-10-27/
LOCATION:Academy Theatre\, 599 N Central Avenue\, Hapeville\, GA\, 30354\, United States
ATTACH;FMTTYPE=image/png:https://goseedoatl.com/wp-content/uploads/2023/09/Sunday-Series-Academy-Theatre.png
END:VEVENT
BEGIN:VEVENT
DTSTART;TZID=America/Denver:20241027T150000
DTEND;TZID=America/Denver:20241027T170000
DTSTAMP:20260424T194512
CREATED:20240528T192534Z
LAST-MODIFIED:20240528T192534Z
UID:244980-1730041200-1730048400@goseedoatl.com
SUMMARY:Clue\, The Musical
DESCRIPTION:Based on the classic board game by Parker Brothers\, this musical will keep you guessing! Book by Peter DePietro\, music by Galen Blum\, Wayne Barker and Vinnie Martucci\, lyrics by Tom Chiodo and directed by Lynna Schmidt. October 25-November 10 at Academy Theatre-599 N Central Avenue in Hapeville.
URL:https://goseedoatl.com/event/clue-the-musical/2024-10-27/
LOCATION:Academy Theatre\, 599 N Central Avenue\, Hapeville\, GA\, 30354\, United States
ATTACH;FMTTYPE=image/jpeg:https://goseedoatl.com/wp-content/uploads/2024/05/Clue-the-musical.jpg
END:VEVENT
BEGIN:VEVENT
DTSTART;TZID=America/Denver:20241027T090000
DTEND;TZID=America/Denver:20241027T160000
DTSTAMP:20260424T194512
CREATED:20240809T162615Z
LAST-MODIFIED:20240809T162615Z
UID:245182-1730019600-1730044800@goseedoatl.com
SUMMARY:Atlanta Air Show Falcon Field
DESCRIPTION:The 2024 Atlanta Air Show at Atlanta Regional Airport in Peachtree City. The Air Dot Show Tour returns to Atlanta October 26-27 with US Air Force Thunderbirds\, USAF F-35A Lightning II Demo Team and more…
URL:https://goseedoatl.com/event/atlanta-air-show-falcon-field/2024-10-27/
LOCATION:Atlanta Regional Airport Peachtree City GA
ATTACH;FMTTYPE=image/png:https://goseedoatl.com/wp-content/uploads/2024/08/PC-Site-Header-Logo-Dates-Loc-800x250-copy.png
END:VEVENT
BEGIN:VEVENT
DTSTART;TZID=America/Denver:20241026T200000
DTEND;TZID=America/Denver:20241026T220000
DTSTAMP:20260424T194512
CREATED:20240528T192534Z
LAST-MODIFIED:20240528T192534Z
UID:244979-1729972800-1729980000@goseedoatl.com
SUMMARY:Clue\, The Musical
DESCRIPTION:Based on the classic board game by Parker Brothers\, this musical will keep you guessing! Book by Peter DePietro\, music by Galen Blum\, Wayne Barker and Vinnie Martucci\, lyrics by Tom Chiodo and directed by Lynna Schmidt. October 25-November 10 at Academy Theatre-599 N Central Avenue in Hapeville.
URL:https://goseedoatl.com/event/clue-the-musical/2024-10-26/
LOCATION:Academy Theatre\, 599 N Central Avenue\, Hapeville\, GA\, 30354\, United States
ATTACH;FMTTYPE=image/jpeg:https://goseedoatl.com/wp-content/uploads/2024/05/Clue-the-musical.jpg
END:VEVENT
BEGIN:VEVENT
DTSTART;TZID=America/Denver:20241026T170000
DTEND;TZID=America/Denver:20241026T210000
DTSTAMP:20260424T194512
CREATED:20240809T164919Z
LAST-MODIFIED:20240809T165250Z
UID:245187-1729962000-1729976400@goseedoatl.com
SUMMARY:Hapeville Dia de Los Muertos Celebration
DESCRIPTION:Saturday October 26 from 5-9 pm at Jess Lucas Y Teen Park in Hapeville.
URL:https://goseedoatl.com/event/hapeville-dia-de-los-muertos-celebration/
LOCATION:jess lucas y teen park hapeville
ATTACH;FMTTYPE=image/jpeg:https://goseedoatl.com/wp-content/uploads/2023/06/New-Hapeville-logo.jpg
END:VEVENT
BEGIN:VEVENT
DTSTART;TZID=America/Denver:20241026T090000
DTEND;TZID=America/Denver:20241026T160000
DTSTAMP:20260424T194512
CREATED:20240809T162615Z
LAST-MODIFIED:20240809T162615Z
UID:245179-1729933200-1729958400@goseedoatl.com
SUMMARY:Atlanta Air Show Falcon Field
DESCRIPTION:The 2024 Atlanta Air Show at Atlanta Regional Airport in Peachtree City. The Air Dot Show Tour returns to Atlanta October 26-27 with US Air Force Thunderbirds\, USAF F-35A Lightning II Demo Team and more…
URL:https://goseedoatl.com/event/atlanta-air-show-falcon-field/2024-10-26/
LOCATION:Atlanta Regional Airport Peachtree City GA
ATTACH;FMTTYPE=image/png:https://goseedoatl.com/wp-content/uploads/2024/08/PC-Site-Header-Logo-Dates-Loc-800x250-copy.png
END:VEVENT
BEGIN:VEVENT
DTSTART;TZID=America/Denver:20241026T090000
DTEND;TZID=America/Denver:20241026T130000
DTSTAMP:20260424T194512
CREATED:20240817T160038Z
LAST-MODIFIED:20240817T160038Z
UID:245339-1729933200-1729947600@goseedoatl.com
SUMMARY:Serenbe Farmers Market
DESCRIPTION:Saturdays from 9am-1pm in Grange-10640 Serenbe Lane. Parking available along Serenbe Lane in Grange. Schedule a tour of the farms (3-4pm).
URL:https://goseedoatl.com/event/serenbe-farmers-market-6/2024-10-26/
LOCATION:Grange 10640 Serenbe Lane
ATTACH;FMTTYPE=image/png:https://goseedoatl.com/wp-content/uploads/2024/08/serenbe_farms_vector.png
END:VEVENT
BEGIN:VEVENT
DTSTART;TZID=America/Denver:20241026T090000
DTEND;TZID=America/Denver:20241026T130000
DTSTAMP:20260424T194512
CREATED:20240817T154630Z
LAST-MODIFIED:20240817T154630Z
UID:245289-1729933200-1729947600@goseedoatl.com
SUMMARY:Peachtree City Farmers Market
DESCRIPTION:Every Wednesday and Saturday from 9am-1pm at Aberdeen Village Shopping Center at 215 Northlake Drive
URL:https://goseedoatl.com/event/peachtree-city-farmers-market/2024-10-26/
LOCATION:215 Northlake Drive  Peachtree City
ATTACH;FMTTYPE=image/jpeg:https://goseedoatl.com/wp-content/uploads/2023/02/Small-PC-Market.jpg
END:VEVENT
BEGIN:VEVENT
DTSTART;TZID=America/Denver:20241025T200000
DTEND;TZID=America/Denver:20241025T220000
DTSTAMP:20260424T194512
CREATED:20240528T192534Z
LAST-MODIFIED:20240528T192534Z
UID:244977-1729886400-1729893600@goseedoatl.com
SUMMARY:Clue\, The Musical
DESCRIPTION:Based on the classic board game by Parker Brothers\, this musical will keep you guessing! Book by Peter DePietro\, music by Galen Blum\, Wayne Barker and Vinnie Martucci\, lyrics by Tom Chiodo and directed by Lynna Schmidt. October 25-November 10 at Academy Theatre-599 N Central Avenue in Hapeville.
URL:https://goseedoatl.com/event/clue-the-musical/2024-10-25/
LOCATION:Academy Theatre\, 599 N Central Avenue\, Hapeville\, GA\, 30354\, United States
ATTACH;FMTTYPE=image/jpeg:https://goseedoatl.com/wp-content/uploads/2024/05/Clue-the-musical.jpg
END:VEVENT
BEGIN:VEVENT
DTSTART;TZID=America/Denver:20241023T180000
DTEND;TZID=America/Denver:20241023T203000
DTSTAMP:20260424T194512
CREATED:20240809T182738Z
LAST-MODIFIED:20240809T184234Z
UID:245247-1729706400-1729715400@goseedoatl.com
SUMMARY:Southern Circuit of Independent Filmmakers present the movie "Lift"
DESCRIPTION:Join us at Historic Christ Church & Carriage House in Hapeville on October 23 for the showing of the movie “Lift”. Event starts at 6pm.
URL:https://goseedoatl.com/event/southern-circuit-of-independent-filmmakers-present-the-movie-lift/
LOCATION:historic christ church & carriage house hapeville
ATTACH;FMTTYPE=image/jpeg:https://goseedoatl.com/wp-content/uploads/2023/02/Southern-Circuit-Program-of-South-Arts-Black@3x_1.jpg
END:VEVENT
BEGIN:VEVENT
DTSTART;TZID=America/Denver:20241023T160000
DTEND;TZID=America/Denver:20241023T190000
DTSTAMP:20260424T194512
CREATED:20240817T161003Z
LAST-MODIFIED:20240817T161003Z
UID:245351-1729699200-1729710000@goseedoatl.com
SUMMARY:East Point Farmers Market
DESCRIPTION:Every Wednesday from 4-7pm through December 11\, 2024. Downtown Commons-2714 East Point Street.
URL:https://goseedoatl.com/event/east-point-farmers-market/2024-10-23/
LOCATION:Downtown Commons 2714 East Point Street
ATTACH;FMTTYPE=image/jpeg:https://goseedoatl.com/wp-content/uploads/2022/01/5.jpg
END:VEVENT
BEGIN:VEVENT
DTSTART;TZID=America/Denver:20241023T090000
DTEND;TZID=America/Denver:20241023T130000
DTSTAMP:20260424T194512
CREATED:20240817T155140Z
LAST-MODIFIED:20240817T155140Z
UID:245317-1729674000-1729688400@goseedoatl.com
SUMMARY:Peachtree City Farmers Market
DESCRIPTION:Every Wednesday and Saturday from 9am-1pm at Aberdeen Village Shopping Center at 215 Northlake Drive
URL:https://goseedoatl.com/event/peachtree-city-farmers-market-2/2024-10-23/
LOCATION:215 Northlake Drive  Peachtree City
ATTACH;FMTTYPE=image/jpeg:https://goseedoatl.com/wp-content/uploads/2023/02/Small-PC-Market.jpg
END:VEVENT
BEGIN:VEVENT
DTSTART;TZID=America/Denver:20241021T100000
DTEND;TZID=America/Denver:20241021T170000
DTSTAMP:20260424T194512
CREATED:20240809T170012Z
LAST-MODIFIED:20240809T170012Z
UID:245192-1729504800-1729530000@goseedoatl.com
SUMMARY:Magnolia Arts Festival Peachtree City GA
DESCRIPTION:Magnolia Arts Festival Oct. 19-21 on Drake Field in Peachtree City: 155 Willowbend Road. A celebration of the arts\, family-friendly and Admission is FREE.
URL:https://goseedoatl.com/event/magnolia-arts-festival-peachtree-city-ga/2024-10-21/
ATTACH;FMTTYPE=image/webp:https://goseedoatl.com/wp-content/uploads/2024/08/Magnolia-1.webp
END:VEVENT
BEGIN:VEVENT
DTSTART;TZID=America/Denver:20241020T183000
DTEND;TZID=America/Denver:20241020T210000
DTSTAMP:20260424T194512
CREATED:20240215T200902Z
LAST-MODIFIED:20240215T200902Z
UID:245001-1729449000-1729458000@goseedoatl.com
SUMMARY:Sunday Variety Series at Academy Theatre
DESCRIPTION:Every Sunday at Academy Theatre-Sunday Variety Series featuring a different act each week. Music\, dance\, improv\, magic and more. 599 N Central Avenue in Hapeville. Shows start at 6:30pm.
URL:https://goseedoatl.com/event/sunday-variety-series-at-academy-theatre-2/2024-10-20/
LOCATION:Academy Theatre\, 599 N Central Avenue\, Hapeville\, GA\, 30354\, United States
ATTACH;FMTTYPE=image/png:https://goseedoatl.com/wp-content/uploads/2023/09/Sunday-Series-Academy-Theatre.png
END:VEVENT
BEGIN:VEVENT
DTSTART;TZID=America/Denver:20241020T100000
DTEND;TZID=America/Denver:20241020T170000
DTSTAMP:20260424T194512
CREATED:20240809T170012Z
LAST-MODIFIED:20240809T170012Z
UID:245191-1729418400-1729443600@goseedoatl.com
SUMMARY:Magnolia Arts Festival Peachtree City GA
DESCRIPTION:Magnolia Arts Festival Oct. 19-21 on Drake Field in Peachtree City: 155 Willowbend Road. A celebration of the arts\, family-friendly and Admission is FREE.
URL:https://goseedoatl.com/event/magnolia-arts-festival-peachtree-city-ga/2024-10-20/
ATTACH;FMTTYPE=image/webp:https://goseedoatl.com/wp-content/uploads/2024/08/Magnolia-1.webp
END:VEVENT
BEGIN:VEVENT
DTSTART;TZID=America/Denver:20241019T170000
DTEND;TZID=America/Denver:20241019T200000
DTSTAMP:20260424T194512
CREATED:20240809T161216Z
LAST-MODIFIED:20240809T161216Z
UID:245175-1729357200-1729368000@goseedoatl.com
SUMMARY:Hapeville Downtown Live Series and Chili Cook-Off
DESCRIPTION:FREE event featuring performances by Kate and Corey Music with opener Tyson Halford. Chili Cook-Off organized by Family Life Ministries which will support their work to help those in need.
URL:https://goseedoatl.com/event/hapeville-downtown-live-series-and-chili-cook-off/
LOCATION:jess lucas y teen park hapeville
ATTACH;FMTTYPE=image/jpeg:https://goseedoatl.com/wp-content/uploads/2024/08/Downtown-Live.jpg
END:VEVENT
BEGIN:VEVENT
DTSTART;TZID=America/Denver:20241019T150000
DTEND;TZID=America/Denver:20241019T190000
DTSTAMP:20260424T194512
CREATED:20240528T185349Z
LAST-MODIFIED:20240528T185349Z
UID:244949-1729350000-1729364400@goseedoatl.com
SUMMARY:Taste of SoFu in Palmetto
DESCRIPTION:The City of Palmetto presents The Taste of SoFu with music\, artwork\, food trucks and more. Bring your lawn chairs-Saturday October 19 from 3-7pm at Veterans Park-511-599 Park Street in Palmetto\, GA.
URL:https://goseedoatl.com/event/taste-of-sofu-in-palmetto/
LOCATION:Veterans Park Palmetto GA
ATTACH;FMTTYPE=image/jpeg:https://goseedoatl.com/wp-content/uploads/2024/05/taste-of-sofu-24.jpg
END:VEVENT
BEGIN:VEVENT
DTSTART;TZID=America/Denver:20241019T100000
DTEND;TZID=America/Denver:20241019T170000
DTSTAMP:20260424T194512
CREATED:20240809T170012Z
LAST-MODIFIED:20240809T170012Z
UID:245189-1729332000-1729357200@goseedoatl.com
SUMMARY:Magnolia Arts Festival Peachtree City GA
DESCRIPTION:Magnolia Arts Festival Oct. 19-21 on Drake Field in Peachtree City: 155 Willowbend Road. A celebration of the arts\, family-friendly and Admission is FREE.
URL:https://goseedoatl.com/event/magnolia-arts-festival-peachtree-city-ga/2024-10-19/
ATTACH;FMTTYPE=image/webp:https://goseedoatl.com/wp-content/uploads/2024/08/Magnolia-1.webp
END:VEVENT
BEGIN:VEVENT
DTSTART;TZID=America/Denver:20241019T090000
DTEND;TZID=America/Denver:20241019T130000
DTSTAMP:20260424T194512
CREATED:20240817T160038Z
LAST-MODIFIED:20240817T160038Z
UID:245338-1729328400-1729342800@goseedoatl.com
SUMMARY:Serenbe Farmers Market
DESCRIPTION:Saturdays from 9am-1pm in Grange-10640 Serenbe Lane. Parking available along Serenbe Lane in Grange. Schedule a tour of the farms (3-4pm).
URL:https://goseedoatl.com/event/serenbe-farmers-market-6/2024-10-19/
LOCATION:Grange 10640 Serenbe Lane
ATTACH;FMTTYPE=image/png:https://goseedoatl.com/wp-content/uploads/2024/08/serenbe_farms_vector.png
END:VEVENT
BEGIN:VEVENT
DTSTART;TZID=America/Denver:20241019T090000
DTEND;TZID=America/Denver:20241019T130000
DTSTAMP:20260424T194512
CREATED:20240817T154630Z
LAST-MODIFIED:20240817T154630Z
UID:245288-1729328400-1729342800@goseedoatl.com
SUMMARY:Peachtree City Farmers Market
DESCRIPTION:Every Wednesday and Saturday from 9am-1pm at Aberdeen Village Shopping Center at 215 Northlake Drive
URL:https://goseedoatl.com/event/peachtree-city-farmers-market/2024-10-19/
LOCATION:215 Northlake Drive  Peachtree City
ATTACH;FMTTYPE=image/jpeg:https://goseedoatl.com/wp-content/uploads/2023/02/Small-PC-Market.jpg
END:VEVENT
BEGIN:VEVENT
DTSTART;TZID=America/Denver:20241016T160000
DTEND;TZID=America/Denver:20241016T190000
DTSTAMP:20260424T194512
CREATED:20240817T161003Z
LAST-MODIFIED:20240817T161003Z
UID:245350-1729094400-1729105200@goseedoatl.com
SUMMARY:East Point Farmers Market
DESCRIPTION:Every Wednesday from 4-7pm through December 11\, 2024. Downtown Commons-2714 East Point Street.
URL:https://goseedoatl.com/event/east-point-farmers-market/2024-10-16/
LOCATION:Downtown Commons 2714 East Point Street
ATTACH;FMTTYPE=image/jpeg:https://goseedoatl.com/wp-content/uploads/2022/01/5.jpg
END:VEVENT
BEGIN:VEVENT
DTSTART;TZID=America/Denver:20241016T090000
DTEND;TZID=America/Denver:20241016T130000
DTSTAMP:20260424T194512
CREATED:20240817T155140Z
LAST-MODIFIED:20240817T155140Z
UID:245316-1729069200-1729083600@goseedoatl.com
SUMMARY:Peachtree City Farmers Market
DESCRIPTION:Every Wednesday and Saturday from 9am-1pm at Aberdeen Village Shopping Center at 215 Northlake Drive
URL:https://goseedoatl.com/event/peachtree-city-farmers-market-2/2024-10-16/
LOCATION:215 Northlake Drive  Peachtree City
ATTACH;FMTTYPE=image/jpeg:https://goseedoatl.com/wp-content/uploads/2023/02/Small-PC-Market.jpg
END:VEVENT
BEGIN:VEVENT
DTSTART;TZID=America/Denver:20241013T183000
DTEND;TZID=America/Denver:20241013T210000
DTSTAMP:20260424T194512
CREATED:20240215T200902Z
LAST-MODIFIED:20240215T200902Z
UID:245000-1728844200-1728853200@goseedoatl.com
SUMMARY:Sunday Variety Series at Academy Theatre
DESCRIPTION:Every Sunday at Academy Theatre-Sunday Variety Series featuring a different act each week. Music\, dance\, improv\, magic and more. 599 N Central Avenue in Hapeville. Shows start at 6:30pm.
URL:https://goseedoatl.com/event/sunday-variety-series-at-academy-theatre-2/2024-10-13/
LOCATION:Academy Theatre\, 599 N Central Avenue\, Hapeville\, GA\, 30354\, United States
ATTACH;FMTTYPE=image/png:https://goseedoatl.com/wp-content/uploads/2023/09/Sunday-Series-Academy-Theatre.png
END:VEVENT
BEGIN:VEVENT
DTSTART;TZID=America/Denver:20241012T110000
DTEND;TZID=America/Denver:20241012T150000
DTSTAMP:20260424T194512
CREATED:20240723T223515Z
LAST-MODIFIED:20240723T223515Z
UID:245144-1728730800-1728745200@goseedoatl.com
SUMMARY:Red Oak District Farmers Market
DESCRIPTION:Every 2nd and 4th Saturday through October 12\, 2024. 11am-3pm at New Life AME Zion Church.
URL:https://goseedoatl.com/event/red-oak-district-farmers-market/2024-10-12/
LOCATION:New Life AME Zion Church
ATTACH;FMTTYPE=image/jpeg:https://goseedoatl.com/wp-content/uploads/2024/07/Red-Oak-Farmers-Market-1-scaled.jpg
END:VEVENT
BEGIN:VEVENT
DTSTART;TZID=America/Denver:20241012T090000
DTEND;TZID=America/Denver:20241012T130000
DTSTAMP:20260424T194512
CREATED:20240817T160038Z
LAST-MODIFIED:20240817T160038Z
UID:245337-1728723600-1728738000@goseedoatl.com
SUMMARY:Serenbe Farmers Market
DESCRIPTION:Saturdays from 9am-1pm in Grange-10640 Serenbe Lane. Parking available along Serenbe Lane in Grange. Schedule a tour of the farms (3-4pm).
URL:https://goseedoatl.com/event/serenbe-farmers-market-6/2024-10-12/
LOCATION:Grange 10640 Serenbe Lane
ATTACH;FMTTYPE=image/png:https://goseedoatl.com/wp-content/uploads/2024/08/serenbe_farms_vector.png
END:VEVENT
BEGIN:VEVENT
DTSTART;TZID=America/Denver:20241012T090000
DTEND;TZID=America/Denver:20241012T130000
DTSTAMP:20260424T194512
CREATED:20240817T154630Z
LAST-MODIFIED:20240817T154630Z
UID:245287-1728723600-1728738000@goseedoatl.com
SUMMARY:Peachtree City Farmers Market
DESCRIPTION:Every Wednesday and Saturday from 9am-1pm at Aberdeen Village Shopping Center at 215 Northlake Drive
URL:https://goseedoatl.com/event/peachtree-city-farmers-market/2024-10-12/
LOCATION:215 Northlake Drive  Peachtree City
ATTACH;FMTTYPE=image/jpeg:https://goseedoatl.com/wp-content/uploads/2023/02/Small-PC-Market.jpg
END:VEVENT
BEGIN:VEVENT
DTSTART;TZID=America/Denver:20241011T180000
DTEND;TZID=America/Denver:20241011T200000
DTSTAMP:20260424T194512
CREATED:20240821T171625Z
LAST-MODIFIED:20240821T171625Z
UID:245366-1728669600-1728676800@goseedoatl.com
SUMMARY:Hapeville Depot Museum presents "Whiskey on the Rails" exhibit and lecture
DESCRIPTION:Join us at Hapeville Depot Museum from 6-8pm on Friday October 11 for a FREE exhibit and lecture on “Whiskey on the Rails-Hapeville and Southern Prohibition”. RSVP at www.hapevilledepot.org \n 
URL:https://goseedoatl.com/event/hapeville-depot-museum-presents-whiskey-on-the-rails-exhibit-and-lecture/
LOCATION:hapeville depot museum
ATTACH;FMTTYPE=image/jpeg:https://goseedoatl.com/wp-content/uploads/2024/08/Whiskey-On-the-Rails.jpg
END:VEVENT
END:VCALENDAR