BEGIN:VCALENDAR
VERSION:2.0
PRODID:-// GoSeeDoATL.com  - ECPv6.15.20//NONSGML v1.0//EN
CALSCALE:GREGORIAN
METHOD:PUBLISH
X-WR-CALNAME: GoSeeDoATL.com 
X-ORIGINAL-URL:https://goseedoatl.com
X-WR-CALDESC:Events for  GoSeeDoATL.com 
REFRESH-INTERVAL;VALUE=DURATION:PT1H
X-Robots-Tag:noindex
X-PUBLISHED-TTL:PT1H
BEGIN:VTIMEZONE
TZID:America/Denver
BEGIN:DAYLIGHT
TZOFFSETFROM:-0700
TZOFFSETTO:-0600
TZNAME:MDT
DTSTART:20230312T090000
END:DAYLIGHT
BEGIN:STANDARD
TZOFFSETFROM:-0600
TZOFFSETTO:-0700
TZNAME:MST
DTSTART:20231105T080000
END:STANDARD
BEGIN:DAYLIGHT
TZOFFSETFROM:-0700
TZOFFSETTO:-0600
TZNAME:MDT
DTSTART:20240310T090000
END:DAYLIGHT
BEGIN:STANDARD
TZOFFSETFROM:-0600
TZOFFSETTO:-0700
TZNAME:MST
DTSTART:20241103T080000
END:STANDARD
BEGIN:DAYLIGHT
TZOFFSETFROM:-0700
TZOFFSETTO:-0600
TZNAME:MDT
DTSTART:20250309T090000
END:DAYLIGHT
BEGIN:STANDARD
TZOFFSETFROM:-0600
TZOFFSETTO:-0700
TZNAME:MST
DTSTART:20251102T080000
END:STANDARD
END:VTIMEZONE
BEGIN:VEVENT
DTSTART;TZID=America/Denver:20241009T160000
DTEND;TZID=America/Denver:20241009T190000
DTSTAMP:20260424T212414
CREATED:20240817T161003Z
LAST-MODIFIED:20240817T161003Z
UID:245349-1728489600-1728500400@goseedoatl.com
SUMMARY:East Point Farmers Market
DESCRIPTION:Every Wednesday from 4-7pm through December 11\, 2024. Downtown Commons-2714 East Point Street.
URL:https://goseedoatl.com/event/east-point-farmers-market/2024-10-09/
LOCATION:Downtown Commons 2714 East Point Street
ATTACH;FMTTYPE=image/jpeg:https://goseedoatl.com/wp-content/uploads/2022/01/5.jpg
END:VEVENT
BEGIN:VEVENT
DTSTART;TZID=America/Denver:20241009T090000
DTEND;TZID=America/Denver:20241009T130000
DTSTAMP:20260424T212414
CREATED:20240817T155140Z
LAST-MODIFIED:20240817T155140Z
UID:245315-1728464400-1728478800@goseedoatl.com
SUMMARY:Peachtree City Farmers Market
DESCRIPTION:Every Wednesday and Saturday from 9am-1pm at Aberdeen Village Shopping Center at 215 Northlake Drive
URL:https://goseedoatl.com/event/peachtree-city-farmers-market-2/2024-10-09/
LOCATION:215 Northlake Drive  Peachtree City
ATTACH;FMTTYPE=image/jpeg:https://goseedoatl.com/wp-content/uploads/2023/02/Small-PC-Market.jpg
END:VEVENT
BEGIN:VEVENT
DTSTART;TZID=America/Denver:20241006T183000
DTEND;TZID=America/Denver:20241006T210000
DTSTAMP:20260424T212414
CREATED:20240215T200902Z
LAST-MODIFIED:20240215T200902Z
UID:244999-1728239400-1728248400@goseedoatl.com
SUMMARY:Sunday Variety Series at Academy Theatre
DESCRIPTION:Every Sunday at Academy Theatre-Sunday Variety Series featuring a different act each week. Music\, dance\, improv\, magic and more. 599 N Central Avenue in Hapeville. Shows start at 6:30pm.
URL:https://goseedoatl.com/event/sunday-variety-series-at-academy-theatre-2/2024-10-06/
LOCATION:Academy Theatre\, 599 N Central Avenue\, Hapeville\, GA\, 30354\, United States
ATTACH;FMTTYPE=image/png:https://goseedoatl.com/wp-content/uploads/2023/09/Sunday-Series-Academy-Theatre.png
END:VEVENT
BEGIN:VEVENT
DTSTART;TZID=America/Denver:20241006T140000
DTEND;TZID=America/Denver:20241006T160000
DTSTAMP:20260424T212414
CREATED:20240809T171951Z
LAST-MODIFIED:20240809T171951Z
UID:245207-1728223200-1728230400@goseedoatl.com
SUMMARY:Legacy Theatre presents Daddy Long Legs
DESCRIPTION:Legacy Theatre presents “A heartwarming Cinderella story based on the treasured novel that inspired the classic 1955 film.” Music & lyrics by Paul Gordon and book by John Caird.
URL:https://goseedoatl.com/event/legacy-theatre-presents-daddy-long-legs/2024-10-06/
LOCATION:The Legacy Theatre\, Tyrone GA
ATTACH;FMTTYPE=image/jpeg:https://goseedoatl.com/wp-content/uploads/2024/08/Daddy-Long-Legs-I.jpg
END:VEVENT
BEGIN:VEVENT
DTSTART;TZID=America/Denver:20241005T140000
DTEND;TZID=America/Denver:20241005T160000
DTSTAMP:20260424T212414
CREATED:20240809T171951Z
LAST-MODIFIED:20240809T172207Z
UID:245205-1728136800-1728144000@goseedoatl.com
SUMMARY:Legacy Theatre presents Daddy Long Legs
DESCRIPTION:Legacy Theatre presents “A heartwarming Cinderella story based on the treasured novel that inspired the classic 1955 film.” Music & lyrics by Paul Gordon and book by John Caird.
URL:https://goseedoatl.com/event/legacy-theatre-presents-daddy-long-legs/2024-10-05/
LOCATION:The Legacy Theatre\, Tyrone GA
ATTACH;FMTTYPE=image/jpeg:https://goseedoatl.com/wp-content/uploads/2024/08/Daddy-Long-Legs-I.jpg
END:VEVENT
BEGIN:VEVENT
DTSTART;TZID=America/Denver:20241005T120000
DTEND;TZID=America/Denver:20241005T190000
DTSTAMP:20260424T212414
CREATED:20240809T163720Z
LAST-MODIFIED:20240809T163720Z
UID:245185-1728129600-1728154800@goseedoatl.com
SUMMARY:Tyrone GA Founders Day
DESCRIPTION:49th Annual Founders Day Festival October 4-5 at Shamrock Park in Tyrone. Activities include a 5K run/walk\, parade\, music\, food and retail vendors\, fireworks and more.
URL:https://goseedoatl.com/event/tyrone-ga-founders-day/2024-10-05/
LOCATION:Shamrock Park\, Tyrone GA
ATTACH;FMTTYPE=image/png:https://goseedoatl.com/wp-content/uploads/2023/06/logo-top220.png
END:VEVENT
BEGIN:VEVENT
DTSTART;TZID=America/Denver:20241005T090000
DTEND;TZID=America/Denver:20241005T160000
DTSTAMP:20260424T212414
CREATED:20240809T154343Z
LAST-MODIFIED:20240809T154343Z
UID:245164-1728118800-1728144000@goseedoatl.com
SUMMARY:Fairburn Fall Festival & Parade
DESCRIPTION:October 5th from 9am-4pm in downtown Fairburn-featuring food\, amusement rides\, family activities\, music and more.
URL:https://goseedoatl.com/event/fairburn-fall-festival-parade-2/
LOCATION:Downtown Fairburn\, GA
ATTACH;FMTTYPE=image/png:https://goseedoatl.com/wp-content/uploads/2024/08/Fairburn.png
END:VEVENT
BEGIN:VEVENT
DTSTART;TZID=America/Denver:20241005T090000
DTEND;TZID=America/Denver:20241005T130000
DTSTAMP:20260424T212414
CREATED:20240817T160038Z
LAST-MODIFIED:20240817T160038Z
UID:245336-1728118800-1728133200@goseedoatl.com
SUMMARY:Serenbe Farmers Market
DESCRIPTION:Saturdays from 9am-1pm in Grange-10640 Serenbe Lane. Parking available along Serenbe Lane in Grange. Schedule a tour of the farms (3-4pm).
URL:https://goseedoatl.com/event/serenbe-farmers-market-6/2024-10-05/
LOCATION:Grange 10640 Serenbe Lane
ATTACH;FMTTYPE=image/png:https://goseedoatl.com/wp-content/uploads/2024/08/serenbe_farms_vector.png
END:VEVENT
BEGIN:VEVENT
DTSTART;TZID=America/Denver:20241005T090000
DTEND;TZID=America/Denver:20241005T130000
DTSTAMP:20260424T212414
CREATED:20240817T154630Z
LAST-MODIFIED:20240817T154630Z
UID:245286-1728118800-1728133200@goseedoatl.com
SUMMARY:Peachtree City Farmers Market
DESCRIPTION:Every Wednesday and Saturday from 9am-1pm at Aberdeen Village Shopping Center at 215 Northlake Drive
URL:https://goseedoatl.com/event/peachtree-city-farmers-market/2024-10-05/
LOCATION:215 Northlake Drive  Peachtree City
ATTACH;FMTTYPE=image/jpeg:https://goseedoatl.com/wp-content/uploads/2023/02/Small-PC-Market.jpg
END:VEVENT
BEGIN:VEVENT
DTSTART;TZID=America/Denver:20241004T190000
DTEND;TZID=America/Denver:20241004T210000
DTSTAMP:20260424T212414
CREATED:20240809T171951Z
LAST-MODIFIED:20240809T172205Z
UID:245204-1728068400-1728075600@goseedoatl.com
SUMMARY:Legacy Theatre presents Daddy Long Legs
DESCRIPTION:Legacy Theatre presents “A heartwarming Cinderella story based on the treasured novel that inspired the classic 1955 film.” Music & lyrics by Paul Gordon and book by John Caird.
URL:https://goseedoatl.com/event/legacy-theatre-presents-daddy-long-legs/2024-10-04/
LOCATION:The Legacy Theatre\, Tyrone GA
ATTACH;FMTTYPE=image/jpeg:https://goseedoatl.com/wp-content/uploads/2024/08/Daddy-Long-Legs-I.jpg
END:VEVENT
BEGIN:VEVENT
DTSTART;TZID=America/Denver:20241004T170000
DTEND;TZID=America/Denver:20241004T220000
DTSTAMP:20260424T212414
CREATED:20240809T163720Z
LAST-MODIFIED:20240809T163720Z
UID:245184-1728061200-1728079200@goseedoatl.com
SUMMARY:Tyrone GA Founders Day
DESCRIPTION:49th Annual Founders Day Festival October 4-5 at Shamrock Park in Tyrone. Activities include a 5K run/walk\, parade\, music\, food and retail vendors\, fireworks and more.
URL:https://goseedoatl.com/event/tyrone-ga-founders-day/2024-10-04/
LOCATION:Shamrock Park\, Tyrone GA
ATTACH;FMTTYPE=image/png:https://goseedoatl.com/wp-content/uploads/2023/06/logo-top220.png
END:VEVENT
BEGIN:VEVENT
DTSTART;TZID=America/Denver:20241002T160000
DTEND;TZID=America/Denver:20241002T190000
DTSTAMP:20260424T212414
CREATED:20240817T161003Z
LAST-MODIFIED:20240817T161003Z
UID:245348-1727884800-1727895600@goseedoatl.com
SUMMARY:East Point Farmers Market
DESCRIPTION:Every Wednesday from 4-7pm through December 11\, 2024. Downtown Commons-2714 East Point Street.
URL:https://goseedoatl.com/event/east-point-farmers-market/2024-10-02/
LOCATION:Downtown Commons 2714 East Point Street
ATTACH;FMTTYPE=image/jpeg:https://goseedoatl.com/wp-content/uploads/2022/01/5.jpg
END:VEVENT
BEGIN:VEVENT
DTSTART;TZID=America/Denver:20241002T090000
DTEND;TZID=America/Denver:20241002T130000
DTSTAMP:20260424T212414
CREATED:20240817T155140Z
LAST-MODIFIED:20240817T155140Z
UID:245314-1727859600-1727874000@goseedoatl.com
SUMMARY:Peachtree City Farmers Market
DESCRIPTION:Every Wednesday and Saturday from 9am-1pm at Aberdeen Village Shopping Center at 215 Northlake Drive
URL:https://goseedoatl.com/event/peachtree-city-farmers-market-2/2024-10-02/
LOCATION:215 Northlake Drive  Peachtree City
ATTACH;FMTTYPE=image/jpeg:https://goseedoatl.com/wp-content/uploads/2023/02/Small-PC-Market.jpg
END:VEVENT
BEGIN:VEVENT
DTSTART;TZID=America/Denver:20240929T183000
DTEND;TZID=America/Denver:20240929T210000
DTSTAMP:20260424T212414
CREATED:20240215T200902Z
LAST-MODIFIED:20240215T200902Z
UID:244998-1727634600-1727643600@goseedoatl.com
SUMMARY:Sunday Variety Series at Academy Theatre
DESCRIPTION:Every Sunday at Academy Theatre-Sunday Variety Series featuring a different act each week. Music\, dance\, improv\, magic and more. 599 N Central Avenue in Hapeville. Shows start at 6:30pm.
URL:https://goseedoatl.com/event/sunday-variety-series-at-academy-theatre-2/2024-09-29/
LOCATION:Academy Theatre\, 599 N Central Avenue\, Hapeville\, GA\, 30354\, United States
ATTACH;FMTTYPE=image/png:https://goseedoatl.com/wp-content/uploads/2023/09/Sunday-Series-Academy-Theatre.png
END:VEVENT
BEGIN:VEVENT
DTSTART;TZID=America/Denver:20240929T140000
DTEND;TZID=America/Denver:20240929T160000
DTSTAMP:20260424T212414
CREATED:20240809T171951Z
LAST-MODIFIED:20240809T172202Z
UID:245203-1727618400-1727625600@goseedoatl.com
SUMMARY:Legacy Theatre presents Daddy Long Legs
DESCRIPTION:Legacy Theatre presents “A heartwarming Cinderella story based on the treasured novel that inspired the classic 1955 film.” Music & lyrics by Paul Gordon and book by John Caird.
URL:https://goseedoatl.com/event/legacy-theatre-presents-daddy-long-legs/2024-09-29/
LOCATION:The Legacy Theatre\, Tyrone GA
ATTACH;FMTTYPE=image/jpeg:https://goseedoatl.com/wp-content/uploads/2024/08/Daddy-Long-Legs-I.jpg
END:VEVENT
BEGIN:VEVENT
DTSTART;TZID=America/Denver:20240928T140000
DTEND;TZID=America/Denver:20240928T160000
DTSTAMP:20260424T212414
CREATED:20240809T171951Z
LAST-MODIFIED:20240809T172200Z
UID:245202-1727532000-1727539200@goseedoatl.com
SUMMARY:Legacy Theatre presents Daddy Long Legs
DESCRIPTION:Legacy Theatre presents “A heartwarming Cinderella story based on the treasured novel that inspired the classic 1955 film.” Music & lyrics by Paul Gordon and book by John Caird.
URL:https://goseedoatl.com/event/legacy-theatre-presents-daddy-long-legs/2024-09-28/
LOCATION:The Legacy Theatre\, Tyrone GA
ATTACH;FMTTYPE=image/jpeg:https://goseedoatl.com/wp-content/uploads/2024/08/Daddy-Long-Legs-I.jpg
END:VEVENT
BEGIN:VEVENT
DTSTART;TZID=America/Denver:20240928T110000
DTEND;TZID=America/Denver:20240928T150000
DTSTAMP:20260424T212414
CREATED:20240723T223515Z
LAST-MODIFIED:20240723T223515Z
UID:245143-1727521200-1727535600@goseedoatl.com
SUMMARY:Red Oak District Farmers Market
DESCRIPTION:Every 2nd and 4th Saturday through October 12\, 2024. 11am-3pm at New Life AME Zion Church.
URL:https://goseedoatl.com/event/red-oak-district-farmers-market/2024-09-28/
LOCATION:New Life AME Zion Church
ATTACH;FMTTYPE=image/jpeg:https://goseedoatl.com/wp-content/uploads/2024/07/Red-Oak-Farmers-Market-1-scaled.jpg
END:VEVENT
BEGIN:VEVENT
DTSTART;TZID=America/Denver:20240928T090000
DTEND;TZID=America/Denver:20240928T130000
DTSTAMP:20260424T212414
CREATED:20240817T160038Z
LAST-MODIFIED:20240817T160038Z
UID:245335-1727514000-1727528400@goseedoatl.com
SUMMARY:Serenbe Farmers Market
DESCRIPTION:Saturdays from 9am-1pm in Grange-10640 Serenbe Lane. Parking available along Serenbe Lane in Grange. Schedule a tour of the farms (3-4pm).
URL:https://goseedoatl.com/event/serenbe-farmers-market-6/2024-09-28/
LOCATION:Grange 10640 Serenbe Lane
ATTACH;FMTTYPE=image/png:https://goseedoatl.com/wp-content/uploads/2024/08/serenbe_farms_vector.png
END:VEVENT
BEGIN:VEVENT
DTSTART;TZID=America/Denver:20240928T090000
DTEND;TZID=America/Denver:20240928T130000
DTSTAMP:20260424T212414
CREATED:20240817T154630Z
LAST-MODIFIED:20240817T154630Z
UID:245285-1727514000-1727528400@goseedoatl.com
SUMMARY:Peachtree City Farmers Market
DESCRIPTION:Every Wednesday and Saturday from 9am-1pm at Aberdeen Village Shopping Center at 215 Northlake Drive
URL:https://goseedoatl.com/event/peachtree-city-farmers-market/2024-09-28/
LOCATION:215 Northlake Drive  Peachtree City
ATTACH;FMTTYPE=image/jpeg:https://goseedoatl.com/wp-content/uploads/2023/02/Small-PC-Market.jpg
END:VEVENT
BEGIN:VEVENT
DTSTART;TZID=America/Denver:20240927T190000
DTEND;TZID=America/Denver:20240927T210000
DTSTAMP:20260424T212414
CREATED:20240809T171951Z
LAST-MODIFIED:20240809T172158Z
UID:245201-1727463600-1727470800@goseedoatl.com
SUMMARY:Legacy Theatre presents Daddy Long Legs
DESCRIPTION:Legacy Theatre presents “A heartwarming Cinderella story based on the treasured novel that inspired the classic 1955 film.” Music & lyrics by Paul Gordon and book by John Caird.
URL:https://goseedoatl.com/event/legacy-theatre-presents-daddy-long-legs/2024-09-27/
LOCATION:The Legacy Theatre\, Tyrone GA
ATTACH;FMTTYPE=image/jpeg:https://goseedoatl.com/wp-content/uploads/2024/08/Daddy-Long-Legs-I.jpg
END:VEVENT
BEGIN:VEVENT
DTSTART;TZID=America/Denver:20240927T180000
DTEND;TZID=America/Denver:20240927T203000
DTSTAMP:20260424T212414
CREATED:20240809T183435Z
LAST-MODIFIED:20240809T184149Z
UID:245249-1727460000-1727469000@goseedoatl.com
SUMMARY:Southern Circuit of Independent Filmmakers presents the movie "Bulls & Saints"
DESCRIPTION:Join us at Historic Christ Church & Carriage House in Hapeville on September 27 for the showing of the movie “Bulls & Saints”. Event starts at 6pm.
URL:https://goseedoatl.com/event/southern-circuit-of-independent-filmmakers-presents-the-movie-bulls-saints/
LOCATION:historic christ church & carriage house hapeville
ATTACH;FMTTYPE=image/jpeg:https://goseedoatl.com/wp-content/uploads/2023/02/Southern-Circuit-Program-of-South-Arts-Black@3x_1.jpg
END:VEVENT
BEGIN:VEVENT
DTSTART;TZID=America/Denver:20240925T160000
DTEND;TZID=America/Denver:20240925T190000
DTSTAMP:20260424T212414
CREATED:20240817T161003Z
LAST-MODIFIED:20240817T161003Z
UID:245347-1727280000-1727290800@goseedoatl.com
SUMMARY:East Point Farmers Market
DESCRIPTION:Every Wednesday from 4-7pm through December 11\, 2024. Downtown Commons-2714 East Point Street.
URL:https://goseedoatl.com/event/east-point-farmers-market/2024-09-25/
LOCATION:Downtown Commons 2714 East Point Street
ATTACH;FMTTYPE=image/jpeg:https://goseedoatl.com/wp-content/uploads/2022/01/5.jpg
END:VEVENT
BEGIN:VEVENT
DTSTART;TZID=America/Denver:20240925T090000
DTEND;TZID=America/Denver:20240925T130000
DTSTAMP:20260424T212414
CREATED:20240817T155140Z
LAST-MODIFIED:20240817T155140Z
UID:245313-1727254800-1727269200@goseedoatl.com
SUMMARY:Peachtree City Farmers Market
DESCRIPTION:Every Wednesday and Saturday from 9am-1pm at Aberdeen Village Shopping Center at 215 Northlake Drive
URL:https://goseedoatl.com/event/peachtree-city-farmers-market-2/2024-09-25/
LOCATION:215 Northlake Drive  Peachtree City
ATTACH;FMTTYPE=image/jpeg:https://goseedoatl.com/wp-content/uploads/2023/02/Small-PC-Market.jpg
END:VEVENT
BEGIN:VEVENT
DTSTART;TZID=America/Denver:20240922T183000
DTEND;TZID=America/Denver:20240922T210000
DTSTAMP:20260424T212414
CREATED:20240215T200902Z
LAST-MODIFIED:20240215T200902Z
UID:244997-1727029800-1727038800@goseedoatl.com
SUMMARY:Sunday Variety Series at Academy Theatre
DESCRIPTION:Every Sunday at Academy Theatre-Sunday Variety Series featuring a different act each week. Music\, dance\, improv\, magic and more. 599 N Central Avenue in Hapeville. Shows start at 6:30pm.
URL:https://goseedoatl.com/event/sunday-variety-series-at-academy-theatre-2/2024-09-22/
LOCATION:Academy Theatre\, 599 N Central Avenue\, Hapeville\, GA\, 30354\, United States
ATTACH;FMTTYPE=image/png:https://goseedoatl.com/wp-content/uploads/2023/09/Sunday-Series-Academy-Theatre.png
END:VEVENT
BEGIN:VEVENT
DTSTART;TZID=America/Denver:20240922T150000
DTEND;TZID=America/Denver:20240922T170000
DTSTAMP:20260424T212414
CREATED:20240528T191738Z
LAST-MODIFIED:20240528T191738Z
UID:244975-1727017200-1727024400@goseedoatl.com
SUMMARY:Two Drink Minimum A Play by Bill Balzer
DESCRIPTION:Two Drink Minimum-A Play written by Bill Balzer and directed by Lynna Schmidt. September 6-22 at Academy Theatre-599 N Central Avenue in Hapeville.
URL:https://goseedoatl.com/event/two-drink-minimum-a-play-by-bill-balzer/2024-09-22/
LOCATION:Academy Theatre\, 599 N Central Avenue\, Hapeville\, GA\, 30354\, United States
ATTACH;FMTTYPE=image/jpeg:https://goseedoatl.com/wp-content/uploads/2024/05/Two-Drink-Minimum-.jpg
END:VEVENT
BEGIN:VEVENT
DTSTART;TZID=America/Denver:20240922T140000
DTEND;TZID=America/Denver:20240922T160000
DTSTAMP:20260424T212414
CREATED:20240809T171951Z
LAST-MODIFIED:20240809T172156Z
UID:245200-1727013600-1727020800@goseedoatl.com
SUMMARY:Legacy Theatre presents Daddy Long Legs
DESCRIPTION:Legacy Theatre presents “A heartwarming Cinderella story based on the treasured novel that inspired the classic 1955 film.” Music & lyrics by Paul Gordon and book by John Caird.
URL:https://goseedoatl.com/event/legacy-theatre-presents-daddy-long-legs/2024-09-22/
LOCATION:The Legacy Theatre\, Tyrone GA
ATTACH;FMTTYPE=image/jpeg:https://goseedoatl.com/wp-content/uploads/2024/08/Daddy-Long-Legs-I.jpg
END:VEVENT
BEGIN:VEVENT
DTSTART;TZID=America/Denver:20240921T200000
DTEND;TZID=America/Denver:20240921T220000
DTSTAMP:20260424T212414
CREATED:20240528T191738Z
LAST-MODIFIED:20240528T191738Z
UID:244974-1726948800-1726956000@goseedoatl.com
SUMMARY:Two Drink Minimum A Play by Bill Balzer
DESCRIPTION:Two Drink Minimum-A Play written by Bill Balzer and directed by Lynna Schmidt. September 6-22 at Academy Theatre-599 N Central Avenue in Hapeville.
URL:https://goseedoatl.com/event/two-drink-minimum-a-play-by-bill-balzer/2024-09-21/
LOCATION:Academy Theatre\, 599 N Central Avenue\, Hapeville\, GA\, 30354\, United States
ATTACH;FMTTYPE=image/jpeg:https://goseedoatl.com/wp-content/uploads/2024/05/Two-Drink-Minimum-.jpg
END:VEVENT
BEGIN:VEVENT
DTSTART;TZID=America/Denver:20240921T190000
DTEND;TZID=America/Denver:20240921T230000
DTSTAMP:20260424T212414
CREATED:20240809T155905Z
LAST-MODIFIED:20240809T155905Z
UID:245170-1726945200-1726959600@goseedoatl.com
SUMMARY:Happy Days Weekend in Hapeville
DESCRIPTION:Join us for two nights of free concerts in Jess Lucas Park-Friday Sept. 20 and Saturday Sept. 21 from 7-11pm. Two performances each night plus food and artist vendors.
URL:https://goseedoatl.com/event/happy-days-weekend-in-hapeville/2024-09-21/
LOCATION:jess lucas y teen park hapeville
ATTACH;FMTTYPE=image/jpeg:https://goseedoatl.com/wp-content/uploads/2024/08/DSC01104-scaled.jpg
END:VEVENT
BEGIN:VEVENT
DTSTART;TZID=America/Denver:20240921T140000
DTEND;TZID=America/Denver:20240921T160000
DTSTAMP:20260424T212414
CREATED:20240809T171951Z
LAST-MODIFIED:20240809T172154Z
UID:245199-1726927200-1726934400@goseedoatl.com
SUMMARY:Legacy Theatre presents Daddy Long Legs
DESCRIPTION:Legacy Theatre presents “A heartwarming Cinderella story based on the treasured novel that inspired the classic 1955 film.” Music & lyrics by Paul Gordon and book by John Caird.
URL:https://goseedoatl.com/event/legacy-theatre-presents-daddy-long-legs/2024-09-21/
LOCATION:The Legacy Theatre\, Tyrone GA
ATTACH;FMTTYPE=image/jpeg:https://goseedoatl.com/wp-content/uploads/2024/08/Daddy-Long-Legs-I.jpg
END:VEVENT
BEGIN:VEVENT
DTSTART;TZID=America/Denver:20240921T090000
DTEND;TZID=America/Denver:20240921T130000
DTSTAMP:20260424T212414
CREATED:20240817T160038Z
LAST-MODIFIED:20240817T160038Z
UID:245334-1726909200-1726923600@goseedoatl.com
SUMMARY:Serenbe Farmers Market
DESCRIPTION:Saturdays from 9am-1pm in Grange-10640 Serenbe Lane. Parking available along Serenbe Lane in Grange. Schedule a tour of the farms (3-4pm).
URL:https://goseedoatl.com/event/serenbe-farmers-market-6/2024-09-21/
LOCATION:Grange 10640 Serenbe Lane
ATTACH;FMTTYPE=image/png:https://goseedoatl.com/wp-content/uploads/2024/08/serenbe_farms_vector.png
END:VEVENT
END:VCALENDAR