BEGIN:VCALENDAR
VERSION:2.0
PRODID:-// GoSeeDoATL.com  - ECPv6.15.20//NONSGML v1.0//EN
CALSCALE:GREGORIAN
METHOD:PUBLISH
X-WR-CALNAME: GoSeeDoATL.com 
X-ORIGINAL-URL:https://goseedoatl.com
X-WR-CALDESC:Events for  GoSeeDoATL.com 
REFRESH-INTERVAL;VALUE=DURATION:PT1H
X-Robots-Tag:noindex
X-PUBLISHED-TTL:PT1H
BEGIN:VTIMEZONE
TZID:America/Denver
BEGIN:DAYLIGHT
TZOFFSETFROM:-0700
TZOFFSETTO:-0600
TZNAME:MDT
DTSTART:20230312T090000
END:DAYLIGHT
BEGIN:STANDARD
TZOFFSETFROM:-0600
TZOFFSETTO:-0700
TZNAME:MST
DTSTART:20231105T080000
END:STANDARD
BEGIN:DAYLIGHT
TZOFFSETFROM:-0700
TZOFFSETTO:-0600
TZNAME:MDT
DTSTART:20240310T090000
END:DAYLIGHT
BEGIN:STANDARD
TZOFFSETFROM:-0600
TZOFFSETTO:-0700
TZNAME:MST
DTSTART:20241103T080000
END:STANDARD
BEGIN:DAYLIGHT
TZOFFSETFROM:-0700
TZOFFSETTO:-0600
TZNAME:MDT
DTSTART:20250309T090000
END:DAYLIGHT
BEGIN:STANDARD
TZOFFSETFROM:-0600
TZOFFSETTO:-0700
TZNAME:MST
DTSTART:20251102T080000
END:STANDARD
END:VTIMEZONE
BEGIN:VEVENT
DTSTART;TZID=America/Denver:20241113T160000
DTEND;TZID=America/Denver:20241113T190000
DTSTAMP:20260424T141251
CREATED:20240817T161003Z
LAST-MODIFIED:20240817T161003Z
UID:245355-1731513600-1731524400@goseedoatl.com
SUMMARY:East Point Farmers Market
DESCRIPTION:Every Wednesday from 4-7pm through December 11\, 2024. Downtown Commons-2714 East Point Street.
URL:https://goseedoatl.com/event/east-point-farmers-market/2024-11-13/
LOCATION:Downtown Commons 2714 East Point Street
ATTACH;FMTTYPE=image/jpeg:https://goseedoatl.com/wp-content/uploads/2022/01/5.jpg
END:VEVENT
BEGIN:VEVENT
DTSTART;TZID=America/Denver:20241113T090000
DTEND;TZID=America/Denver:20241113T130000
DTSTAMP:20260424T141251
CREATED:20240817T155140Z
LAST-MODIFIED:20240817T155140Z
UID:245321-1731488400-1731502800@goseedoatl.com
SUMMARY:Peachtree City Farmers Market
DESCRIPTION:Every Wednesday and Saturday from 9am-1pm at Aberdeen Village Shopping Center at 215 Northlake Drive
URL:https://goseedoatl.com/event/peachtree-city-farmers-market-2/2024-11-13/
LOCATION:215 Northlake Drive  Peachtree City
ATTACH;FMTTYPE=image/jpeg:https://goseedoatl.com/wp-content/uploads/2023/02/Small-PC-Market.jpg
END:VEVENT
BEGIN:VEVENT
DTSTART;TZID=America/Denver:20241110T183000
DTEND;TZID=America/Denver:20241110T210000
DTSTAMP:20260424T141251
CREATED:20240215T200902Z
LAST-MODIFIED:20240215T200902Z
UID:245004-1731263400-1731272400@goseedoatl.com
SUMMARY:Sunday Variety Series at Academy Theatre
DESCRIPTION:Every Sunday at Academy Theatre-Sunday Variety Series featuring a different act each week. Music\, dance\, improv\, magic and more. 599 N Central Avenue in Hapeville. Shows start at 6:30pm.
URL:https://goseedoatl.com/event/sunday-variety-series-at-academy-theatre-2/2024-11-10/
LOCATION:Academy Theatre\, 599 N Central Avenue\, Hapeville\, GA\, 30354\, United States
ATTACH;FMTTYPE=image/png:https://goseedoatl.com/wp-content/uploads/2023/09/Sunday-Series-Academy-Theatre.png
END:VEVENT
BEGIN:VEVENT
DTSTART;TZID=America/Denver:20241110T150000
DTEND;TZID=America/Denver:20241110T170000
DTSTAMP:20260424T141251
CREATED:20240528T192534Z
LAST-MODIFIED:20240528T192534Z
UID:244984-1731250800-1731258000@goseedoatl.com
SUMMARY:Clue\, The Musical
DESCRIPTION:Based on the classic board game by Parker Brothers\, this musical will keep you guessing! Book by Peter DePietro\, music by Galen Blum\, Wayne Barker and Vinnie Martucci\, lyrics by Tom Chiodo and directed by Lynna Schmidt. October 25-November 10 at Academy Theatre-599 N Central Avenue in Hapeville.
URL:https://goseedoatl.com/event/clue-the-musical/2024-11-10/
LOCATION:Academy Theatre\, 599 N Central Avenue\, Hapeville\, GA\, 30354\, United States
ATTACH;FMTTYPE=image/jpeg:https://goseedoatl.com/wp-content/uploads/2024/05/Clue-the-musical.jpg
END:VEVENT
BEGIN:VEVENT
DTSTART;TZID=America/Denver:20241110T140000
DTEND;TZID=America/Denver:20241110T160000
DTSTAMP:20260424T141251
CREATED:20240809T173448Z
LAST-MODIFIED:20240809T173448Z
UID:245224-1731247200-1731254400@goseedoatl.com
SUMMARY:Roald Dahl's Charlie and the Chocolate Factory
DESCRIPTION:Legacy Theatre presents Roald Dahl’s Charlie and the Chocolate Factory-a Broadway and West End musical based on the famous novel and hit movie.
URL:https://goseedoatl.com/event/roald-dahls-charlie-and-the-chocolate-factory/2024-11-10/
LOCATION:The Legacy Theatre\, Tyrone GA
ATTACH;FMTTYPE=image/jpeg:https://goseedoatl.com/wp-content/uploads/2024/08/Charlie-and-Chocolate-I.jpg
END:VEVENT
BEGIN:VEVENT
DTSTART;TZID=America/Denver:20241109T200000
DTEND;TZID=America/Denver:20241109T220000
DTSTAMP:20260424T141251
CREATED:20240528T192534Z
LAST-MODIFIED:20240528T192534Z
UID:244983-1731182400-1731189600@goseedoatl.com
SUMMARY:Clue\, The Musical
DESCRIPTION:Based on the classic board game by Parker Brothers\, this musical will keep you guessing! Book by Peter DePietro\, music by Galen Blum\, Wayne Barker and Vinnie Martucci\, lyrics by Tom Chiodo and directed by Lynna Schmidt. October 25-November 10 at Academy Theatre-599 N Central Avenue in Hapeville.
URL:https://goseedoatl.com/event/clue-the-musical/2024-11-09/
LOCATION:Academy Theatre\, 599 N Central Avenue\, Hapeville\, GA\, 30354\, United States
ATTACH;FMTTYPE=image/jpeg:https://goseedoatl.com/wp-content/uploads/2024/05/Clue-the-musical.jpg
END:VEVENT
BEGIN:VEVENT
DTSTART;TZID=America/Denver:20241109T140000
DTEND;TZID=America/Denver:20241109T210000
DTSTAMP:20260424T141251
CREATED:20241010T185144Z
LAST-MODIFIED:20241010T185144Z
UID:245381-1731160800-1731186000@goseedoatl.com
SUMMARY:GA Renaissance Festival Fall Fling
DESCRIPTION:A brand-new Festival experience-on Saturdays:  November 2\, 9\, 16\, 23 and 30 plus Saturday December 7\, 2024. Food\, entertainment and artisan’s marketplace. FREE Parking. Rain or shine event from 2-6pm.
URL:https://goseedoatl.com/event/ga-renaissance-festival-fall-fling/2024-11-09/
LOCATION:GA Renaissance Festival Grounds Fairburn
ATTACH;FMTTYPE=image/jpeg:https://goseedoatl.com/wp-content/uploads/2024/10/Fall-Fling-e-scaled.jpg
END:VEVENT
BEGIN:VEVENT
DTSTART;TZID=America/Denver:20241109T140000
DTEND;TZID=America/Denver:20241109T160000
DTSTAMP:20260424T141251
CREATED:20240809T173448Z
LAST-MODIFIED:20240809T173448Z
UID:245223-1731160800-1731168000@goseedoatl.com
SUMMARY:Roald Dahl's Charlie and the Chocolate Factory
DESCRIPTION:Legacy Theatre presents Roald Dahl’s Charlie and the Chocolate Factory-a Broadway and West End musical based on the famous novel and hit movie.
URL:https://goseedoatl.com/event/roald-dahls-charlie-and-the-chocolate-factory/2024-11-09/
LOCATION:The Legacy Theatre\, Tyrone GA
ATTACH;FMTTYPE=image/jpeg:https://goseedoatl.com/wp-content/uploads/2024/08/Charlie-and-Chocolate-I.jpg
END:VEVENT
BEGIN:VEVENT
DTSTART;TZID=America/Denver:20241109T090000
DTEND;TZID=America/Denver:20241109T130000
DTSTAMP:20260424T141251
CREATED:20240817T154630Z
LAST-MODIFIED:20240817T154630Z
UID:245292-1731142800-1731157200@goseedoatl.com
SUMMARY:Peachtree City Farmers Market
DESCRIPTION:Every Wednesday and Saturday from 9am-1pm at Aberdeen Village Shopping Center at 215 Northlake Drive
URL:https://goseedoatl.com/event/peachtree-city-farmers-market/2024-11-09/
LOCATION:215 Northlake Drive  Peachtree City
ATTACH;FMTTYPE=image/jpeg:https://goseedoatl.com/wp-content/uploads/2023/02/Small-PC-Market.jpg
END:VEVENT
BEGIN:VEVENT
DTSTART;TZID=America/Denver:20241108T190000
DTEND;TZID=America/Denver:20241108T210000
DTSTAMP:20260424T141251
CREATED:20240809T173448Z
LAST-MODIFIED:20240809T173448Z
UID:245220-1731092400-1731099600@goseedoatl.com
SUMMARY:Roald Dahl's Charlie and the Chocolate Factory
DESCRIPTION:Legacy Theatre presents Roald Dahl’s Charlie and the Chocolate Factory-a Broadway and West End musical based on the famous novel and hit movie.
URL:https://goseedoatl.com/event/roald-dahls-charlie-and-the-chocolate-factory/2024-11-08/
LOCATION:The Legacy Theatre\, Tyrone GA
ATTACH;FMTTYPE=image/jpeg:https://goseedoatl.com/wp-content/uploads/2024/08/Charlie-and-Chocolate-I.jpg
END:VEVENT
BEGIN:VEVENT
DTSTART;TZID=America/Denver:20241106T160000
DTEND;TZID=America/Denver:20241106T190000
DTSTAMP:20260424T141251
CREATED:20240817T161003Z
LAST-MODIFIED:20240817T161003Z
UID:245354-1730908800-1730919600@goseedoatl.com
SUMMARY:East Point Farmers Market
DESCRIPTION:Every Wednesday from 4-7pm through December 11\, 2024. Downtown Commons-2714 East Point Street.
URL:https://goseedoatl.com/event/east-point-farmers-market/2024-11-06/
LOCATION:Downtown Commons 2714 East Point Street
ATTACH;FMTTYPE=image/jpeg:https://goseedoatl.com/wp-content/uploads/2022/01/5.jpg
END:VEVENT
BEGIN:VEVENT
DTSTART;TZID=America/Denver:20241106T090000
DTEND;TZID=America/Denver:20241106T130000
DTSTAMP:20260424T141251
CREATED:20240817T155140Z
LAST-MODIFIED:20240817T155140Z
UID:245320-1730883600-1730898000@goseedoatl.com
SUMMARY:Peachtree City Farmers Market
DESCRIPTION:Every Wednesday and Saturday from 9am-1pm at Aberdeen Village Shopping Center at 215 Northlake Drive
URL:https://goseedoatl.com/event/peachtree-city-farmers-market-2/2024-11-06/
LOCATION:215 Northlake Drive  Peachtree City
ATTACH;FMTTYPE=image/jpeg:https://goseedoatl.com/wp-content/uploads/2023/02/Small-PC-Market.jpg
END:VEVENT
BEGIN:VEVENT
DTSTART;TZID=America/Denver:20241103T183000
DTEND;TZID=America/Denver:20241103T210000
DTSTAMP:20260424T141251
CREATED:20240215T200902Z
LAST-MODIFIED:20240215T200902Z
UID:245003-1730658600-1730667600@goseedoatl.com
SUMMARY:Sunday Variety Series at Academy Theatre
DESCRIPTION:Every Sunday at Academy Theatre-Sunday Variety Series featuring a different act each week. Music\, dance\, improv\, magic and more. 599 N Central Avenue in Hapeville. Shows start at 6:30pm.
URL:https://goseedoatl.com/event/sunday-variety-series-at-academy-theatre-2/2024-11-03/
LOCATION:Academy Theatre\, 599 N Central Avenue\, Hapeville\, GA\, 30354\, United States
ATTACH;FMTTYPE=image/png:https://goseedoatl.com/wp-content/uploads/2023/09/Sunday-Series-Academy-Theatre.png
END:VEVENT
BEGIN:VEVENT
DTSTART;TZID=America/Denver:20241103T150000
DTEND;TZID=America/Denver:20241103T170000
DTSTAMP:20260424T141251
CREATED:20240528T192534Z
LAST-MODIFIED:20240528T192534Z
UID:244982-1730646000-1730653200@goseedoatl.com
SUMMARY:Clue\, The Musical
DESCRIPTION:Based on the classic board game by Parker Brothers\, this musical will keep you guessing! Book by Peter DePietro\, music by Galen Blum\, Wayne Barker and Vinnie Martucci\, lyrics by Tom Chiodo and directed by Lynna Schmidt. October 25-November 10 at Academy Theatre-599 N Central Avenue in Hapeville.
URL:https://goseedoatl.com/event/clue-the-musical/2024-11-03/
LOCATION:Academy Theatre\, 599 N Central Avenue\, Hapeville\, GA\, 30354\, United States
ATTACH;FMTTYPE=image/jpeg:https://goseedoatl.com/wp-content/uploads/2024/05/Clue-the-musical.jpg
END:VEVENT
BEGIN:VEVENT
DTSTART;TZID=America/Denver:20241102T200000
DTEND;TZID=America/Denver:20241102T220000
DTSTAMP:20260424T141251
CREATED:20240528T192534Z
LAST-MODIFIED:20240528T192534Z
UID:244981-1730577600-1730584800@goseedoatl.com
SUMMARY:Clue\, The Musical
DESCRIPTION:Based on the classic board game by Parker Brothers\, this musical will keep you guessing! Book by Peter DePietro\, music by Galen Blum\, Wayne Barker and Vinnie Martucci\, lyrics by Tom Chiodo and directed by Lynna Schmidt. October 25-November 10 at Academy Theatre-599 N Central Avenue in Hapeville.
URL:https://goseedoatl.com/event/clue-the-musical/2024-11-02/
LOCATION:Academy Theatre\, 599 N Central Avenue\, Hapeville\, GA\, 30354\, United States
ATTACH;FMTTYPE=image/jpeg:https://goseedoatl.com/wp-content/uploads/2024/05/Clue-the-musical.jpg
END:VEVENT
BEGIN:VEVENT
DTSTART;TZID=America/Denver:20241102T150000
DTEND;TZID=America/Denver:20241102T190000
DTSTAMP:20260424T141251
CREATED:20240528T185712Z
LAST-MODIFIED:20240528T185712Z
UID:244952-1730559600-1730574000@goseedoatl.com
SUMMARY:Taste of SoFu in Chattahoochee Hills
DESCRIPTION:Chattahoochee Hills presents The Taste of SoFu with music\, artwork\, food trucks and more. Bring your lawn chairs-Saturday August 16 from 3-7pm at Chattahoochee Hills City Hall-6505 Rico Road in Chattahoochee Hills.
URL:https://goseedoatl.com/event/taste-of-sofu-in-chattahoochee-hills/
LOCATION:Chattahoochee Hills City Hall
ATTACH;FMTTYPE=image/jpeg:https://goseedoatl.com/wp-content/uploads/2024/05/taste-of-sofu-24.jpg
END:VEVENT
BEGIN:VEVENT
DTSTART;TZID=America/Denver:20241102T140000
DTEND;TZID=America/Denver:20241102T210000
DTSTAMP:20260424T141251
CREATED:20241010T185144Z
LAST-MODIFIED:20241010T185144Z
UID:245379-1730556000-1730581200@goseedoatl.com
SUMMARY:GA Renaissance Festival Fall Fling
DESCRIPTION:A brand-new Festival experience-on Saturdays:  November 2\, 9\, 16\, 23 and 30 plus Saturday December 7\, 2024. Food\, entertainment and artisan’s marketplace. FREE Parking. Rain or shine event from 2-6pm.
URL:https://goseedoatl.com/event/ga-renaissance-festival-fall-fling/2024-11-02/
LOCATION:GA Renaissance Festival Grounds Fairburn
ATTACH;FMTTYPE=image/jpeg:https://goseedoatl.com/wp-content/uploads/2024/10/Fall-Fling-e-scaled.jpg
END:VEVENT
BEGIN:VEVENT
DTSTART;TZID=America/Denver:20241102T090000
DTEND;TZID=America/Denver:20241102T130000
DTSTAMP:20260424T141251
CREATED:20240817T154630Z
LAST-MODIFIED:20240817T154630Z
UID:245291-1730538000-1730552400@goseedoatl.com
SUMMARY:Peachtree City Farmers Market
DESCRIPTION:Every Wednesday and Saturday from 9am-1pm at Aberdeen Village Shopping Center at 215 Northlake Drive
URL:https://goseedoatl.com/event/peachtree-city-farmers-market/2024-11-02/
LOCATION:215 Northlake Drive  Peachtree City
ATTACH;FMTTYPE=image/jpeg:https://goseedoatl.com/wp-content/uploads/2023/02/Small-PC-Market.jpg
END:VEVENT
BEGIN:VEVENT
DTSTART;TZID=America/Denver:20241030T160000
DTEND;TZID=America/Denver:20241030T190000
DTSTAMP:20260424T141251
CREATED:20240817T161003Z
LAST-MODIFIED:20240817T161003Z
UID:245352-1730304000-1730314800@goseedoatl.com
SUMMARY:East Point Farmers Market
DESCRIPTION:Every Wednesday from 4-7pm through December 11\, 2024. Downtown Commons-2714 East Point Street.
URL:https://goseedoatl.com/event/east-point-farmers-market/2024-10-30/
LOCATION:Downtown Commons 2714 East Point Street
ATTACH;FMTTYPE=image/jpeg:https://goseedoatl.com/wp-content/uploads/2022/01/5.jpg
END:VEVENT
BEGIN:VEVENT
DTSTART;TZID=America/Denver:20241030T090000
DTEND;TZID=America/Denver:20241030T130000
DTSTAMP:20260424T141251
CREATED:20240817T155140Z
LAST-MODIFIED:20240817T155140Z
UID:245318-1730278800-1730293200@goseedoatl.com
SUMMARY:Peachtree City Farmers Market
DESCRIPTION:Every Wednesday and Saturday from 9am-1pm at Aberdeen Village Shopping Center at 215 Northlake Drive
URL:https://goseedoatl.com/event/peachtree-city-farmers-market-2/2024-10-30/
LOCATION:215 Northlake Drive  Peachtree City
ATTACH;FMTTYPE=image/jpeg:https://goseedoatl.com/wp-content/uploads/2023/02/Small-PC-Market.jpg
END:VEVENT
BEGIN:VEVENT
DTSTART;TZID=America/Denver:20241027T183000
DTEND;TZID=America/Denver:20241027T210000
DTSTAMP:20260424T141251
CREATED:20240215T200902Z
LAST-MODIFIED:20240215T200902Z
UID:245002-1730053800-1730062800@goseedoatl.com
SUMMARY:Sunday Variety Series at Academy Theatre
DESCRIPTION:Every Sunday at Academy Theatre-Sunday Variety Series featuring a different act each week. Music\, dance\, improv\, magic and more. 599 N Central Avenue in Hapeville. Shows start at 6:30pm.
URL:https://goseedoatl.com/event/sunday-variety-series-at-academy-theatre-2/2024-10-27/
LOCATION:Academy Theatre\, 599 N Central Avenue\, Hapeville\, GA\, 30354\, United States
ATTACH;FMTTYPE=image/png:https://goseedoatl.com/wp-content/uploads/2023/09/Sunday-Series-Academy-Theatre.png
END:VEVENT
BEGIN:VEVENT
DTSTART;TZID=America/Denver:20241027T150000
DTEND;TZID=America/Denver:20241027T170000
DTSTAMP:20260424T141251
CREATED:20240528T192534Z
LAST-MODIFIED:20240528T192534Z
UID:244980-1730041200-1730048400@goseedoatl.com
SUMMARY:Clue\, The Musical
DESCRIPTION:Based on the classic board game by Parker Brothers\, this musical will keep you guessing! Book by Peter DePietro\, music by Galen Blum\, Wayne Barker and Vinnie Martucci\, lyrics by Tom Chiodo and directed by Lynna Schmidt. October 25-November 10 at Academy Theatre-599 N Central Avenue in Hapeville.
URL:https://goseedoatl.com/event/clue-the-musical/2024-10-27/
LOCATION:Academy Theatre\, 599 N Central Avenue\, Hapeville\, GA\, 30354\, United States
ATTACH;FMTTYPE=image/jpeg:https://goseedoatl.com/wp-content/uploads/2024/05/Clue-the-musical.jpg
END:VEVENT
BEGIN:VEVENT
DTSTART;TZID=America/Denver:20241027T090000
DTEND;TZID=America/Denver:20241027T160000
DTSTAMP:20260424T141251
CREATED:20240809T162615Z
LAST-MODIFIED:20240809T162615Z
UID:245182-1730019600-1730044800@goseedoatl.com
SUMMARY:Atlanta Air Show Falcon Field
DESCRIPTION:The 2024 Atlanta Air Show at Atlanta Regional Airport in Peachtree City. The Air Dot Show Tour returns to Atlanta October 26-27 with US Air Force Thunderbirds\, USAF F-35A Lightning II Demo Team and more…
URL:https://goseedoatl.com/event/atlanta-air-show-falcon-field/2024-10-27/
LOCATION:Atlanta Regional Airport Peachtree City GA
ATTACH;FMTTYPE=image/png:https://goseedoatl.com/wp-content/uploads/2024/08/PC-Site-Header-Logo-Dates-Loc-800x250-copy.png
END:VEVENT
BEGIN:VEVENT
DTSTART;TZID=America/Denver:20241026T200000
DTEND;TZID=America/Denver:20241026T220000
DTSTAMP:20260424T141251
CREATED:20240528T192534Z
LAST-MODIFIED:20240528T192534Z
UID:244979-1729972800-1729980000@goseedoatl.com
SUMMARY:Clue\, The Musical
DESCRIPTION:Based on the classic board game by Parker Brothers\, this musical will keep you guessing! Book by Peter DePietro\, music by Galen Blum\, Wayne Barker and Vinnie Martucci\, lyrics by Tom Chiodo and directed by Lynna Schmidt. October 25-November 10 at Academy Theatre-599 N Central Avenue in Hapeville.
URL:https://goseedoatl.com/event/clue-the-musical/2024-10-26/
LOCATION:Academy Theatre\, 599 N Central Avenue\, Hapeville\, GA\, 30354\, United States
ATTACH;FMTTYPE=image/jpeg:https://goseedoatl.com/wp-content/uploads/2024/05/Clue-the-musical.jpg
END:VEVENT
BEGIN:VEVENT
DTSTART;TZID=America/Denver:20241026T170000
DTEND;TZID=America/Denver:20241026T210000
DTSTAMP:20260424T141251
CREATED:20240809T164919Z
LAST-MODIFIED:20240809T165250Z
UID:245187-1729962000-1729976400@goseedoatl.com
SUMMARY:Hapeville Dia de Los Muertos Celebration
DESCRIPTION:Saturday October 26 from 5-9 pm at Jess Lucas Y Teen Park in Hapeville.
URL:https://goseedoatl.com/event/hapeville-dia-de-los-muertos-celebration/
LOCATION:jess lucas y teen park hapeville
ATTACH;FMTTYPE=image/jpeg:https://goseedoatl.com/wp-content/uploads/2023/06/New-Hapeville-logo.jpg
END:VEVENT
BEGIN:VEVENT
DTSTART;TZID=America/Denver:20241026T090000
DTEND;TZID=America/Denver:20241026T160000
DTSTAMP:20260424T141251
CREATED:20240809T162615Z
LAST-MODIFIED:20240809T162615Z
UID:245179-1729933200-1729958400@goseedoatl.com
SUMMARY:Atlanta Air Show Falcon Field
DESCRIPTION:The 2024 Atlanta Air Show at Atlanta Regional Airport in Peachtree City. The Air Dot Show Tour returns to Atlanta October 26-27 with US Air Force Thunderbirds\, USAF F-35A Lightning II Demo Team and more…
URL:https://goseedoatl.com/event/atlanta-air-show-falcon-field/2024-10-26/
LOCATION:Atlanta Regional Airport Peachtree City GA
ATTACH;FMTTYPE=image/png:https://goseedoatl.com/wp-content/uploads/2024/08/PC-Site-Header-Logo-Dates-Loc-800x250-copy.png
END:VEVENT
BEGIN:VEVENT
DTSTART;TZID=America/Denver:20241026T090000
DTEND;TZID=America/Denver:20241026T130000
DTSTAMP:20260424T141251
CREATED:20240817T160038Z
LAST-MODIFIED:20240817T160038Z
UID:245339-1729933200-1729947600@goseedoatl.com
SUMMARY:Serenbe Farmers Market
DESCRIPTION:Saturdays from 9am-1pm in Grange-10640 Serenbe Lane. Parking available along Serenbe Lane in Grange. Schedule a tour of the farms (3-4pm).
URL:https://goseedoatl.com/event/serenbe-farmers-market-6/2024-10-26/
LOCATION:Grange 10640 Serenbe Lane
ATTACH;FMTTYPE=image/png:https://goseedoatl.com/wp-content/uploads/2024/08/serenbe_farms_vector.png
END:VEVENT
BEGIN:VEVENT
DTSTART;TZID=America/Denver:20241026T090000
DTEND;TZID=America/Denver:20241026T130000
DTSTAMP:20260424T141251
CREATED:20240817T154630Z
LAST-MODIFIED:20240817T154630Z
UID:245289-1729933200-1729947600@goseedoatl.com
SUMMARY:Peachtree City Farmers Market
DESCRIPTION:Every Wednesday and Saturday from 9am-1pm at Aberdeen Village Shopping Center at 215 Northlake Drive
URL:https://goseedoatl.com/event/peachtree-city-farmers-market/2024-10-26/
LOCATION:215 Northlake Drive  Peachtree City
ATTACH;FMTTYPE=image/jpeg:https://goseedoatl.com/wp-content/uploads/2023/02/Small-PC-Market.jpg
END:VEVENT
BEGIN:VEVENT
DTSTART;TZID=America/Denver:20241025T200000
DTEND;TZID=America/Denver:20241025T220000
DTSTAMP:20260424T141251
CREATED:20240528T192534Z
LAST-MODIFIED:20240528T192534Z
UID:244977-1729886400-1729893600@goseedoatl.com
SUMMARY:Clue\, The Musical
DESCRIPTION:Based on the classic board game by Parker Brothers\, this musical will keep you guessing! Book by Peter DePietro\, music by Galen Blum\, Wayne Barker and Vinnie Martucci\, lyrics by Tom Chiodo and directed by Lynna Schmidt. October 25-November 10 at Academy Theatre-599 N Central Avenue in Hapeville.
URL:https://goseedoatl.com/event/clue-the-musical/2024-10-25/
LOCATION:Academy Theatre\, 599 N Central Avenue\, Hapeville\, GA\, 30354\, United States
ATTACH;FMTTYPE=image/jpeg:https://goseedoatl.com/wp-content/uploads/2024/05/Clue-the-musical.jpg
END:VEVENT
BEGIN:VEVENT
DTSTART;TZID=America/Denver:20241023T180000
DTEND;TZID=America/Denver:20241023T203000
DTSTAMP:20260424T141251
CREATED:20240809T182738Z
LAST-MODIFIED:20240809T184234Z
UID:245247-1729706400-1729715400@goseedoatl.com
SUMMARY:Southern Circuit of Independent Filmmakers present the movie "Lift"
DESCRIPTION:Join us at Historic Christ Church & Carriage House in Hapeville on October 23 for the showing of the movie “Lift”. Event starts at 6pm.
URL:https://goseedoatl.com/event/southern-circuit-of-independent-filmmakers-present-the-movie-lift/
LOCATION:historic christ church & carriage house hapeville
ATTACH;FMTTYPE=image/jpeg:https://goseedoatl.com/wp-content/uploads/2023/02/Southern-Circuit-Program-of-South-Arts-Black@3x_1.jpg
END:VEVENT
END:VCALENDAR