BEGIN:VCALENDAR
VERSION:2.0
PRODID:-// GoSeeDoATL.com  - ECPv6.15.20//NONSGML v1.0//EN
CALSCALE:GREGORIAN
METHOD:PUBLISH
X-WR-CALNAME: GoSeeDoATL.com 
X-ORIGINAL-URL:https://goseedoatl.com
X-WR-CALDESC:Events for  GoSeeDoATL.com 
REFRESH-INTERVAL;VALUE=DURATION:PT1H
X-Robots-Tag:noindex
X-PUBLISHED-TTL:PT1H
BEGIN:VTIMEZONE
TZID:America/Denver
BEGIN:DAYLIGHT
TZOFFSETFROM:-0700
TZOFFSETTO:-0600
TZNAME:MDT
DTSTART:20230312T090000
END:DAYLIGHT
BEGIN:STANDARD
TZOFFSETFROM:-0600
TZOFFSETTO:-0700
TZNAME:MST
DTSTART:20231105T080000
END:STANDARD
BEGIN:DAYLIGHT
TZOFFSETFROM:-0700
TZOFFSETTO:-0600
TZNAME:MDT
DTSTART:20240310T090000
END:DAYLIGHT
BEGIN:STANDARD
TZOFFSETFROM:-0600
TZOFFSETTO:-0700
TZNAME:MST
DTSTART:20241103T080000
END:STANDARD
BEGIN:DAYLIGHT
TZOFFSETFROM:-0700
TZOFFSETTO:-0600
TZNAME:MDT
DTSTART:20250309T090000
END:DAYLIGHT
BEGIN:STANDARD
TZOFFSETFROM:-0600
TZOFFSETTO:-0700
TZNAME:MST
DTSTART:20251102T080000
END:STANDARD
END:VTIMEZONE
BEGIN:VEVENT
DTSTART;TZID=America/Denver:20241130T140000
DTEND;TZID=America/Denver:20241130T210000
DTSTAMP:20260424T101913
CREATED:20241010T185144Z
LAST-MODIFIED:20241010T185144Z
UID:245384-1732975200-1733000400@goseedoatl.com
SUMMARY:GA Renaissance Festival Fall Fling
DESCRIPTION:A brand-new Festival experience-on Saturdays:  November 2\, 9\, 16\, 23 and 30 plus Saturday December 7\, 2024. Food\, entertainment and artisan’s marketplace. FREE Parking. Rain or shine event from 2-6pm.
URL:https://goseedoatl.com/event/ga-renaissance-festival-fall-fling/2024-11-30/
LOCATION:GA Renaissance Festival Grounds Fairburn
ATTACH;FMTTYPE=image/jpeg:https://goseedoatl.com/wp-content/uploads/2024/10/Fall-Fling-e-scaled.jpg
END:VEVENT
BEGIN:VEVENT
DTSTART;TZID=America/Denver:20241130T140000
DTEND;TZID=America/Denver:20241130T160000
DTSTAMP:20260424T101913
CREATED:20240809T173448Z
LAST-MODIFIED:20240809T173448Z
UID:245231-1732975200-1732982400@goseedoatl.com
SUMMARY:Roald Dahl's Charlie and the Chocolate Factory
DESCRIPTION:Legacy Theatre presents Roald Dahl’s Charlie and the Chocolate Factory-a Broadway and West End musical based on the famous novel and hit movie.
URL:https://goseedoatl.com/event/roald-dahls-charlie-and-the-chocolate-factory/2024-11-30/
LOCATION:The Legacy Theatre\, Tyrone GA
ATTACH;FMTTYPE=image/jpeg:https://goseedoatl.com/wp-content/uploads/2024/08/Charlie-and-Chocolate-I.jpg
END:VEVENT
BEGIN:VEVENT
DTSTART;TZID=America/Denver:20241130T090000
DTEND;TZID=America/Denver:20241130T130000
DTSTAMP:20260424T101913
CREATED:20240817T154630Z
LAST-MODIFIED:20240817T154630Z
UID:245295-1732957200-1732971600@goseedoatl.com
SUMMARY:Peachtree City Farmers Market
DESCRIPTION:Every Wednesday and Saturday from 9am-1pm at Aberdeen Village Shopping Center at 215 Northlake Drive
URL:https://goseedoatl.com/event/peachtree-city-farmers-market/2024-11-30/
LOCATION:215 Northlake Drive  Peachtree City
ATTACH;FMTTYPE=image/jpeg:https://goseedoatl.com/wp-content/uploads/2023/02/Small-PC-Market.jpg
END:VEVENT
BEGIN:VEVENT
DTSTART;TZID=America/Denver:20241129T190000
DTEND;TZID=America/Denver:20241129T210000
DTSTAMP:20260424T101913
CREATED:20240809T173448Z
LAST-MODIFIED:20240809T173448Z
UID:245230-1732906800-1732914000@goseedoatl.com
SUMMARY:Roald Dahl's Charlie and the Chocolate Factory
DESCRIPTION:Legacy Theatre presents Roald Dahl’s Charlie and the Chocolate Factory-a Broadway and West End musical based on the famous novel and hit movie.
URL:https://goseedoatl.com/event/roald-dahls-charlie-and-the-chocolate-factory/2024-11-29/
LOCATION:The Legacy Theatre\, Tyrone GA
ATTACH;FMTTYPE=image/jpeg:https://goseedoatl.com/wp-content/uploads/2024/08/Charlie-and-Chocolate-I.jpg
END:VEVENT
BEGIN:VEVENT
DTSTART;TZID=America/Denver:20241127T160000
DTEND;TZID=America/Denver:20241127T190000
DTSTAMP:20260424T101913
CREATED:20240817T161003Z
LAST-MODIFIED:20240817T161003Z
UID:245357-1732723200-1732734000@goseedoatl.com
SUMMARY:East Point Farmers Market
DESCRIPTION:Every Wednesday from 4-7pm through December 11\, 2024. Downtown Commons-2714 East Point Street.
URL:https://goseedoatl.com/event/east-point-farmers-market/2024-11-27/
LOCATION:Downtown Commons 2714 East Point Street
ATTACH;FMTTYPE=image/jpeg:https://goseedoatl.com/wp-content/uploads/2022/01/5.jpg
END:VEVENT
BEGIN:VEVENT
DTSTART;TZID=America/Denver:20241127T090000
DTEND;TZID=America/Denver:20241127T130000
DTSTAMP:20260424T101913
CREATED:20240817T155140Z
LAST-MODIFIED:20240817T155140Z
UID:245323-1732698000-1732712400@goseedoatl.com
SUMMARY:Peachtree City Farmers Market
DESCRIPTION:Every Wednesday and Saturday from 9am-1pm at Aberdeen Village Shopping Center at 215 Northlake Drive
URL:https://goseedoatl.com/event/peachtree-city-farmers-market-2/2024-11-27/
LOCATION:215 Northlake Drive  Peachtree City
ATTACH;FMTTYPE=image/jpeg:https://goseedoatl.com/wp-content/uploads/2023/02/Small-PC-Market.jpg
END:VEVENT
BEGIN:VEVENT
DTSTART;TZID=America/Denver:20241126T173000
DTEND;TZID=America/Denver:20241126T203000
DTSTAMP:20260424T101913
CREATED:20240809T180631Z
LAST-MODIFIED:20240809T180631Z
UID:245245-1732642200-1732653000@goseedoatl.com
SUMMARY:Hapeville for the Holidays
DESCRIPTION:Join Hapeville for holiday music\, visits with Santa\, games and more on Tuesday\, November 26th. The annual tree lighting is at 8pm.
URL:https://goseedoatl.com/event/hapeville-for-the-holidays-3/
LOCATION:jess lucas y teen park hapeville
ATTACH;FMTTYPE=image/jpeg:https://goseedoatl.com/wp-content/uploads/2023/06/New-Hapeville-logo.jpg
END:VEVENT
BEGIN:VEVENT
DTSTART;TZID=America/Denver:20241124T183000
DTEND;TZID=America/Denver:20241124T210000
DTSTAMP:20260424T101913
CREATED:20240215T200902Z
LAST-MODIFIED:20240215T200902Z
UID:245006-1732473000-1732482000@goseedoatl.com
SUMMARY:Sunday Variety Series at Academy Theatre
DESCRIPTION:Every Sunday at Academy Theatre-Sunday Variety Series featuring a different act each week. Music\, dance\, improv\, magic and more. 599 N Central Avenue in Hapeville. Shows start at 6:30pm.
URL:https://goseedoatl.com/event/sunday-variety-series-at-academy-theatre-2/2024-11-24/
LOCATION:Academy Theatre\, 599 N Central Avenue\, Hapeville\, GA\, 30354\, United States
ATTACH;FMTTYPE=image/png:https://goseedoatl.com/wp-content/uploads/2023/09/Sunday-Series-Academy-Theatre.png
END:VEVENT
BEGIN:VEVENT
DTSTART;TZID=America/Denver:20241123T170000
DTEND;TZID=America/Denver:20241123T190000
DTSTAMP:20260424T101913
CREATED:20241113T181530Z
LAST-MODIFIED:20241113T181530Z
UID:245480-1732381200-1732388400@goseedoatl.com
SUMMARY:Cheryl Evette Booker presents Vessels of Honor
DESCRIPTION:A one-woman show by Cheryl Evette Booker: Vessels of Honor weaves together the inspiring narratives of extraordinary women such as: Ngola Njinga Mbande of present-day Angola\, ‘Aunt’ Clara Brown\, known as the “Angel of the Rockies\,” the pioneering Sara Breedlove\, and Annie Turnbo Malone. 5pm November 23rd at Town Square Playhouse in Fayetteville.
URL:https://goseedoatl.com/event/cheryl-evette-booker-presents-vessels-of-honor/
LOCATION:town square playhouse fayetteville
ATTACH;FMTTYPE=image/jpeg:https://goseedoatl.com/wp-content/uploads/2024/11/C-Booker.jpg
END:VEVENT
BEGIN:VEVENT
DTSTART;TZID=America/Denver:20241123T140000
DTEND;TZID=America/Denver:20241123T210000
DTSTAMP:20260424T101913
CREATED:20241010T185144Z
LAST-MODIFIED:20241010T185144Z
UID:245383-1732370400-1732395600@goseedoatl.com
SUMMARY:GA Renaissance Festival Fall Fling
DESCRIPTION:A brand-new Festival experience-on Saturdays:  November 2\, 9\, 16\, 23 and 30 plus Saturday December 7\, 2024. Food\, entertainment and artisan’s marketplace. FREE Parking. Rain or shine event from 2-6pm.
URL:https://goseedoatl.com/event/ga-renaissance-festival-fall-fling/2024-11-23/
LOCATION:GA Renaissance Festival Grounds Fairburn
ATTACH;FMTTYPE=image/jpeg:https://goseedoatl.com/wp-content/uploads/2024/10/Fall-Fling-e-scaled.jpg
END:VEVENT
BEGIN:VEVENT
DTSTART;TZID=America/Denver:20241123T140000
DTEND;TZID=America/Denver:20241123T160000
DTSTAMP:20260424T101913
CREATED:20240809T173448Z
LAST-MODIFIED:20240809T173448Z
UID:245229-1732370400-1732377600@goseedoatl.com
SUMMARY:Roald Dahl's Charlie and the Chocolate Factory
DESCRIPTION:Legacy Theatre presents Roald Dahl’s Charlie and the Chocolate Factory-a Broadway and West End musical based on the famous novel and hit movie.
URL:https://goseedoatl.com/event/roald-dahls-charlie-and-the-chocolate-factory/2024-11-23/
LOCATION:The Legacy Theatre\, Tyrone GA
ATTACH;FMTTYPE=image/jpeg:https://goseedoatl.com/wp-content/uploads/2024/08/Charlie-and-Chocolate-I.jpg
END:VEVENT
BEGIN:VEVENT
DTSTART;TZID=America/Denver:20241123T090000
DTEND;TZID=America/Denver:20241123T130000
DTSTAMP:20260424T101913
CREATED:20240817T154630Z
LAST-MODIFIED:20240817T154630Z
UID:245294-1732352400-1732366800@goseedoatl.com
SUMMARY:Peachtree City Farmers Market
DESCRIPTION:Every Wednesday and Saturday from 9am-1pm at Aberdeen Village Shopping Center at 215 Northlake Drive
URL:https://goseedoatl.com/event/peachtree-city-farmers-market/2024-11-23/
LOCATION:215 Northlake Drive  Peachtree City
ATTACH;FMTTYPE=image/jpeg:https://goseedoatl.com/wp-content/uploads/2023/02/Small-PC-Market.jpg
END:VEVENT
BEGIN:VEVENT
DTSTART;TZID=America/Denver:20241122T190000
DTEND;TZID=America/Denver:20241122T210000
DTSTAMP:20260424T101913
CREATED:20240809T173448Z
LAST-MODIFIED:20240809T173448Z
UID:245228-1732302000-1732309200@goseedoatl.com
SUMMARY:Roald Dahl's Charlie and the Chocolate Factory
DESCRIPTION:Legacy Theatre presents Roald Dahl’s Charlie and the Chocolate Factory-a Broadway and West End musical based on the famous novel and hit movie.
URL:https://goseedoatl.com/event/roald-dahls-charlie-and-the-chocolate-factory/2024-11-22/
LOCATION:The Legacy Theatre\, Tyrone GA
ATTACH;FMTTYPE=image/jpeg:https://goseedoatl.com/wp-content/uploads/2024/08/Charlie-and-Chocolate-I.jpg
END:VEVENT
BEGIN:VEVENT
DTSTART;TZID=America/Denver:20241121T190000
DTEND;TZID=America/Denver:20241121T210000
DTSTAMP:20260424T101913
CREATED:20241119T165226Z
LAST-MODIFIED:20241119T165226Z
UID:245491-1732215600-1732222800@goseedoatl.com
SUMMARY:City of South Fulton Global South Film Festival
DESCRIPTION:City of South Fulton launches its inaugural Global South Film Festival Monday through Thursday\, November 18-21. A different movie each evening. Film showing begins at 7pm at Southwest Arts Center-915 New Hope Rd SW.
URL:https://goseedoatl.com/event/city-of-south-fulton-global-south-film-festival/2024-11-21/
LOCATION:Southwest Arts Center
ATTACH;FMTTYPE=image/png:https://goseedoatl.com/wp-content/uploads/2024/11/SF-Film-Festival.png
END:VEVENT
BEGIN:VEVENT
DTSTART;TZID=America/Denver:20241120T190000
DTEND;TZID=America/Denver:20241120T210000
DTSTAMP:20260424T101913
CREATED:20241119T165226Z
LAST-MODIFIED:20241119T165226Z
UID:245490-1732129200-1732136400@goseedoatl.com
SUMMARY:City of South Fulton Global South Film Festival
DESCRIPTION:City of South Fulton launches its inaugural Global South Film Festival Monday through Thursday\, November 18-21. A different movie each evening. Film showing begins at 7pm at Southwest Arts Center-915 New Hope Rd SW.
URL:https://goseedoatl.com/event/city-of-south-fulton-global-south-film-festival/2024-11-20/
LOCATION:Southwest Arts Center
ATTACH;FMTTYPE=image/png:https://goseedoatl.com/wp-content/uploads/2024/11/SF-Film-Festival.png
END:VEVENT
BEGIN:VEVENT
DTSTART;TZID=America/Denver:20241120T160000
DTEND;TZID=America/Denver:20241120T190000
DTSTAMP:20260424T101913
CREATED:20240817T161003Z
LAST-MODIFIED:20240817T161003Z
UID:245356-1732118400-1732129200@goseedoatl.com
SUMMARY:East Point Farmers Market
DESCRIPTION:Every Wednesday from 4-7pm through December 11\, 2024. Downtown Commons-2714 East Point Street.
URL:https://goseedoatl.com/event/east-point-farmers-market/2024-11-20/
LOCATION:Downtown Commons 2714 East Point Street
ATTACH;FMTTYPE=image/jpeg:https://goseedoatl.com/wp-content/uploads/2022/01/5.jpg
END:VEVENT
BEGIN:VEVENT
DTSTART;TZID=America/Denver:20241120T090000
DTEND;TZID=America/Denver:20241120T130000
DTSTAMP:20260424T101913
CREATED:20240817T155140Z
LAST-MODIFIED:20240817T155140Z
UID:245322-1732093200-1732107600@goseedoatl.com
SUMMARY:Peachtree City Farmers Market
DESCRIPTION:Every Wednesday and Saturday from 9am-1pm at Aberdeen Village Shopping Center at 215 Northlake Drive
URL:https://goseedoatl.com/event/peachtree-city-farmers-market-2/2024-11-20/
LOCATION:215 Northlake Drive  Peachtree City
ATTACH;FMTTYPE=image/jpeg:https://goseedoatl.com/wp-content/uploads/2023/02/Small-PC-Market.jpg
END:VEVENT
BEGIN:VEVENT
DTSTART;TZID=America/Denver:20241119T190000
DTEND;TZID=America/Denver:20241119T210000
DTSTAMP:20260424T101913
CREATED:20241119T165226Z
LAST-MODIFIED:20241119T165226Z
UID:245488-1732042800-1732050000@goseedoatl.com
SUMMARY:City of South Fulton Global South Film Festival
DESCRIPTION:City of South Fulton launches its inaugural Global South Film Festival Monday through Thursday\, November 18-21. A different movie each evening. Film showing begins at 7pm at Southwest Arts Center-915 New Hope Rd SW.
URL:https://goseedoatl.com/event/city-of-south-fulton-global-south-film-festival/2024-11-19/
LOCATION:Southwest Arts Center
ATTACH;FMTTYPE=image/png:https://goseedoatl.com/wp-content/uploads/2024/11/SF-Film-Festival.png
END:VEVENT
BEGIN:VEVENT
DTSTART;TZID=America/Denver:20241117T183000
DTEND;TZID=America/Denver:20241117T210000
DTSTAMP:20260424T101913
CREATED:20240215T200902Z
LAST-MODIFIED:20240215T200902Z
UID:245005-1731868200-1731877200@goseedoatl.com
SUMMARY:Sunday Variety Series at Academy Theatre
DESCRIPTION:Every Sunday at Academy Theatre-Sunday Variety Series featuring a different act each week. Music\, dance\, improv\, magic and more. 599 N Central Avenue in Hapeville. Shows start at 6:30pm.
URL:https://goseedoatl.com/event/sunday-variety-series-at-academy-theatre-2/2024-11-17/
LOCATION:Academy Theatre\, 599 N Central Avenue\, Hapeville\, GA\, 30354\, United States
ATTACH;FMTTYPE=image/png:https://goseedoatl.com/wp-content/uploads/2023/09/Sunday-Series-Academy-Theatre.png
END:VEVENT
BEGIN:VEVENT
DTSTART;TZID=America/Denver:20241117T140000
DTEND;TZID=America/Denver:20241117T160000
DTSTAMP:20260424T101913
CREATED:20240809T173448Z
LAST-MODIFIED:20240809T173448Z
UID:245227-1731852000-1731859200@goseedoatl.com
SUMMARY:Roald Dahl's Charlie and the Chocolate Factory
DESCRIPTION:Legacy Theatre presents Roald Dahl’s Charlie and the Chocolate Factory-a Broadway and West End musical based on the famous novel and hit movie.
URL:https://goseedoatl.com/event/roald-dahls-charlie-and-the-chocolate-factory/2024-11-17/
LOCATION:The Legacy Theatre\, Tyrone GA
ATTACH;FMTTYPE=image/jpeg:https://goseedoatl.com/wp-content/uploads/2024/08/Charlie-and-Chocolate-I.jpg
END:VEVENT
BEGIN:VEVENT
DTSTART;TZID=America/Denver:20241116T140000
DTEND;TZID=America/Denver:20241116T210000
DTSTAMP:20260424T101913
CREATED:20241010T185144Z
LAST-MODIFIED:20241010T185144Z
UID:245382-1731765600-1731790800@goseedoatl.com
SUMMARY:GA Renaissance Festival Fall Fling
DESCRIPTION:A brand-new Festival experience-on Saturdays:  November 2\, 9\, 16\, 23 and 30 plus Saturday December 7\, 2024. Food\, entertainment and artisan’s marketplace. FREE Parking. Rain or shine event from 2-6pm.
URL:https://goseedoatl.com/event/ga-renaissance-festival-fall-fling/2024-11-16/
LOCATION:GA Renaissance Festival Grounds Fairburn
ATTACH;FMTTYPE=image/jpeg:https://goseedoatl.com/wp-content/uploads/2024/10/Fall-Fling-e-scaled.jpg
END:VEVENT
BEGIN:VEVENT
DTSTART;TZID=America/Denver:20241116T140000
DTEND;TZID=America/Denver:20241116T160000
DTSTAMP:20260424T101913
CREATED:20240809T173448Z
LAST-MODIFIED:20240809T173448Z
UID:245226-1731765600-1731772800@goseedoatl.com
SUMMARY:Roald Dahl's Charlie and the Chocolate Factory
DESCRIPTION:Legacy Theatre presents Roald Dahl’s Charlie and the Chocolate Factory-a Broadway and West End musical based on the famous novel and hit movie.
URL:https://goseedoatl.com/event/roald-dahls-charlie-and-the-chocolate-factory/2024-11-16/
LOCATION:The Legacy Theatre\, Tyrone GA
ATTACH;FMTTYPE=image/jpeg:https://goseedoatl.com/wp-content/uploads/2024/08/Charlie-and-Chocolate-I.jpg
END:VEVENT
BEGIN:VEVENT
DTSTART;TZID=America/Denver:20241116T090000
DTEND;TZID=America/Denver:20241116T130000
DTSTAMP:20260424T101913
CREATED:20240817T154630Z
LAST-MODIFIED:20240817T154630Z
UID:245293-1731747600-1731762000@goseedoatl.com
SUMMARY:Peachtree City Farmers Market
DESCRIPTION:Every Wednesday and Saturday from 9am-1pm at Aberdeen Village Shopping Center at 215 Northlake Drive
URL:https://goseedoatl.com/event/peachtree-city-farmers-market/2024-11-16/
LOCATION:215 Northlake Drive  Peachtree City
ATTACH;FMTTYPE=image/jpeg:https://goseedoatl.com/wp-content/uploads/2023/02/Small-PC-Market.jpg
END:VEVENT
BEGIN:VEVENT
DTSTART;TZID=America/Denver:20241115T190000
DTEND;TZID=America/Denver:20241115T210000
DTSTAMP:20260424T101913
CREATED:20240809T173448Z
LAST-MODIFIED:20240809T173448Z
UID:245225-1731697200-1731704400@goseedoatl.com
SUMMARY:Roald Dahl's Charlie and the Chocolate Factory
DESCRIPTION:Legacy Theatre presents Roald Dahl’s Charlie and the Chocolate Factory-a Broadway and West End musical based on the famous novel and hit movie.
URL:https://goseedoatl.com/event/roald-dahls-charlie-and-the-chocolate-factory/2024-11-15/
LOCATION:The Legacy Theatre\, Tyrone GA
ATTACH;FMTTYPE=image/jpeg:https://goseedoatl.com/wp-content/uploads/2024/08/Charlie-and-Chocolate-I.jpg
END:VEVENT
BEGIN:VEVENT
DTSTART;TZID=America/Denver:20241115T180000
DTEND;TZID=America/Denver:20241115T203000
DTSTAMP:20260424T101913
CREATED:20240809T183932Z
LAST-MODIFIED:20240809T184314Z
UID:245251-1731693600-1731702600@goseedoatl.com
SUMMARY:Southern Circuit of Independent Filmmakers presents the film "Family Tree"
DESCRIPTION:Join us at Historic Christ Church & Carriage House in Hapeville on November 15 for the showing of the movie “Family Tree”. Event starts at 6pm.
URL:https://goseedoatl.com/event/southern-circuit-of-independent-filmmakers-presents-the-film-family-tree/
LOCATION:historic christ church & carriage house hapeville
ATTACH;FMTTYPE=image/jpeg:https://goseedoatl.com/wp-content/uploads/2023/02/Southern-Circuit-Program-of-South-Arts-Black@3x_1.jpg
END:VEVENT
BEGIN:VEVENT
DTSTART;TZID=America/Denver:20241113T160000
DTEND;TZID=America/Denver:20241113T190000
DTSTAMP:20260424T101913
CREATED:20240817T161003Z
LAST-MODIFIED:20240817T161003Z
UID:245355-1731513600-1731524400@goseedoatl.com
SUMMARY:East Point Farmers Market
DESCRIPTION:Every Wednesday from 4-7pm through December 11\, 2024. Downtown Commons-2714 East Point Street.
URL:https://goseedoatl.com/event/east-point-farmers-market/2024-11-13/
LOCATION:Downtown Commons 2714 East Point Street
ATTACH;FMTTYPE=image/jpeg:https://goseedoatl.com/wp-content/uploads/2022/01/5.jpg
END:VEVENT
BEGIN:VEVENT
DTSTART;TZID=America/Denver:20241113T090000
DTEND;TZID=America/Denver:20241113T130000
DTSTAMP:20260424T101913
CREATED:20240817T155140Z
LAST-MODIFIED:20240817T155140Z
UID:245321-1731488400-1731502800@goseedoatl.com
SUMMARY:Peachtree City Farmers Market
DESCRIPTION:Every Wednesday and Saturday from 9am-1pm at Aberdeen Village Shopping Center at 215 Northlake Drive
URL:https://goseedoatl.com/event/peachtree-city-farmers-market-2/2024-11-13/
LOCATION:215 Northlake Drive  Peachtree City
ATTACH;FMTTYPE=image/jpeg:https://goseedoatl.com/wp-content/uploads/2023/02/Small-PC-Market.jpg
END:VEVENT
BEGIN:VEVENT
DTSTART;TZID=America/Denver:20241110T183000
DTEND;TZID=America/Denver:20241110T210000
DTSTAMP:20260424T101913
CREATED:20240215T200902Z
LAST-MODIFIED:20240215T200902Z
UID:245004-1731263400-1731272400@goseedoatl.com
SUMMARY:Sunday Variety Series at Academy Theatre
DESCRIPTION:Every Sunday at Academy Theatre-Sunday Variety Series featuring a different act each week. Music\, dance\, improv\, magic and more. 599 N Central Avenue in Hapeville. Shows start at 6:30pm.
URL:https://goseedoatl.com/event/sunday-variety-series-at-academy-theatre-2/2024-11-10/
LOCATION:Academy Theatre\, 599 N Central Avenue\, Hapeville\, GA\, 30354\, United States
ATTACH;FMTTYPE=image/png:https://goseedoatl.com/wp-content/uploads/2023/09/Sunday-Series-Academy-Theatre.png
END:VEVENT
BEGIN:VEVENT
DTSTART;TZID=America/Denver:20241110T150000
DTEND;TZID=America/Denver:20241110T170000
DTSTAMP:20260424T101913
CREATED:20240528T192534Z
LAST-MODIFIED:20240528T192534Z
UID:244984-1731250800-1731258000@goseedoatl.com
SUMMARY:Clue\, The Musical
DESCRIPTION:Based on the classic board game by Parker Brothers\, this musical will keep you guessing! Book by Peter DePietro\, music by Galen Blum\, Wayne Barker and Vinnie Martucci\, lyrics by Tom Chiodo and directed by Lynna Schmidt. October 25-November 10 at Academy Theatre-599 N Central Avenue in Hapeville.
URL:https://goseedoatl.com/event/clue-the-musical/2024-11-10/
LOCATION:Academy Theatre\, 599 N Central Avenue\, Hapeville\, GA\, 30354\, United States
ATTACH;FMTTYPE=image/jpeg:https://goseedoatl.com/wp-content/uploads/2024/05/Clue-the-musical.jpg
END:VEVENT
BEGIN:VEVENT
DTSTART;TZID=America/Denver:20241110T140000
DTEND;TZID=America/Denver:20241110T160000
DTSTAMP:20260424T101913
CREATED:20240809T173448Z
LAST-MODIFIED:20240809T173448Z
UID:245224-1731247200-1731254400@goseedoatl.com
SUMMARY:Roald Dahl's Charlie and the Chocolate Factory
DESCRIPTION:Legacy Theatre presents Roald Dahl’s Charlie and the Chocolate Factory-a Broadway and West End musical based on the famous novel and hit movie.
URL:https://goseedoatl.com/event/roald-dahls-charlie-and-the-chocolate-factory/2024-11-10/
LOCATION:The Legacy Theatre\, Tyrone GA
ATTACH;FMTTYPE=image/jpeg:https://goseedoatl.com/wp-content/uploads/2024/08/Charlie-and-Chocolate-I.jpg
END:VEVENT
END:VCALENDAR