BEGIN:VCALENDAR
VERSION:2.0
PRODID:-// GoSeeDoATL.com  - ECPv6.15.20//NONSGML v1.0//EN
CALSCALE:GREGORIAN
METHOD:PUBLISH
X-WR-CALNAME: GoSeeDoATL.com 
X-ORIGINAL-URL:https://goseedoatl.com
X-WR-CALDESC:Events for  GoSeeDoATL.com 
REFRESH-INTERVAL;VALUE=DURATION:PT1H
X-Robots-Tag:noindex
X-PUBLISHED-TTL:PT1H
BEGIN:VTIMEZONE
TZID:America/Denver
BEGIN:DAYLIGHT
TZOFFSETFROM:-0700
TZOFFSETTO:-0600
TZNAME:MDT
DTSTART:20250309T090000
END:DAYLIGHT
BEGIN:STANDARD
TZOFFSETFROM:-0600
TZOFFSETTO:-0700
TZNAME:MST
DTSTART:20251102T080000
END:STANDARD
BEGIN:DAYLIGHT
TZOFFSETFROM:-0700
TZOFFSETTO:-0600
TZNAME:MDT
DTSTART:20260308T090000
END:DAYLIGHT
BEGIN:STANDARD
TZOFFSETFROM:-0600
TZOFFSETTO:-0700
TZNAME:MST
DTSTART:20261101T080000
END:STANDARD
BEGIN:DAYLIGHT
TZOFFSETFROM:-0700
TZOFFSETTO:-0600
TZNAME:MDT
DTSTART:20270314T090000
END:DAYLIGHT
BEGIN:STANDARD
TZOFFSETFROM:-0600
TZOFFSETTO:-0700
TZNAME:MST
DTSTART:20271107T080000
END:STANDARD
END:VTIMEZONE
BEGIN:VEVENT
DTSTART;TZID=America/Denver:20260307T193000
DTEND;TZID=America/Denver:20260307T210000
DTSTAMP:20260422T165202
CREATED:20260103T182257Z
LAST-MODIFIED:20260103T182257Z
UID:2049510-1772911800-1772917200@goseedoatl.com
SUMMARY:Southside Sidekicks Improv Show
DESCRIPTION:Enjoy the spontaneous world of improv comedy-these quick-thinking performers create scenes\, characters and stories on the fly-guided by audience suggestions and pure imagination.
URL:https://goseedoatl.com/event/southside-sidekicks-improv-show-2/2026-03-07/
LOCATION:Southside Theatre Guild
ATTACH;FMTTYPE=image/jpeg:https://goseedoatl.com/wp-content/uploads/2023/09/Southside-Theatre-Guild-III.jpg
END:VEVENT
BEGIN:VEVENT
DTSTART;TZID=America/Denver:20260307T090000
DTEND;TZID=America/Denver:20260307T160000
DTSTAMP:20260422T165202
CREATED:20260206T194259Z
LAST-MODIFIED:20260206T194259Z
UID:2049852-1772874000-1772899200@goseedoatl.com
SUMMARY:Tony Young Personal Wellness Inc. 2026 All Star Nationals
DESCRIPTION:Join us for two days of excitement: Tony Young 2026 All Star Nationals Karate tournament featuring team fighting\, musical forms\, point fighting\, traditional forms and more. March 6 & 7 at Welcome All Park Multi-Purpose Facility.
URL:https://goseedoatl.com/event/tony-young-personal-wellness-inc-2026-all-star-nationals/2026-03-07/
LOCATION:Welcome All Park Multi-Purpose Facility\, 4255 Will Lee Road\, South Fulton\, GA\, 30349\, United States
ATTACH;FMTTYPE=image/jpeg:https://goseedoatl.com/wp-content/uploads/2026/02/March-m.jpg
END:VEVENT
BEGIN:VEVENT
DTSTART;TZID=America/Denver:20260306T180000
DTEND;TZID=America/Denver:20260306T210000
DTSTAMP:20260422T165202
CREATED:20260206T194259Z
LAST-MODIFIED:20260206T194259Z
UID:2049850-1772820000-1772830800@goseedoatl.com
SUMMARY:Tony Young Personal Wellness Inc. 2026 All Star Nationals
DESCRIPTION:Join us for two days of excitement: Tony Young 2026 All Star Nationals Karate tournament featuring team fighting\, musical forms\, point fighting\, traditional forms and more. March 6 & 7 at Welcome All Park Multi-Purpose Facility.
URL:https://goseedoatl.com/event/tony-young-personal-wellness-inc-2026-all-star-nationals/2026-03-06/
LOCATION:Welcome All Park Multi-Purpose Facility\, 4255 Will Lee Road\, South Fulton\, GA\, 30349\, United States
ATTACH;FMTTYPE=image/jpeg:https://goseedoatl.com/wp-content/uploads/2026/02/March-m.jpg
END:VEVENT
BEGIN:VEVENT
DTSTART;TZID=America/Denver:20260301T183000
DTEND;TZID=America/Denver:20260301T203000
DTSTAMP:20260422T165202
CREATED:20250829T153215Z
LAST-MODIFIED:20250829T153215Z
UID:1541020-1772389800-1772397000@goseedoatl.com
SUMMARY:Sunday Variety Series at Academy Theatre
DESCRIPTION:Almost every Sunday evening\, Academy Theatre in Hapeville presents different performing artists who take the stage for a night of music\, magic\, improv or other styles of entertainment. Shows start at 6:30pm. Contact the theatre to see who will be performing next.
URL:https://goseedoatl.com/event/sunday-variety-series-at-academy-theatre-3/2026-03-01/
LOCATION:Academy Theatre\, 599 N Central Avenue\, Hapeville\, GA\, 30354\, United States
ATTACH;FMTTYPE=image/png:https://goseedoatl.com/wp-content/uploads/2023/09/Sunday-Series-Academy-Theatre.png
END:VEVENT
BEGIN:VEVENT
DTSTART;TZID=America/Denver:20260301T150000
DTEND;TZID=America/Denver:20260301T170000
DTSTAMP:20260422T165202
CREATED:20260104T003237Z
LAST-MODIFIED:20260104T003237Z
UID:2049727-1772377200-1772384400@goseedoatl.com
SUMMARY:LOVB Atlanta Volleyball
DESCRIPTION:LOVB (League One Volleyball) is back in Atlanta at Gateway Center Arena in College Park. LOVB Atlanta Volleyball hosts LOVB Salt Lake Volleyball.
URL:https://goseedoatl.com/event/lovb-atlanta-volleyball-5/
LOCATION:Gateway Center Arena
ATTACH;FMTTYPE=image/jpeg:https://goseedoatl.com/wp-content/uploads/2026/01/LOVB-ATL-ii-scaled.jpg
END:VEVENT
BEGIN:VEVENT
DTSTART;TZID=America/Denver:20260301T150000
DTEND;TZID=America/Denver:20260301T160000
DTSTAMP:20260422T165202
CREATED:20260103T220510Z
LAST-MODIFIED:20260103T220510Z
UID:2049699-1772377200-1772380800@goseedoatl.com
SUMMARY:The Pure of Heart by John B. Keane: A Co-Production of Refuge & Academy Theatre
DESCRIPTION:THE PURE OF HEART-a short\, hilarious farce. Using a simple roadside setting\, a June night and three characters\, Keane has created a memorable piece of theatre. Directed by John Ammerman
URL:https://goseedoatl.com/event/the-pure-of-heart-by-john-b-keane-a-co-production-of-refuge-academy-theatre/2026-03-01/
LOCATION:Academy Theatre\, 599 N Central Avenue\, Hapeville\, GA\, 30354\, United States
ATTACH;FMTTYPE=image/png:https://goseedoatl.com/wp-content/uploads/2026/01/CountyCorkroad.png
END:VEVENT
BEGIN:VEVENT
DTSTART;TZID=America/Denver:20260228T200000
DTEND;TZID=America/Denver:20260228T210000
DTSTAMP:20260422T165202
CREATED:20260103T220510Z
LAST-MODIFIED:20260103T220510Z
UID:2049698-1772308800-1772312400@goseedoatl.com
SUMMARY:The Pure of Heart by John B. Keane: A Co-Production of Refuge & Academy Theatre
DESCRIPTION:THE PURE OF HEART-a short\, hilarious farce. Using a simple roadside setting\, a June night and three characters\, Keane has created a memorable piece of theatre. Directed by John Ammerman
URL:https://goseedoatl.com/event/the-pure-of-heart-by-john-b-keane-a-co-production-of-refuge-academy-theatre/2026-02-28/
LOCATION:Academy Theatre\, 599 N Central Avenue\, Hapeville\, GA\, 30354\, United States
ATTACH;FMTTYPE=image/png:https://goseedoatl.com/wp-content/uploads/2026/01/CountyCorkroad.png
END:VEVENT
BEGIN:VEVENT
DTSTART;TZID=America/Denver:20260227T200000
DTEND;TZID=America/Denver:20260227T210000
DTSTAMP:20260422T165202
CREATED:20260103T220510Z
LAST-MODIFIED:20260103T220510Z
UID:2049568-1772222400-1772226000@goseedoatl.com
SUMMARY:The Pure of Heart by John B. Keane: A Co-Production of Refuge & Academy Theatre
DESCRIPTION:THE PURE OF HEART-a short\, hilarious farce. Using a simple roadside setting\, a June night and three characters\, Keane has created a memorable piece of theatre. Directed by John Ammerman
URL:https://goseedoatl.com/event/the-pure-of-heart-by-john-b-keane-a-co-production-of-refuge-academy-theatre/2026-02-27/
LOCATION:Academy Theatre\, 599 N Central Avenue\, Hapeville\, GA\, 30354\, United States
ATTACH;FMTTYPE=image/png:https://goseedoatl.com/wp-content/uploads/2026/01/CountyCorkroad.png
END:VEVENT
BEGIN:VEVENT
DTSTART;TZID=America/Denver:20260226T200000
DTEND;TZID=America/Denver:20260226T210000
DTSTAMP:20260422T165202
CREATED:20260103T220510Z
LAST-MODIFIED:20260103T220510Z
UID:2049567-1772136000-1772139600@goseedoatl.com
SUMMARY:The Pure of Heart by John B. Keane: A Co-Production of Refuge & Academy Theatre
DESCRIPTION:THE PURE OF HEART-a short\, hilarious farce. Using a simple roadside setting\, a June night and three characters\, Keane has created a memorable piece of theatre. Directed by John Ammerman
URL:https://goseedoatl.com/event/the-pure-of-heart-by-john-b-keane-a-co-production-of-refuge-academy-theatre/2026-02-26/
LOCATION:Academy Theatre\, 599 N Central Avenue\, Hapeville\, GA\, 30354\, United States
ATTACH;FMTTYPE=image/png:https://goseedoatl.com/wp-content/uploads/2026/01/CountyCorkroad.png
END:VEVENT
BEGIN:VEVENT
DTSTART;TZID=America/Denver:20260222T183000
DTEND;TZID=America/Denver:20260222T203000
DTSTAMP:20260422T165202
CREATED:20250829T153215Z
LAST-MODIFIED:20260206T201527Z
UID:1541019-1771785000-1771792200@goseedoatl.com
SUMMARY:Sunday Variety Series featuring Nathanael Smith Trio in Concert at Academy Theatre
DESCRIPTION:February 22nd-Academy Theatre in Hapeville presents the Nathanael Smith Trio. Show starts at 6:30pm. Contact the theatre for more details.
URL:https://goseedoatl.com/event/sunday-variety-series-at-academy-theatre-3-2026-02-22/
LOCATION:Academy Theatre\, 599 N Central Avenue\, Hapeville\, GA\, 30354\, United States
ATTACH;FMTTYPE=image/jpeg:https://goseedoatl.com/wp-content/uploads/2025/08/N-Smith-Trio.jpg
END:VEVENT
BEGIN:VEVENT
DTSTART;TZID=America/Denver:20260222T143000
DTEND;TZID=America/Denver:20260222T170000
DTSTAMP:20260422T165202
CREATED:20250829T195646Z
LAST-MODIFIED:20250829T204352Z
UID:1541523-1771770600-1771779600@goseedoatl.com
SUMMARY:Escape to Margaritaville at Legacy Theatre
DESCRIPTION:Jimmy Buffett’s Escape to Margaritaville is a musical comedy featuring the most-loved Jimmy Buffett classics and a book by Greg Garcia and Mike O’Malley.
URL:https://goseedoatl.com/event/escape-to-margaritaville-at-legacy-theatre/2026-02-22/
LOCATION:The Legacy Theatre\, Tyrone GA
ATTACH;FMTTYPE=image/png:https://goseedoatl.com/wp-content/uploads/2025/08/Screenshot-2025-08-29-at-16-24-40-Escape-to-Margaritaville-Legacy-Theater.png
END:VEVENT
BEGIN:VEVENT
DTSTART;TZID=America/Denver:20260222T140000
DTEND;TZID=America/Denver:20260222T160000
DTSTAMP:20260422T165202
CREATED:20260104T001532Z
LAST-MODIFIED:20260104T003011Z
UID:2049719-1771768800-1771776000@goseedoatl.com
SUMMARY:LOVB Atlanta Volleyball
DESCRIPTION:LOVB (League One Volleyball) is back in Atlanta at Gateway Center Arena in College Park. LOVB Atlanta Volleyball hosts LOVB Austin Volleyball.
URL:https://goseedoatl.com/event/lovb-atlanta-volleyball-2/
LOCATION:Gateway Center Arena
ATTACH;FMTTYPE=image/jpeg:https://goseedoatl.com/wp-content/uploads/2026/01/LOVB-ATL-ii-scaled.jpg
END:VEVENT
BEGIN:VEVENT
DTSTART;TZID=America/Denver:20260221T200000
DTEND;TZID=America/Denver:20260221T210000
DTSTAMP:20260422T165202
CREATED:20260103T220510Z
LAST-MODIFIED:20260103T220510Z
UID:2049565-1771704000-1771707600@goseedoatl.com
SUMMARY:The Pure of Heart by John B. Keane: A Co-Production of Refuge & Academy Theatre
DESCRIPTION:THE PURE OF HEART-a short\, hilarious farce. Using a simple roadside setting\, a June night and three characters\, Keane has created a memorable piece of theatre. Directed by John Ammerman
URL:https://goseedoatl.com/event/the-pure-of-heart-by-john-b-keane-a-co-production-of-refuge-academy-theatre/2026-02-21/
LOCATION:Academy Theatre\, 599 N Central Avenue\, Hapeville\, GA\, 30354\, United States
ATTACH;FMTTYPE=image/png:https://goseedoatl.com/wp-content/uploads/2026/01/CountyCorkroad.png
END:VEVENT
BEGIN:VEVENT
DTSTART;TZID=America/Denver:20260221T190000
DTEND;TZID=America/Denver:20260221T213000
DTSTAMP:20260422T165202
CREATED:20250829T195646Z
LAST-MODIFIED:20250829T204352Z
UID:1541522-1771700400-1771709400@goseedoatl.com
SUMMARY:Escape to Margaritaville at Legacy Theatre
DESCRIPTION:Jimmy Buffett’s Escape to Margaritaville is a musical comedy featuring the most-loved Jimmy Buffett classics and a book by Greg Garcia and Mike O’Malley.
URL:https://goseedoatl.com/event/escape-to-margaritaville-at-legacy-theatre/2026-02-21/6/
LOCATION:The Legacy Theatre\, Tyrone GA
ATTACH;FMTTYPE=image/png:https://goseedoatl.com/wp-content/uploads/2025/08/Screenshot-2025-08-29-at-16-24-40-Escape-to-Margaritaville-Legacy-Theater.png
END:VEVENT
BEGIN:VEVENT
DTSTART;TZID=America/Denver:20260221T180000
DTEND;TZID=America/Denver:20260221T220000
DTSTAMP:20260422T165202
CREATED:20260103T180014Z
LAST-MODIFIED:20260103T180014Z
UID:2049502-1771696800-1771711200@goseedoatl.com
SUMMARY:Hops in the Hangar
DESCRIPTION:Hops in the Hangar Beer Tasting fundraising event to benefit Delta Flight Museum. Tickets go on sale 9am on 1/9/2026.
URL:https://goseedoatl.com/event/hops-in-the-hangar/
LOCATION:Delta Flight Museum
ATTACH;FMTTYPE=image/jpeg:https://goseedoatl.com/wp-content/uploads/2026/01/hops-in-the-hangar-logo.jpg
END:VEVENT
BEGIN:VEVENT
DTSTART;TZID=America/Denver:20260221T143000
DTEND;TZID=America/Denver:20260221T170000
DTSTAMP:20260422T165202
CREATED:20250829T195646Z
LAST-MODIFIED:20250829T204350Z
UID:1541521-1771684200-1771693200@goseedoatl.com
SUMMARY:Escape to Margaritaville at Legacy Theatre
DESCRIPTION:Jimmy Buffett’s Escape to Margaritaville is a musical comedy featuring the most-loved Jimmy Buffett classics and a book by Greg Garcia and Mike O’Malley.
URL:https://goseedoatl.com/event/escape-to-margaritaville-at-legacy-theatre/2026-02-21/
LOCATION:The Legacy Theatre\, Tyrone GA
ATTACH;FMTTYPE=image/png:https://goseedoatl.com/wp-content/uploads/2025/08/Screenshot-2025-08-29-at-16-24-40-Escape-to-Margaritaville-Legacy-Theater.png
END:VEVENT
BEGIN:VEVENT
DTSTART;TZID=America/Denver:20260220T200000
DTEND;TZID=America/Denver:20260220T210000
DTSTAMP:20260422T165202
CREATED:20260103T220510Z
LAST-MODIFIED:20260103T220510Z
UID:2049562-1771617600-1771621200@goseedoatl.com
SUMMARY:The Pure of Heart by John B. Keane: A Co-Production of Refuge & Academy Theatre
DESCRIPTION:THE PURE OF HEART-a short\, hilarious farce. Using a simple roadside setting\, a June night and three characters\, Keane has created a memorable piece of theatre. Directed by John Ammerman
URL:https://goseedoatl.com/event/the-pure-of-heart-by-john-b-keane-a-co-production-of-refuge-academy-theatre/2026-02-20/
LOCATION:Academy Theatre\, 599 N Central Avenue\, Hapeville\, GA\, 30354\, United States
ATTACH;FMTTYPE=image/png:https://goseedoatl.com/wp-content/uploads/2026/01/CountyCorkroad.png
END:VEVENT
BEGIN:VEVENT
DTSTART;TZID=America/Denver:20260220T190000
DTEND;TZID=America/Denver:20260220T213000
DTSTAMP:20260422T165202
CREATED:20250829T195646Z
LAST-MODIFIED:20250829T204349Z
UID:1541520-1771614000-1771623000@goseedoatl.com
SUMMARY:Escape to Margaritaville at Legacy Theatre
DESCRIPTION:Jimmy Buffett’s Escape to Margaritaville is a musical comedy featuring the most-loved Jimmy Buffett classics and a book by Greg Garcia and Mike O’Malley.
URL:https://goseedoatl.com/event/escape-to-margaritaville-at-legacy-theatre/2026-02-20/
LOCATION:The Legacy Theatre\, Tyrone GA
ATTACH;FMTTYPE=image/png:https://goseedoatl.com/wp-content/uploads/2025/08/Screenshot-2025-08-29-at-16-24-40-Escape-to-Margaritaville-Legacy-Theater.png
END:VEVENT
BEGIN:VEVENT
DTSTART;TZID=America/Denver:20260215T183000
DTEND;TZID=America/Denver:20260215T203000
DTSTAMP:20260422T165202
CREATED:20250829T153215Z
LAST-MODIFIED:20250829T153215Z
UID:1541018-1771180200-1771187400@goseedoatl.com
SUMMARY:Sunday Variety Series at Academy Theatre
DESCRIPTION:Almost every Sunday evening\, Academy Theatre in Hapeville presents different performing artists who take the stage for a night of music\, magic\, improv or other styles of entertainment. Shows start at 6:30pm. Contact the theatre to see who will be performing next.
URL:https://goseedoatl.com/event/sunday-variety-series-at-academy-theatre-3/2026-02-15/
LOCATION:Academy Theatre\, 599 N Central Avenue\, Hapeville\, GA\, 30354\, United States
ATTACH;FMTTYPE=image/png:https://goseedoatl.com/wp-content/uploads/2023/09/Sunday-Series-Academy-Theatre.png
END:VEVENT
BEGIN:VEVENT
DTSTART;TZID=America/Denver:20260215T170000
DTEND;TZID=America/Denver:20260215T190000
DTSTAMP:20260422T165202
CREATED:20260103T190015Z
LAST-MODIFIED:20260103T190015Z
UID:2049515-1771174800-1771182000@goseedoatl.com
SUMMARY:Jazz Matters & Plywood Place Celebrating Women in Jazz
DESCRIPTION:Join us for the Jazz Matters ICON series as we pay tribute to some of the most iconic women in jazz: Ella Fitzgerald\, Nancy Wilson\, Sarah Vaughn\, Natalie Cole and more.
URL:https://goseedoatl.com/event/jazz-matters-plywood-place-celebrating-women-in-jazz/
LOCATION:Plywood Place\, 933 Lee St SW\, Atlanta\, GA\, 30310\, United States
ATTACH;FMTTYPE=image/webp:https://goseedoatl.com/wp-content/uploads/2026/01/REV-CELEBRATING-WOMEN-IN-JAZZ-3.webp
END:VEVENT
BEGIN:VEVENT
DTSTART;TZID=America/Denver:20260215T143000
DTEND;TZID=America/Denver:20260215T170000
DTSTAMP:20260422T165202
CREATED:20250829T195646Z
LAST-MODIFIED:20250829T204348Z
UID:1541519-1771165800-1771174800@goseedoatl.com
SUMMARY:Escape to Margaritaville at Legacy Theatre
DESCRIPTION:Jimmy Buffett’s Escape to Margaritaville is a musical comedy featuring the most-loved Jimmy Buffett classics and a book by Greg Garcia and Mike O’Malley.
URL:https://goseedoatl.com/event/escape-to-margaritaville-at-legacy-theatre/2026-02-15/
LOCATION:The Legacy Theatre\, Tyrone GA
ATTACH;FMTTYPE=image/png:https://goseedoatl.com/wp-content/uploads/2025/08/Screenshot-2025-08-29-at-16-24-40-Escape-to-Margaritaville-Legacy-Theater.png
END:VEVENT
BEGIN:VEVENT
DTSTART;TZID=America/Denver:20260214T190000
DTEND;TZID=America/Denver:20260214T213000
DTSTAMP:20260422T165202
CREATED:20250829T195646Z
LAST-MODIFIED:20250829T204347Z
UID:1541518-1771095600-1771104600@goseedoatl.com
SUMMARY:Escape to Margaritaville at Legacy Theatre
DESCRIPTION:Jimmy Buffett’s Escape to Margaritaville is a musical comedy featuring the most-loved Jimmy Buffett classics and a book by Greg Garcia and Mike O’Malley.
URL:https://goseedoatl.com/event/escape-to-margaritaville-at-legacy-theatre/2026-02-14/5/
LOCATION:The Legacy Theatre\, Tyrone GA
ATTACH;FMTTYPE=image/png:https://goseedoatl.com/wp-content/uploads/2025/08/Screenshot-2025-08-29-at-16-24-40-Escape-to-Margaritaville-Legacy-Theater.png
END:VEVENT
BEGIN:VEVENT
DTSTART;TZID=America/Denver:20260214T143000
DTEND;TZID=America/Denver:20260214T170000
DTSTAMP:20260422T165202
CREATED:20250829T195646Z
LAST-MODIFIED:20250829T204347Z
UID:1541517-1771079400-1771088400@goseedoatl.com
SUMMARY:Escape to Margaritaville at Legacy Theatre
DESCRIPTION:Jimmy Buffett’s Escape to Margaritaville is a musical comedy featuring the most-loved Jimmy Buffett classics and a book by Greg Garcia and Mike O’Malley.
URL:https://goseedoatl.com/event/escape-to-margaritaville-at-legacy-theatre/2026-02-14/
LOCATION:The Legacy Theatre\, Tyrone GA
ATTACH;FMTTYPE=image/png:https://goseedoatl.com/wp-content/uploads/2025/08/Screenshot-2025-08-29-at-16-24-40-Escape-to-Margaritaville-Legacy-Theater.png
END:VEVENT
BEGIN:VEVENT
DTSTART;TZID=America/Denver:20260213T190000
DTEND;TZID=America/Denver:20260213T213000
DTSTAMP:20260422T165202
CREATED:20250829T195646Z
LAST-MODIFIED:20250829T204346Z
UID:1541516-1771009200-1771018200@goseedoatl.com
SUMMARY:Escape to Margaritaville at Legacy Theatre
DESCRIPTION:Jimmy Buffett’s Escape to Margaritaville is a musical comedy featuring the most-loved Jimmy Buffett classics and a book by Greg Garcia and Mike O’Malley.
URL:https://goseedoatl.com/event/escape-to-margaritaville-at-legacy-theatre/2026-02-13/
LOCATION:The Legacy Theatre\, Tyrone GA
ATTACH;FMTTYPE=image/png:https://goseedoatl.com/wp-content/uploads/2025/08/Screenshot-2025-08-29-at-16-24-40-Escape-to-Margaritaville-Legacy-Theater.png
END:VEVENT
BEGIN:VEVENT
DTSTART;TZID=America/Denver:20260211T070000
DTEND;TZID=America/Denver:20260211T160000
DTSTAMP:20260422T165202
CREATED:20260107T144434Z
LAST-MODIFIED:20260107T144434Z
UID:2049732-1770793200-1770825600@goseedoatl.com
SUMMARY:SMDO (South Metro Development Outlook) conference
DESCRIPTION:2026 South Metro Development Outlook conference-bringing together regional leaders\, influencers and stakeholders to discuss fresh perspectives and new opportunities in the region.
URL:https://goseedoatl.com/event/smdo-south-metro-development-outlook-conference/
LOCATION:Georgia International Convention Center
ATTACH;FMTTYPE=image/jpeg:https://goseedoatl.com/wp-content/uploads/2026/01/SMDO-web.jpg
END:VEVENT
BEGIN:VEVENT
DTSTART;TZID=America/Denver:20260208T183000
DTEND;TZID=America/Denver:20260208T203000
DTSTAMP:20260422T165202
CREATED:20260103T215549Z
LAST-MODIFIED:20260103T215549Z
UID:2049559-1770575400-1770582600@goseedoatl.com
SUMMARY:Whose Year Is It Anyway? An Improv Comedy Show
DESCRIPTION:Academy Theatre presents a new comedy improv show: it’s a new year and we’ve new performers and new games and it is still what you think is funny!
URL:https://goseedoatl.com/event/whose-year-is-it-anyway-an-improv-comedy-show/2026-02-08/
LOCATION:Academy Theatre\, 599 N Central Avenue\, Hapeville\, GA\, 30354\, United States
ATTACH;FMTTYPE=image/jpeg:https://goseedoatl.com/wp-content/uploads/2026/01/improvwithme.jpg
END:VEVENT
BEGIN:VEVENT
DTSTART;TZID=America/Denver:20260208T143000
DTEND;TZID=America/Denver:20260208T170000
DTSTAMP:20260422T165202
CREATED:20250829T195646Z
LAST-MODIFIED:20250829T204345Z
UID:1541515-1770561000-1770570000@goseedoatl.com
SUMMARY:Escape to Margaritaville at Legacy Theatre
DESCRIPTION:Jimmy Buffett’s Escape to Margaritaville is a musical comedy featuring the most-loved Jimmy Buffett classics and a book by Greg Garcia and Mike O’Malley.
URL:https://goseedoatl.com/event/escape-to-margaritaville-at-legacy-theatre/2026-02-08/
LOCATION:The Legacy Theatre\, Tyrone GA
ATTACH;FMTTYPE=image/png:https://goseedoatl.com/wp-content/uploads/2025/08/Screenshot-2025-08-29-at-16-24-40-Escape-to-Margaritaville-Legacy-Theater.png
END:VEVENT
BEGIN:VEVENT
DTSTART;TZID=America/Denver:20260207T190000
DTEND;TZID=America/Denver:20260207T213000
DTSTAMP:20260422T165202
CREATED:20250829T195646Z
LAST-MODIFIED:20250829T202649Z
UID:1541481-1770490800-1770499800@goseedoatl.com
SUMMARY:Escape to Margaritaville at Legacy Theatre
DESCRIPTION:Jimmy Buffett’s Escape to Margaritaville is a musical comedy featuring the most-loved Jimmy Buffett classics and a book by Greg Garcia and Mike O’Malley.
URL:https://goseedoatl.com/event/escape-to-margaritaville-at-legacy-theatre/2026-02-07/4/
LOCATION:The Legacy Theatre\, Tyrone GA
ATTACH;FMTTYPE=image/png:https://goseedoatl.com/wp-content/uploads/2025/08/Screenshot-2025-08-29-at-16-24-40-Escape-to-Margaritaville-Legacy-Theater.png
END:VEVENT
BEGIN:VEVENT
DTSTART;TZID=America/Denver:20260207T140000
DTEND;TZID=America/Denver:20260207T170000
DTSTAMP:20260422T165202
CREATED:20250829T195646Z
LAST-MODIFIED:20250829T202648Z
UID:1541480-1770472800-1770483600@goseedoatl.com
SUMMARY:Escape to Margaritaville at Legacy Theatre
DESCRIPTION:Jimmy Buffett’s Escape to Margaritaville is a musical comedy featuring the most-loved Jimmy Buffett classics and a book by Greg Garcia and Mike O’Malley.
URL:https://goseedoatl.com/event/escape-to-margaritaville-at-legacy-theatre/2026-02-07/
LOCATION:The Legacy Theatre\, Tyrone GA
ATTACH;FMTTYPE=image/png:https://goseedoatl.com/wp-content/uploads/2025/08/Screenshot-2025-08-29-at-16-24-40-Escape-to-Margaritaville-Legacy-Theater.png
END:VEVENT
BEGIN:VEVENT
DTSTART;TZID=America/Denver:20260207T113000
DTEND;TZID=America/Denver:20260207T173000
DTSTAMP:20260422T165202
CREATED:20260206T200628Z
LAST-MODIFIED:20260206T200628Z
UID:2049855-1770463800-1770485400@goseedoatl.com
SUMMARY:Hapeville and Academy Theatre Celebrating Black History Month
DESCRIPTION:Join us at Academy Theatre in Hapeville for free events on February 7th from 11:30am-5:30pm. Fulton County Commissioner Mo Ivory’s Town Hall\, Giwayen Mata:The All Sistah Dance\, Vocal\, and Drum Ensemble\, the Dre Antoine Trio and a three actor Romeo & Juliet led by O’Neil Delapenha.
URL:https://goseedoatl.com/event/hapeville-and-academy-theatre-celebrating-black-history-month/
LOCATION:Academy Theatre\, 599 N Central Avenue\, Hapeville\, GA\, 30354\, United States
ATTACH;FMTTYPE=image/jpeg:https://goseedoatl.com/wp-content/uploads/2026/02/BlackHistoryMonth-1024x640-1.jpg
END:VEVENT
END:VCALENDAR