BEGIN:VCALENDAR
VERSION:2.0
PRODID:-// GoSeeDoATL.com  - ECPv6.15.20//NONSGML v1.0//EN
CALSCALE:GREGORIAN
METHOD:PUBLISH
X-WR-CALNAME: GoSeeDoATL.com 
X-ORIGINAL-URL:https://goseedoatl.com
X-WR-CALDESC:Events for  GoSeeDoATL.com 
REFRESH-INTERVAL;VALUE=DURATION:PT1H
X-Robots-Tag:noindex
X-PUBLISHED-TTL:PT1H
BEGIN:VTIMEZONE
TZID:America/Denver
BEGIN:DAYLIGHT
TZOFFSETFROM:-0700
TZOFFSETTO:-0600
TZNAME:MDT
DTSTART:20240310T090000
END:DAYLIGHT
BEGIN:STANDARD
TZOFFSETFROM:-0600
TZOFFSETTO:-0700
TZNAME:MST
DTSTART:20241103T080000
END:STANDARD
BEGIN:DAYLIGHT
TZOFFSETFROM:-0700
TZOFFSETTO:-0600
TZNAME:MDT
DTSTART:20250309T090000
END:DAYLIGHT
BEGIN:STANDARD
TZOFFSETFROM:-0600
TZOFFSETTO:-0700
TZNAME:MST
DTSTART:20251102T080000
END:STANDARD
BEGIN:DAYLIGHT
TZOFFSETFROM:-0700
TZOFFSETTO:-0600
TZNAME:MDT
DTSTART:20260308T090000
END:DAYLIGHT
BEGIN:STANDARD
TZOFFSETFROM:-0600
TZOFFSETTO:-0700
TZNAME:MST
DTSTART:20261101T080000
END:STANDARD
END:VTIMEZONE
BEGIN:VEVENT
DTSTART;TZID=America/Denver:20251221T183000
DTEND;TZID=America/Denver:20251221T203000
DTSTAMP:20260422T170256
CREATED:20250829T153215Z
LAST-MODIFIED:20250829T153215Z
UID:1541009-1766341800-1766349000@goseedoatl.com
SUMMARY:Sunday Variety Series at Academy Theatre
DESCRIPTION:Almost every Sunday evening\, Academy Theatre in Hapeville presents different performing artists who take the stage for a night of music\, magic\, improv or other styles of entertainment. Shows start at 6:30pm. Contact the theatre to see who will be performing next.
URL:https://goseedoatl.com/event/sunday-variety-series-at-academy-theatre-3/2025-12-21/
LOCATION:Academy Theatre\, 599 N Central Avenue\, Hapeville\, GA\, 30354\, United States
ATTACH;FMTTYPE=image/png:https://goseedoatl.com/wp-content/uploads/2023/09/Sunday-Series-Academy-Theatre.png
END:VEVENT
BEGIN:VEVENT
DTSTART;TZID=America/Denver:20251221T140000
DTEND;TZID=America/Denver:20251221T170000
DTSTAMP:20260422T170256
CREATED:20250829T201415Z
LAST-MODIFIED:20250829T201415Z
UID:1541647-1766325600-1766336400@goseedoatl.com
SUMMARY:Legacy Theatre presents Irving Berlin's White Christmas
DESCRIPTION:A musical for audiences of all ages. Two World War II vets have a successful song and dance act. They follow a duo of beautiful singing sisters to a Vermont lodge\, which just happens to be owned by their former Army commander where they put on a holiday entertainment show while falling in love with the sisters.
URL:https://goseedoatl.com/event/legacy-theatre-presents-irving-berlins-white-christmas/2025-12-21/
LOCATION:The Legacy Theatre\, Tyrone GA
ATTACH;FMTTYPE=image/png:https://goseedoatl.com/wp-content/uploads/2025/08/Screenshot-2025-08-29-at-16-12-06-Irving-Berlins-White-Christmas-Legacy-Theater.png
END:VEVENT
BEGIN:VEVENT
DTSTART;TZID=America/Denver:20251220T190000
DTEND;TZID=America/Denver:20251220T213000
DTSTAMP:20260422T170256
CREATED:20250829T201415Z
LAST-MODIFIED:20250829T201415Z
UID:1541646-1766257200-1766266200@goseedoatl.com
SUMMARY:Legacy Theatre presents Irving Berlin's White Christmas
DESCRIPTION:A musical for audiences of all ages. Two World War II vets have a successful song and dance act. They follow a duo of beautiful singing sisters to a Vermont lodge\, which just happens to be owned by their former Army commander where they put on a holiday entertainment show while falling in love with the sisters.
URL:https://goseedoatl.com/event/legacy-theatre-presents-irving-berlins-white-christmas/2025-12-20/7/
LOCATION:The Legacy Theatre\, Tyrone GA
ATTACH;FMTTYPE=image/png:https://goseedoatl.com/wp-content/uploads/2025/08/Screenshot-2025-08-29-at-16-12-06-Irving-Berlins-White-Christmas-Legacy-Theater.png
END:VEVENT
BEGIN:VEVENT
DTSTART;TZID=America/Denver:20251220T140000
DTEND;TZID=America/Denver:20251220T170000
DTSTAMP:20260422T170256
CREATED:20250829T201415Z
LAST-MODIFIED:20250829T201415Z
UID:1541645-1766239200-1766250000@goseedoatl.com
SUMMARY:Legacy Theatre presents Irving Berlin's White Christmas
DESCRIPTION:A musical for audiences of all ages. Two World War II vets have a successful song and dance act. They follow a duo of beautiful singing sisters to a Vermont lodge\, which just happens to be owned by their former Army commander where they put on a holiday entertainment show while falling in love with the sisters.
URL:https://goseedoatl.com/event/legacy-theatre-presents-irving-berlins-white-christmas/2025-12-20/
LOCATION:The Legacy Theatre\, Tyrone GA
ATTACH;FMTTYPE=image/png:https://goseedoatl.com/wp-content/uploads/2025/08/Screenshot-2025-08-29-at-16-12-06-Irving-Berlins-White-Christmas-Legacy-Theater.png
END:VEVENT
BEGIN:VEVENT
DTSTART;TZID=America/Denver:20251219T190000
DTEND;TZID=America/Denver:20251219T213000
DTSTAMP:20260422T170256
CREATED:20250829T201415Z
LAST-MODIFIED:20250829T201415Z
UID:1541644-1766170800-1766179800@goseedoatl.com
SUMMARY:Legacy Theatre presents Irving Berlin's White Christmas
DESCRIPTION:A musical for audiences of all ages. Two World War II vets have a successful song and dance act. They follow a duo of beautiful singing sisters to a Vermont lodge\, which just happens to be owned by their former Army commander where they put on a holiday entertainment show while falling in love with the sisters.
URL:https://goseedoatl.com/event/legacy-theatre-presents-irving-berlins-white-christmas/2025-12-19/
LOCATION:The Legacy Theatre\, Tyrone GA
ATTACH;FMTTYPE=image/png:https://goseedoatl.com/wp-content/uploads/2025/08/Screenshot-2025-08-29-at-16-12-06-Irving-Berlins-White-Christmas-Legacy-Theater.png
END:VEVENT
BEGIN:VEVENT
DTSTART;TZID=America/Denver:20251214T183000
DTEND;TZID=America/Denver:20251214T203000
DTSTAMP:20260422T170256
CREATED:20250829T153215Z
LAST-MODIFIED:20250829T153215Z
UID:1541008-1765737000-1765744200@goseedoatl.com
SUMMARY:Sunday Variety Series at Academy Theatre
DESCRIPTION:Almost every Sunday evening\, Academy Theatre in Hapeville presents different performing artists who take the stage for a night of music\, magic\, improv or other styles of entertainment. Shows start at 6:30pm. Contact the theatre to see who will be performing next.
URL:https://goseedoatl.com/event/sunday-variety-series-at-academy-theatre-3/2025-12-14/
LOCATION:Academy Theatre\, 599 N Central Avenue\, Hapeville\, GA\, 30354\, United States
ATTACH;FMTTYPE=image/png:https://goseedoatl.com/wp-content/uploads/2023/09/Sunday-Series-Academy-Theatre.png
END:VEVENT
BEGIN:VEVENT
DTSTART;TZID=America/Denver:20251214T150000
DTEND;TZID=America/Denver:20251214T170000
DTSTAMP:20260422T170256
CREATED:20250829T190902Z
LAST-MODIFIED:20250829T190902Z
UID:1541273-1765724400-1765731600@goseedoatl.com
SUMMARY:Spivey Hall Children's Choir
DESCRIPTION:The award-winning Spivey Hall Children’s Choir Program proudly presents its annual holiday concert\, featuring the Spivey Hall Young Artists\, the Children’s Choir and the Tour Choir.
URL:https://goseedoatl.com/event/spivey-hall-childrens-choir/2025-12-14/
LOCATION:spivey hall
ATTACH;FMTTYPE=image/jpeg:https://goseedoatl.com/wp-content/uploads/2025/08/Spivey-Hall.jpg
END:VEVENT
BEGIN:VEVENT
DTSTART;TZID=America/Denver:20251214T143000
DTEND;TZID=America/Denver:20251214T170000
DTSTAMP:20260422T170256
CREATED:20250829T191748Z
LAST-MODIFIED:20250829T191748Z
UID:1541300-1765722600-1765731600@goseedoatl.com
SUMMARY:Southside Theatre Guild presents It's A Wonderful Life
DESCRIPTION:
URL:https://goseedoatl.com/event/southside-theatre-guild-presents-its-a-wonderful-life/2025-12-14/
LOCATION:Southside Theatre Guild
ATTACH;FMTTYPE=image/jpeg:https://goseedoatl.com/wp-content/uploads/2025/08/its-a-wonderful-life.jpg
END:VEVENT
BEGIN:VEVENT
DTSTART;TZID=America/Denver:20251214T140000
DTEND;TZID=America/Denver:20251214T170000
DTSTAMP:20260422T170256
CREATED:20250829T201415Z
LAST-MODIFIED:20250829T201415Z
UID:1541643-1765720800-1765731600@goseedoatl.com
SUMMARY:Legacy Theatre presents Irving Berlin's White Christmas
DESCRIPTION:A musical for audiences of all ages. Two World War II vets have a successful song and dance act. They follow a duo of beautiful singing sisters to a Vermont lodge\, which just happens to be owned by their former Army commander where they put on a holiday entertainment show while falling in love with the sisters.
URL:https://goseedoatl.com/event/legacy-theatre-presents-irving-berlins-white-christmas/2025-12-14/
LOCATION:The Legacy Theatre\, Tyrone GA
ATTACH;FMTTYPE=image/png:https://goseedoatl.com/wp-content/uploads/2025/08/Screenshot-2025-08-29-at-16-12-06-Irving-Berlins-White-Christmas-Legacy-Theater.png
END:VEVENT
BEGIN:VEVENT
DTSTART;TZID=America/Denver:20251213T200000
DTEND;TZID=America/Denver:20251213T223000
DTSTAMP:20260422T170256
CREATED:20250829T191748Z
LAST-MODIFIED:20250829T191748Z
UID:1541299-1765656000-1765665000@goseedoatl.com
SUMMARY:Southside Theatre Guild presents It's A Wonderful Life
DESCRIPTION:
URL:https://goseedoatl.com/event/southside-theatre-guild-presents-its-a-wonderful-life/2025-12-13/
LOCATION:Southside Theatre Guild
ATTACH;FMTTYPE=image/jpeg:https://goseedoatl.com/wp-content/uploads/2025/08/its-a-wonderful-life.jpg
END:VEVENT
BEGIN:VEVENT
DTSTART;TZID=America/Denver:20251213T190000
DTEND;TZID=America/Denver:20251213T213000
DTSTAMP:20260422T170256
CREATED:20250829T201415Z
LAST-MODIFIED:20250829T201415Z
UID:1541642-1765652400-1765661400@goseedoatl.com
SUMMARY:Legacy Theatre presents Irving Berlin's White Christmas
DESCRIPTION:A musical for audiences of all ages. Two World War II vets have a successful song and dance act. They follow a duo of beautiful singing sisters to a Vermont lodge\, which just happens to be owned by their former Army commander where they put on a holiday entertainment show while falling in love with the sisters.
URL:https://goseedoatl.com/event/legacy-theatre-presents-irving-berlins-white-christmas/2025-12-13/6/
LOCATION:The Legacy Theatre\, Tyrone GA
ATTACH;FMTTYPE=image/png:https://goseedoatl.com/wp-content/uploads/2025/08/Screenshot-2025-08-29-at-16-12-06-Irving-Berlins-White-Christmas-Legacy-Theater.png
END:VEVENT
BEGIN:VEVENT
DTSTART;TZID=America/Denver:20251213T150000
DTEND;TZID=America/Denver:20251213T170000
DTSTAMP:20260422T170256
CREATED:20250829T190902Z
LAST-MODIFIED:20250829T190902Z
UID:1541256-1765638000-1765645200@goseedoatl.com
SUMMARY:Spivey Hall Children's Choir
DESCRIPTION:The award-winning Spivey Hall Children’s Choir Program proudly presents its annual holiday concert\, featuring the Spivey Hall Young Artists\, the Children’s Choir and the Tour Choir.
URL:https://goseedoatl.com/event/spivey-hall-childrens-choir/2025-12-13/
LOCATION:spivey hall
ATTACH;FMTTYPE=image/jpeg:https://goseedoatl.com/wp-content/uploads/2025/08/Spivey-Hall.jpg
END:VEVENT
BEGIN:VEVENT
DTSTART;TZID=America/Denver:20251213T140000
DTEND;TZID=America/Denver:20251213T170000
DTSTAMP:20260422T170256
CREATED:20250829T201415Z
LAST-MODIFIED:20250829T201415Z
UID:1541640-1765634400-1765645200@goseedoatl.com
SUMMARY:Legacy Theatre presents Irving Berlin's White Christmas
DESCRIPTION:A musical for audiences of all ages. Two World War II vets have a successful song and dance act. They follow a duo of beautiful singing sisters to a Vermont lodge\, which just happens to be owned by their former Army commander where they put on a holiday entertainment show while falling in love with the sisters.
URL:https://goseedoatl.com/event/legacy-theatre-presents-irving-berlins-white-christmas/2025-12-13/
LOCATION:The Legacy Theatre\, Tyrone GA
ATTACH;FMTTYPE=image/png:https://goseedoatl.com/wp-content/uploads/2025/08/Screenshot-2025-08-29-at-16-12-06-Irving-Berlins-White-Christmas-Legacy-Theater.png
END:VEVENT
BEGIN:VEVENT
DTSTART;TZID=America/Denver:20251212T190000
DTEND;TZID=America/Denver:20251212T213000
DTSTAMP:20260422T170256
CREATED:20250829T201415Z
LAST-MODIFIED:20250829T201415Z
UID:1541639-1765566000-1765575000@goseedoatl.com
SUMMARY:Legacy Theatre presents Irving Berlin's White Christmas
DESCRIPTION:A musical for audiences of all ages. Two World War II vets have a successful song and dance act. They follow a duo of beautiful singing sisters to a Vermont lodge\, which just happens to be owned by their former Army commander where they put on a holiday entertainment show while falling in love with the sisters.
URL:https://goseedoatl.com/event/legacy-theatre-presents-irving-berlins-white-christmas/2025-12-12/
LOCATION:The Legacy Theatre\, Tyrone GA
ATTACH;FMTTYPE=image/png:https://goseedoatl.com/wp-content/uploads/2025/08/Screenshot-2025-08-29-at-16-12-06-Irving-Berlins-White-Christmas-Legacy-Theater.png
END:VEVENT
BEGIN:VEVENT
DTSTART;TZID=America/Denver:20251211T200000
DTEND;TZID=America/Denver:20251211T223000
DTSTAMP:20260422T170256
CREATED:20250829T191748Z
LAST-MODIFIED:20250829T191748Z
UID:1541298-1765483200-1765492200@goseedoatl.com
SUMMARY:Southside Theatre Guild presents It's A Wonderful Life
DESCRIPTION:
URL:https://goseedoatl.com/event/southside-theatre-guild-presents-its-a-wonderful-life/2025-12-11/
LOCATION:Southside Theatre Guild
ATTACH;FMTTYPE=image/jpeg:https://goseedoatl.com/wp-content/uploads/2025/08/its-a-wonderful-life.jpg
END:VEVENT
BEGIN:VEVENT
DTSTART;TZID=America/Denver:20251207T183000
DTEND;TZID=America/Denver:20251207T203000
DTSTAMP:20260422T170256
CREATED:20250829T160419Z
LAST-MODIFIED:20250829T160419Z
UID:1540965-1765132200-1765139400@goseedoatl.com
SUMMARY:Gwen Hughes-Jazz of the Holiday Soul
DESCRIPTION:Join us for an amazing holiday evening of joyful jazz and swing music at Academy Theatre in Hapeville. Sunday December 7 from 6:30-8:30pm.
URL:https://goseedoatl.com/event/gwen-hughes-jazz-of-the-holiday-soul/
LOCATION:Academy Theatre\, 599 N Central Avenue\, Hapeville\, GA\, 30354\, United States
ATTACH;FMTTYPE=image/png:https://goseedoatl.com/wp-content/uploads/2025/08/JOTS120725.png
END:VEVENT
BEGIN:VEVENT
DTSTART;TZID=America/Denver:20251207T183000
DTEND;TZID=America/Denver:20251207T203000
DTSTAMP:20260422T170256
CREATED:20250829T153215Z
LAST-MODIFIED:20250829T153215Z
UID:1541006-1765132200-1765139400@goseedoatl.com
SUMMARY:Sunday Variety Series at Academy Theatre
DESCRIPTION:Almost every Sunday evening\, Academy Theatre in Hapeville presents different performing artists who take the stage for a night of music\, magic\, improv or other styles of entertainment. Shows start at 6:30pm. Contact the theatre to see who will be performing next.
URL:https://goseedoatl.com/event/sunday-variety-series-at-academy-theatre-3/2025-12-07/
LOCATION:Academy Theatre\, 599 N Central Avenue\, Hapeville\, GA\, 30354\, United States
ATTACH;FMTTYPE=image/png:https://goseedoatl.com/wp-content/uploads/2023/09/Sunday-Series-Academy-Theatre.png
END:VEVENT
BEGIN:VEVENT
DTSTART;TZID=America/Denver:20251207T143000
DTEND;TZID=America/Denver:20251207T170000
DTSTAMP:20260422T170256
CREATED:20250829T191748Z
LAST-MODIFIED:20250829T191748Z
UID:1541297-1765117800-1765126800@goseedoatl.com
SUMMARY:Southside Theatre Guild presents It's A Wonderful Life
DESCRIPTION:
URL:https://goseedoatl.com/event/southside-theatre-guild-presents-its-a-wonderful-life/2025-12-07/
LOCATION:Southside Theatre Guild
ATTACH;FMTTYPE=image/jpeg:https://goseedoatl.com/wp-content/uploads/2025/08/its-a-wonderful-life.jpg
END:VEVENT
BEGIN:VEVENT
DTSTART;TZID=America/Denver:20251207T140000
DTEND;TZID=America/Denver:20251207T170000
DTSTAMP:20260422T170256
CREATED:20250829T201415Z
LAST-MODIFIED:20250829T201415Z
UID:1541638-1765116000-1765126800@goseedoatl.com
SUMMARY:Legacy Theatre presents Irving Berlin's White Christmas
DESCRIPTION:A musical for audiences of all ages. Two World War II vets have a successful song and dance act. They follow a duo of beautiful singing sisters to a Vermont lodge\, which just happens to be owned by their former Army commander where they put on a holiday entertainment show while falling in love with the sisters.
URL:https://goseedoatl.com/event/legacy-theatre-presents-irving-berlins-white-christmas/2025-12-07/
LOCATION:The Legacy Theatre\, Tyrone GA
ATTACH;FMTTYPE=image/png:https://goseedoatl.com/wp-content/uploads/2025/08/Screenshot-2025-08-29-at-16-12-06-Irving-Berlins-White-Christmas-Legacy-Theater.png
END:VEVENT
BEGIN:VEVENT
DTSTART;TZID=America/Denver:20251206T190000
DTEND;TZID=America/Denver:20251206T213000
DTSTAMP:20260422T170256
CREATED:20250829T201415Z
LAST-MODIFIED:20250829T201415Z
UID:1541637-1765047600-1765056600@goseedoatl.com
SUMMARY:Legacy Theatre presents Irving Berlin's White Christmas
DESCRIPTION:A musical for audiences of all ages. Two World War II vets have a successful song and dance act. They follow a duo of beautiful singing sisters to a Vermont lodge\, which just happens to be owned by their former Army commander where they put on a holiday entertainment show while falling in love with the sisters.
URL:https://goseedoatl.com/event/legacy-theatre-presents-irving-berlins-white-christmas/2025-12-06/5/
LOCATION:The Legacy Theatre\, Tyrone GA
ATTACH;FMTTYPE=image/png:https://goseedoatl.com/wp-content/uploads/2025/08/Screenshot-2025-08-29-at-16-12-06-Irving-Berlins-White-Christmas-Legacy-Theater.png
END:VEVENT
BEGIN:VEVENT
DTSTART;TZID=America/Denver:20251206T143000
DTEND;TZID=America/Denver:20251206T173000
DTSTAMP:20260422T170256
CREATED:20250829T191748Z
LAST-MODIFIED:20250829T191748Z
UID:1541296-1765031400-1765042200@goseedoatl.com
SUMMARY:Southside Theatre Guild presents It's A Wonderful Life
DESCRIPTION:
URL:https://goseedoatl.com/event/southside-theatre-guild-presents-its-a-wonderful-life/2025-12-06/
LOCATION:Southside Theatre Guild
ATTACH;FMTTYPE=image/jpeg:https://goseedoatl.com/wp-content/uploads/2025/08/its-a-wonderful-life.jpg
END:VEVENT
BEGIN:VEVENT
DTSTART;TZID=America/Denver:20251206T140000
DTEND;TZID=America/Denver:20251206T170000
DTSTAMP:20260422T170256
CREATED:20250829T201415Z
LAST-MODIFIED:20250829T201415Z
UID:1541636-1765029600-1765040400@goseedoatl.com
SUMMARY:Legacy Theatre presents Irving Berlin's White Christmas
DESCRIPTION:A musical for audiences of all ages. Two World War II vets have a successful song and dance act. They follow a duo of beautiful singing sisters to a Vermont lodge\, which just happens to be owned by their former Army commander where they put on a holiday entertainment show while falling in love with the sisters.
URL:https://goseedoatl.com/event/legacy-theatre-presents-irving-berlins-white-christmas/2025-12-06/
LOCATION:The Legacy Theatre\, Tyrone GA
ATTACH;FMTTYPE=image/png:https://goseedoatl.com/wp-content/uploads/2025/08/Screenshot-2025-08-29-at-16-12-06-Irving-Berlins-White-Christmas-Legacy-Theater.png
END:VEVENT
BEGIN:VEVENT
DTSTART;TZID=America/Denver:20251205T200000
DTEND;TZID=America/Denver:20251205T223000
DTSTAMP:20260422T170256
CREATED:20250829T191748Z
LAST-MODIFIED:20250829T191748Z
UID:1541295-1764964800-1764973800@goseedoatl.com
SUMMARY:Southside Theatre Guild presents It's A Wonderful Life
DESCRIPTION:
URL:https://goseedoatl.com/event/southside-theatre-guild-presents-its-a-wonderful-life/2025-12-05/
LOCATION:Southside Theatre Guild
ATTACH;FMTTYPE=image/jpeg:https://goseedoatl.com/wp-content/uploads/2025/08/its-a-wonderful-life.jpg
END:VEVENT
BEGIN:VEVENT
DTSTART;TZID=America/Denver:20251205T190000
DTEND;TZID=America/Denver:20251205T213000
DTSTAMP:20260422T170256
CREATED:20250829T201415Z
LAST-MODIFIED:20250829T201415Z
UID:1541635-1764961200-1764970200@goseedoatl.com
SUMMARY:Legacy Theatre presents Irving Berlin's White Christmas
DESCRIPTION:A musical for audiences of all ages. Two World War II vets have a successful song and dance act. They follow a duo of beautiful singing sisters to a Vermont lodge\, which just happens to be owned by their former Army commander where they put on a holiday entertainment show while falling in love with the sisters.
URL:https://goseedoatl.com/event/legacy-theatre-presents-irving-berlins-white-christmas/2025-12-05/
LOCATION:The Legacy Theatre\, Tyrone GA
ATTACH;FMTTYPE=image/png:https://goseedoatl.com/wp-content/uploads/2025/08/Screenshot-2025-08-29-at-16-12-06-Irving-Berlins-White-Christmas-Legacy-Theater.png
END:VEVENT
BEGIN:VEVENT
DTSTART;TZID=America/Denver:20251205T183000
DTEND;TZID=America/Denver:20251205T203000
DTSTAMP:20260422T170256
CREATED:20250829T194112Z
LAST-MODIFIED:20250829T194112Z
UID:1541404-1764959400-1764966600@goseedoatl.com
SUMMARY:Fairburn Tree Lighting and Holiday Celebration
DESCRIPTION:Join us at Frankie Arnold Stage & Courtyard on December 5\, 2025 for Fairburn’s Tree Lighting and Holiday Celebration.
URL:https://goseedoatl.com/event/fairburn-tree-lighting-and-holiday-celebration/
LOCATION:Frankie Arnold Stage & Courtyard
ATTACH;FMTTYPE=image/jpeg:https://goseedoatl.com/wp-content/uploads/2024/08/Fairburn-.jpg
END:VEVENT
BEGIN:VEVENT
DTSTART;TZID=America/Denver:20251204T200000
DTEND;TZID=America/Denver:20251204T223000
DTSTAMP:20260422T170256
CREATED:20250829T191748Z
LAST-MODIFIED:20250829T191748Z
UID:1541275-1764878400-1764887400@goseedoatl.com
SUMMARY:Southside Theatre Guild presents It's A Wonderful Life
DESCRIPTION:
URL:https://goseedoatl.com/event/southside-theatre-guild-presents-its-a-wonderful-life/2025-12-04/
LOCATION:Southside Theatre Guild
ATTACH;FMTTYPE=image/jpeg:https://goseedoatl.com/wp-content/uploads/2025/08/its-a-wonderful-life.jpg
END:VEVENT
BEGIN:VEVENT
DTSTART;TZID=America/Denver:20251130T183000
DTEND;TZID=America/Denver:20251130T203000
DTSTAMP:20260422T170256
CREATED:20250829T153215Z
LAST-MODIFIED:20250829T153215Z
UID:1541005-1764527400-1764534600@goseedoatl.com
SUMMARY:Sunday Variety Series at Academy Theatre
DESCRIPTION:Almost every Sunday evening\, Academy Theatre in Hapeville presents different performing artists who take the stage for a night of music\, magic\, improv or other styles of entertainment. Shows start at 6:30pm. Contact the theatre to see who will be performing next.
URL:https://goseedoatl.com/event/sunday-variety-series-at-academy-theatre-3/2025-11-30/
LOCATION:Academy Theatre\, 599 N Central Avenue\, Hapeville\, GA\, 30354\, United States
ATTACH;FMTTYPE=image/png:https://goseedoatl.com/wp-content/uploads/2023/09/Sunday-Series-Academy-Theatre.png
END:VEVENT
BEGIN:VEVENT
DTSTART;TZID=America/Denver:20251130T140000
DTEND;TZID=America/Denver:20251130T190000
DTSTAMP:20260422T170256
CREATED:20250829T203313Z
LAST-MODIFIED:20250829T203313Z
UID:1541609-1764511200-1764529200@goseedoatl.com
SUMMARY:Tyrone Town Tree Lighting
DESCRIPTION:Sunday November 30th from 2-7pm at Shamrock Park in Tyrone
URL:https://goseedoatl.com/event/tyrone-town-tree-lighting/
LOCATION:Shamrock Park\, Tyrone GA
ATTACH;FMTTYPE=image/png:https://goseedoatl.com/wp-content/uploads/2023/06/logo-top220.png
END:VEVENT
BEGIN:VEVENT
DTSTART;TZID=America/Denver:20251130T140000
DTEND;TZID=America/Denver:20251130T170000
DTSTAMP:20260422T170256
CREATED:20250829T201415Z
LAST-MODIFIED:20250829T201415Z
UID:1541634-1764511200-1764522000@goseedoatl.com
SUMMARY:Legacy Theatre presents Irving Berlin's White Christmas
DESCRIPTION:A musical for audiences of all ages. Two World War II vets have a successful song and dance act. They follow a duo of beautiful singing sisters to a Vermont lodge\, which just happens to be owned by their former Army commander where they put on a holiday entertainment show while falling in love with the sisters.
URL:https://goseedoatl.com/event/legacy-theatre-presents-irving-berlins-white-christmas/2025-11-30/
LOCATION:The Legacy Theatre\, Tyrone GA
ATTACH;FMTTYPE=image/png:https://goseedoatl.com/wp-content/uploads/2025/08/Screenshot-2025-08-29-at-16-12-06-Irving-Berlins-White-Christmas-Legacy-Theater.png
END:VEVENT
BEGIN:VEVENT
DTSTART;TZID=America/Denver:20251129T190000
DTEND;TZID=America/Denver:20251129T213000
DTSTAMP:20260422T170256
CREATED:20250829T201415Z
LAST-MODIFIED:20250829T201415Z
UID:1541549-1764442800-1764451800@goseedoatl.com
SUMMARY:Legacy Theatre presents Irving Berlin's White Christmas
DESCRIPTION:A musical for audiences of all ages. Two World War II vets have a successful song and dance act. They follow a duo of beautiful singing sisters to a Vermont lodge\, which just happens to be owned by their former Army commander where they put on a holiday entertainment show while falling in love with the sisters.
URL:https://goseedoatl.com/event/legacy-theatre-presents-irving-berlins-white-christmas/2025-11-29/4/
LOCATION:The Legacy Theatre\, Tyrone GA
ATTACH;FMTTYPE=image/png:https://goseedoatl.com/wp-content/uploads/2025/08/Screenshot-2025-08-29-at-16-12-06-Irving-Berlins-White-Christmas-Legacy-Theater.png
END:VEVENT
END:VCALENDAR