BEGIN:VCALENDAR
VERSION:2.0
PRODID:-// GoSeeDoATL.com  - ECPv6.15.20//NONSGML v1.0//EN
CALSCALE:GREGORIAN
METHOD:PUBLISH
X-WR-CALNAME: GoSeeDoATL.com 
X-ORIGINAL-URL:https://goseedoatl.com
X-WR-CALDESC:Events for  GoSeeDoATL.com 
REFRESH-INTERVAL;VALUE=DURATION:PT1H
X-Robots-Tag:noindex
X-PUBLISHED-TTL:PT1H
BEGIN:VTIMEZONE
TZID:America/Denver
BEGIN:DAYLIGHT
TZOFFSETFROM:-0700
TZOFFSETTO:-0600
TZNAME:MDT
DTSTART:20230312T090000
END:DAYLIGHT
BEGIN:STANDARD
TZOFFSETFROM:-0600
TZOFFSETTO:-0700
TZNAME:MST
DTSTART:20231105T080000
END:STANDARD
BEGIN:DAYLIGHT
TZOFFSETFROM:-0700
TZOFFSETTO:-0600
TZNAME:MDT
DTSTART:20240310T090000
END:DAYLIGHT
BEGIN:STANDARD
TZOFFSETFROM:-0600
TZOFFSETTO:-0700
TZNAME:MST
DTSTART:20241103T080000
END:STANDARD
BEGIN:DAYLIGHT
TZOFFSETFROM:-0700
TZOFFSETTO:-0600
TZNAME:MDT
DTSTART:20250309T090000
END:DAYLIGHT
BEGIN:STANDARD
TZOFFSETFROM:-0600
TZOFFSETTO:-0700
TZNAME:MST
DTSTART:20251102T080000
END:STANDARD
BEGIN:DAYLIGHT
TZOFFSETFROM:-0700
TZOFFSETTO:-0600
TZNAME:MDT
DTSTART:20260308T090000
END:DAYLIGHT
BEGIN:STANDARD
TZOFFSETFROM:-0600
TZOFFSETTO:-0700
TZNAME:MST
DTSTART:20261101T080000
END:STANDARD
END:VTIMEZONE
BEGIN:VEVENT
DTSTART;TZID=America/Denver:20250222T140000
DTEND;TZID=America/Denver:20250222T170000
DTSTAMP:20260424T040857
CREATED:20250109T211801Z
LAST-MODIFIED:20250109T211801Z
UID:388577-1740232800-1740243600@goseedoatl.com
SUMMARY:Jersey Boys at Legacy Theatre
DESCRIPTION:Winner of Best Musical at both the Tony Awards and the Olivier Awards\, Jersey Boys takes you behind the music of Frankie Valli and the Four Seasons. Get your tickets at Legacy Theatre in Tyrone.
URL:https://goseedoatl.com/event/jersey-boys-at-legacy-theatre/2025-02-22/
LOCATION:The Legacy Theatre\, Tyrone GA
ATTACH;FMTTYPE=image/png:https://goseedoatl.com/wp-content/uploads/2023/09/Legacy-Theatre.png
END:VEVENT
BEGIN:VEVENT
DTSTART;TZID=America/Denver:20250221T190000
DTEND;TZID=America/Denver:20250221T220000
DTSTAMP:20260424T040857
CREATED:20250109T211801Z
LAST-MODIFIED:20250109T211801Z
UID:388576-1740164400-1740175200@goseedoatl.com
SUMMARY:Jersey Boys at Legacy Theatre
DESCRIPTION:Winner of Best Musical at both the Tony Awards and the Olivier Awards\, Jersey Boys takes you behind the music of Frankie Valli and the Four Seasons. Get your tickets at Legacy Theatre in Tyrone.
URL:https://goseedoatl.com/event/jersey-boys-at-legacy-theatre/2025-02-21/
LOCATION:The Legacy Theatre\, Tyrone GA
ATTACH;FMTTYPE=image/png:https://goseedoatl.com/wp-content/uploads/2023/09/Legacy-Theatre.png
END:VEVENT
BEGIN:VEVENT
DTSTART;TZID=America/Denver:20250221T183000
DTEND;TZID=America/Denver:20250221T213000
DTSTAMP:20260424T040857
CREATED:20241023T215124Z
LAST-MODIFIED:20250111T221428Z
UID:245461-1740162600-1740173400@goseedoatl.com
SUMMARY:LOVB Atlanta Volleyball vs LOVB Madison Volleyball
DESCRIPTION:LOVB (League One Volleyball) comes to Atlanta at Gateway Center Arena in College Park. LOVB Atlanta Volleyball hosts LOVB Madison Volleyball.
URL:https://goseedoatl.com/event/lovb-atlanta-volleyball-vs-lovb-madison-volleyball/
LOCATION:Gateway Center Arena
ATTACH;FMTTYPE=image/png:https://goseedoatl.com/wp-content/uploads/2024/10/LOVB-ATL-.png
END:VEVENT
BEGIN:VEVENT
DTSTART;TZID=America/Denver:20250219T180000
DTEND;TZID=America/Denver:20250219T220000
DTSTAMP:20260424T040857
CREATED:20250111T205340Z
LAST-MODIFIED:20250111T205340Z
UID:388754-1739988000-1740002400@goseedoatl.com
SUMMARY:Southern Circuit of Independent Filmmakers presents Home Is A Hotel
DESCRIPTION:FREE event: Wednesday\, February 19th. Historic Christ Church & Carriage House in Hapeville. Reception at 6pm; film showing at 7pm with a Q & A Session with the filmmakers following the film.
URL:https://goseedoatl.com/event/southern-circuit-of-independent-filmmakers-presents-home-is-a-hotel/
LOCATION:historic christ church & carriage house hapeville
ATTACH;FMTTYPE=image/jpeg:https://goseedoatl.com/wp-content/uploads/2023/07/Southern-Circuit-Program-of-South-Arts-Black@3x_1.jpg
END:VEVENT
BEGIN:VEVENT
DTSTART;TZID=America/Denver:20250219T070000
DTEND;TZID=America/Denver:20250219T140000
DTSTAMP:20260424T040857
CREATED:20250111T201611Z
LAST-MODIFIED:20250111T201611Z
UID:388603-1739948400-1739973600@goseedoatl.com
SUMMARY:SMDO 2025 South Metro Development Outlook Conference
DESCRIPTION:Don’t miss the largest development conference in the South Metro region. February 19th from 7am-2pm at the Georgia International Convention Center.
URL:https://goseedoatl.com/event/smdo-2025-south-metro-development-outlook-conference/
LOCATION:Georgia International Convention Center
ATTACH;FMTTYPE=image/jpeg:https://goseedoatl.com/wp-content/uploads/2025/01/SMDO-2025.jpg
END:VEVENT
BEGIN:VEVENT
DTSTART;TZID=America/Denver:20250216T140000
DTEND;TZID=America/Denver:20250216T170000
DTSTAMP:20260424T040857
CREATED:20250109T211801Z
LAST-MODIFIED:20250109T211801Z
UID:388575-1739714400-1739725200@goseedoatl.com
SUMMARY:Jersey Boys at Legacy Theatre
DESCRIPTION:Winner of Best Musical at both the Tony Awards and the Olivier Awards\, Jersey Boys takes you behind the music of Frankie Valli and the Four Seasons. Get your tickets at Legacy Theatre in Tyrone.
URL:https://goseedoatl.com/event/jersey-boys-at-legacy-theatre/2025-02-16/
LOCATION:The Legacy Theatre\, Tyrone GA
ATTACH;FMTTYPE=image/png:https://goseedoatl.com/wp-content/uploads/2023/09/Legacy-Theatre.png
END:VEVENT
BEGIN:VEVENT
DTSTART;TZID=America/Denver:20250216T130000
DTEND;TZID=America/Denver:20250216T180000
DTSTAMP:20260424T040857
CREATED:20250207T213515Z
LAST-MODIFIED:20250207T213515Z
UID:474905-1739710800-1739728800@goseedoatl.com
SUMMARY:Hapeville Celebrates Black History
DESCRIPTION:Honoring the Depth\, Breadth and Diversity of the African American Experience Sunday February 16th from 1-6pm at the Academy Theatre in Hapeville. Event is FREE-featuring live performances. 599 N Central Avenue in Hapeville.
URL:https://goseedoatl.com/event/hapeville-celebrates-black-history/
LOCATION:Academy Theatre\, 599 N Central Avenue\, Hapeville\, GA\, 30354\, United States
ATTACH;FMTTYPE=image/jpeg:https://goseedoatl.com/wp-content/uploads/2025/02/Black-History-2025-Flyer_Page_1.jpg
END:VEVENT
BEGIN:VEVENT
DTSTART;TZID=America/Denver:20250215T190000
DTEND;TZID=America/Denver:20250215T220000
DTSTAMP:20260424T040857
CREATED:20250109T211801Z
LAST-MODIFIED:20250109T211801Z
UID:388574-1739646000-1739656800@goseedoatl.com
SUMMARY:Jersey Boys at Legacy Theatre
DESCRIPTION:Winner of Best Musical at both the Tony Awards and the Olivier Awards\, Jersey Boys takes you behind the music of Frankie Valli and the Four Seasons. Get your tickets at Legacy Theatre in Tyrone.
URL:https://goseedoatl.com/event/jersey-boys-at-legacy-theatre/2025-02-15/3/
LOCATION:The Legacy Theatre\, Tyrone GA
ATTACH;FMTTYPE=image/png:https://goseedoatl.com/wp-content/uploads/2023/09/Legacy-Theatre.png
END:VEVENT
BEGIN:VEVENT
DTSTART;TZID=America/Denver:20250215T140000
DTEND;TZID=America/Denver:20250215T170000
DTSTAMP:20260424T040857
CREATED:20250109T211801Z
LAST-MODIFIED:20250109T211801Z
UID:388573-1739628000-1739638800@goseedoatl.com
SUMMARY:Jersey Boys at Legacy Theatre
DESCRIPTION:Winner of Best Musical at both the Tony Awards and the Olivier Awards\, Jersey Boys takes you behind the music of Frankie Valli and the Four Seasons. Get your tickets at Legacy Theatre in Tyrone.
URL:https://goseedoatl.com/event/jersey-boys-at-legacy-theatre/2025-02-15/
LOCATION:The Legacy Theatre\, Tyrone GA
ATTACH;FMTTYPE=image/png:https://goseedoatl.com/wp-content/uploads/2023/09/Legacy-Theatre.png
END:VEVENT
BEGIN:VEVENT
DTSTART;TZID=America/Denver:20250214T190000
DTEND;TZID=America/Denver:20250214T220000
DTSTAMP:20260424T040857
CREATED:20250109T211801Z
LAST-MODIFIED:20250109T211801Z
UID:388572-1739559600-1739570400@goseedoatl.com
SUMMARY:Jersey Boys at Legacy Theatre
DESCRIPTION:Winner of Best Musical at both the Tony Awards and the Olivier Awards\, Jersey Boys takes you behind the music of Frankie Valli and the Four Seasons. Get your tickets at Legacy Theatre in Tyrone.
URL:https://goseedoatl.com/event/jersey-boys-at-legacy-theatre/2025-02-14/
LOCATION:The Legacy Theatre\, Tyrone GA
ATTACH;FMTTYPE=image/png:https://goseedoatl.com/wp-content/uploads/2023/09/Legacy-Theatre.png
END:VEVENT
BEGIN:VEVENT
DTSTART;TZID=America/Denver:20250209T140000
DTEND;TZID=America/Denver:20250209T170000
DTSTAMP:20260424T040857
CREATED:20250109T211801Z
LAST-MODIFIED:20250109T211801Z
UID:388571-1739109600-1739120400@goseedoatl.com
SUMMARY:Jersey Boys at Legacy Theatre
DESCRIPTION:Winner of Best Musical at both the Tony Awards and the Olivier Awards\, Jersey Boys takes you behind the music of Frankie Valli and the Four Seasons. Get your tickets at Legacy Theatre in Tyrone.
URL:https://goseedoatl.com/event/jersey-boys-at-legacy-theatre/2025-02-09/
LOCATION:The Legacy Theatre\, Tyrone GA
ATTACH;FMTTYPE=image/png:https://goseedoatl.com/wp-content/uploads/2023/09/Legacy-Theatre.png
END:VEVENT
BEGIN:VEVENT
DTSTART;TZID=America/Denver:20250208T190000
DTEND;TZID=America/Denver:20250208T220000
DTSTAMP:20260424T040857
CREATED:20250109T211801Z
LAST-MODIFIED:20250109T211801Z
UID:388570-1739041200-1739052000@goseedoatl.com
SUMMARY:Jersey Boys at Legacy Theatre
DESCRIPTION:Winner of Best Musical at both the Tony Awards and the Olivier Awards\, Jersey Boys takes you behind the music of Frankie Valli and the Four Seasons. Get your tickets at Legacy Theatre in Tyrone.
URL:https://goseedoatl.com/event/jersey-boys-at-legacy-theatre/2025-02-08/2/
LOCATION:The Legacy Theatre\, Tyrone GA
ATTACH;FMTTYPE=image/png:https://goseedoatl.com/wp-content/uploads/2023/09/Legacy-Theatre.png
END:VEVENT
BEGIN:VEVENT
DTSTART;TZID=America/Denver:20250208T140000
DTEND;TZID=America/Denver:20250208T170000
DTSTAMP:20260424T040857
CREATED:20250109T211801Z
LAST-MODIFIED:20250109T211801Z
UID:388569-1739023200-1739034000@goseedoatl.com
SUMMARY:Jersey Boys at Legacy Theatre
DESCRIPTION:Winner of Best Musical at both the Tony Awards and the Olivier Awards\, Jersey Boys takes you behind the music of Frankie Valli and the Four Seasons. Get your tickets at Legacy Theatre in Tyrone.
URL:https://goseedoatl.com/event/jersey-boys-at-legacy-theatre/2025-02-08/
LOCATION:The Legacy Theatre\, Tyrone GA
ATTACH;FMTTYPE=image/png:https://goseedoatl.com/wp-content/uploads/2023/09/Legacy-Theatre.png
END:VEVENT
BEGIN:VEVENT
DTSTART;TZID=America/Denver:20250208T110000
DTEND;TZID=America/Denver:20250208T230000
DTSTAMP:20260424T040857
CREATED:20250207T213034Z
LAST-MODIFIED:20250207T213034Z
UID:474845-1739012400-1739055600@goseedoatl.com
SUMMARY:Grand Opening Chattahoochee The Hangar
DESCRIPTION:Join us at Chattabrewchee The Hangar for the grand opening tomorrow Saturday Feb. 8th from 11am-11pm in Hapeville. Live music\, food trucks and fun. 3361 Dogwood Drive in Hapeville.
URL:https://goseedoatl.com/event/grand-opening-chattahoochee-the-hangar/
LOCATION:Chattabrewchee The Hangar\, 3361 Dogwood Drive\, Hapeville\, GA\, 30354\, United States
ATTACH;FMTTYPE=image/jpeg:https://goseedoatl.com/wp-content/uploads/2025/02/grand-opening-3.jpg
END:VEVENT
BEGIN:VEVENT
DTSTART;TZID=America/Denver:20250207T190000
DTEND;TZID=America/Denver:20250207T220000
DTSTAMP:20260424T040857
CREATED:20250109T211801Z
LAST-MODIFIED:20250109T211801Z
UID:388568-1738954800-1738965600@goseedoatl.com
SUMMARY:Jersey Boys at Legacy Theatre
DESCRIPTION:Winner of Best Musical at both the Tony Awards and the Olivier Awards\, Jersey Boys takes you behind the music of Frankie Valli and the Four Seasons. Get your tickets at Legacy Theatre in Tyrone.
URL:https://goseedoatl.com/event/jersey-boys-at-legacy-theatre/2025-02-07/
LOCATION:The Legacy Theatre\, Tyrone GA
ATTACH;FMTTYPE=image/png:https://goseedoatl.com/wp-content/uploads/2023/09/Legacy-Theatre.png
END:VEVENT
BEGIN:VEVENT
DTSTART;TZID=America/Denver:20250202T140000
DTEND;TZID=America/Denver:20250202T170000
DTSTAMP:20260424T040857
CREATED:20250109T211801Z
LAST-MODIFIED:20250109T211801Z
UID:388567-1738504800-1738515600@goseedoatl.com
SUMMARY:Jersey Boys at Legacy Theatre
DESCRIPTION:Winner of Best Musical at both the Tony Awards and the Olivier Awards\, Jersey Boys takes you behind the music of Frankie Valli and the Four Seasons. Get your tickets at Legacy Theatre in Tyrone.
URL:https://goseedoatl.com/event/jersey-boys-at-legacy-theatre/2025-02-02/
LOCATION:The Legacy Theatre\, Tyrone GA
ATTACH;FMTTYPE=image/png:https://goseedoatl.com/wp-content/uploads/2023/09/Legacy-Theatre.png
END:VEVENT
BEGIN:VEVENT
DTSTART;TZID=America/Denver:20250201T190000
DTEND;TZID=America/Denver:20250201T220000
DTSTAMP:20260424T040857
CREATED:20250109T211801Z
LAST-MODIFIED:20250109T211801Z
UID:388566-1738436400-1738447200@goseedoatl.com
SUMMARY:Jersey Boys at Legacy Theatre
DESCRIPTION:Winner of Best Musical at both the Tony Awards and the Olivier Awards\, Jersey Boys takes you behind the music of Frankie Valli and the Four Seasons. Get your tickets at Legacy Theatre in Tyrone.
URL:https://goseedoatl.com/event/jersey-boys-at-legacy-theatre/2025-02-01/
LOCATION:The Legacy Theatre\, Tyrone GA
ATTACH;FMTTYPE=image/png:https://goseedoatl.com/wp-content/uploads/2023/09/Legacy-Theatre.png
END:VEVENT
BEGIN:VEVENT
DTSTART;TZID=America/Denver:20250201T160000
DTEND;TZID=America/Denver:20250201T220000
DTSTAMP:20260424T040857
CREATED:20241023T214939Z
LAST-MODIFIED:20241023T215934Z
UID:245459-1738425600-1738447200@goseedoatl.com
SUMMARY:LOVB Doubleheader (LOVB Atlanta Volleyball vs LOVB Omaha Volleyball and LOVB Salt Lake Volleyball vs LOVB Austin Volleyball
DESCRIPTION:LOVB (League One Volleyball) comes to Atlanta at Gateway Center Arena in College Park. LOVB Atlanta Volleyball hosts LOVB Omaha Volleyball followed by LOVB Salt Lake vs LOVB Austin.
URL:https://goseedoatl.com/event/lovb-doubleheader-lovb-atlanta-vs-lovb-omaha-and-lovb-salt-lake-vs-lovb-austin/
LOCATION:Gateway Center Arena
END:VEVENT
BEGIN:VEVENT
DTSTART;TZID=America/Denver:20250201T140000
DTEND;TZID=America/Denver:20250201T170000
DTSTAMP:20260424T040857
CREATED:20250109T211801Z
LAST-MODIFIED:20250109T211801Z
UID:388565-1738418400-1738429200@goseedoatl.com
SUMMARY:Jersey Boys at Legacy Theatre
DESCRIPTION:Winner of Best Musical at both the Tony Awards and the Olivier Awards\, Jersey Boys takes you behind the music of Frankie Valli and the Four Seasons. Get your tickets at Legacy Theatre in Tyrone.
URL:https://goseedoatl.com/event/jersey-boys-at-legacy-theatre/2025-02-01/
LOCATION:The Legacy Theatre\, Tyrone GA
ATTACH;FMTTYPE=image/png:https://goseedoatl.com/wp-content/uploads/2023/09/Legacy-Theatre.png
END:VEVENT
BEGIN:VEVENT
DTSTART;TZID=America/Denver:20250131T190000
DTEND;TZID=America/Denver:20250131T220000
DTSTAMP:20260424T040857
CREATED:20250109T211801Z
LAST-MODIFIED:20250109T211801Z
UID:388564-1738350000-1738360800@goseedoatl.com
SUMMARY:Jersey Boys at Legacy Theatre
DESCRIPTION:Winner of Best Musical at both the Tony Awards and the Olivier Awards\, Jersey Boys takes you behind the music of Frankie Valli and the Four Seasons. Get your tickets at Legacy Theatre in Tyrone.
URL:https://goseedoatl.com/event/jersey-boys-at-legacy-theatre/2025-01-31/
LOCATION:The Legacy Theatre\, Tyrone GA
ATTACH;FMTTYPE=image/png:https://goseedoatl.com/wp-content/uploads/2023/09/Legacy-Theatre.png
END:VEVENT
BEGIN:VEVENT
DTSTART;TZID=America/Denver:20250131T183000
DTEND;TZID=America/Denver:20250131T213000
DTSTAMP:20260424T040857
CREATED:20241023T214556Z
LAST-MODIFIED:20250111T221138Z
UID:245457-1738348200-1738359000@goseedoatl.com
SUMMARY:LOVB Atlanta Volleyball vs LOVB Salt Lake Volleyball
DESCRIPTION:LOVB (League One Volleyball) comes to Atlanta at Gateway Center Arena in College Park. LOVB Atlanta Volleyball hosts LOVB Salt Lake Volleyball.
URL:https://goseedoatl.com/event/lovb-atlanta-vs-lovb-salt-lake-2025-01-31/2025-01-31/
LOCATION:Gateway Center Arena
ATTACH;FMTTYPE=image/png:https://goseedoatl.com/wp-content/uploads/2024/10/LOVB-ATL-.png
END:VEVENT
BEGIN:VEVENT
DTSTART;TZID=America/Denver:20250126T183000
DTEND;TZID=America/Denver:20250126T203000
DTSTAMP:20260424T040857
CREATED:20250119T184140Z
LAST-MODIFIED:20250119T193313Z
UID:413540-1737916200-1737923400@goseedoatl.com
SUMMARY:Academy Theatre presents Improvability Theory: Winter Makes Us Content
DESCRIPTION:Academy Theatre’s Improv Troupe presents Improvability Theory: Winter Makes Us Content. This improv troupe takes your tasteful suggestions and turns them into hilarity!
URL:https://goseedoatl.com/event/academy-theatre-presents-improvabiliy-theory-winter-makes-us-content/
LOCATION:Academy Theatre\, 599 N Central Avenue\, Hapeville\, GA\, 30354\, United States
ATTACH;FMTTYPE=image/jpeg:https://goseedoatl.com/wp-content/uploads/2025/01/Improvability-Theory.jpg
END:VEVENT
BEGIN:VEVENT
DTSTART;TZID=America/Denver:20250126T140000
DTEND;TZID=America/Denver:20250126T170000
DTSTAMP:20260424T040857
CREATED:20250109T211801Z
LAST-MODIFIED:20250111T195523Z
UID:381501-1737900000-1737910800@goseedoatl.com
SUMMARY:Jersey Boys at Legacy Theatre
DESCRIPTION:Winner of Best Musical at both the Tony Awards and the Olivier Awards\, Jersey Boys takes you behind the music of Frankie Valli and the Four Seasons. Get your tickets at Legacy Theatre in Tyrone.
URL:https://goseedoatl.com/event/jersey-boys-at-legacy-theatre/2025-01-26/
LOCATION:The Legacy Theatre\, Tyrone GA
ATTACH;FMTTYPE=image/png:https://goseedoatl.com/wp-content/uploads/2023/09/Legacy-Theatre.png
END:VEVENT
BEGIN:VEVENT
DTSTART;TZID=America/Denver:20250125T190000
DTEND;TZID=America/Denver:20250125T220000
DTSTAMP:20260424T040857
CREATED:20250109T211801Z
LAST-MODIFIED:20250109T211801Z
UID:388563-1737831600-1737842400@goseedoatl.com
SUMMARY:Jersey Boys at Legacy Theatre
DESCRIPTION:Winner of Best Musical at both the Tony Awards and the Olivier Awards\, Jersey Boys takes you behind the music of Frankie Valli and the Four Seasons. Get your tickets at Legacy Theatre in Tyrone.
URL:https://goseedoatl.com/event/jersey-boys-at-legacy-theatre/2025-01-25/
LOCATION:The Legacy Theatre\, Tyrone GA
ATTACH;FMTTYPE=image/png:https://goseedoatl.com/wp-content/uploads/2023/09/Legacy-Theatre.png
END:VEVENT
BEGIN:VEVENT
DTSTART;TZID=America/Denver:20250125T140000
DTEND;TZID=America/Denver:20250125T170000
DTSTAMP:20260424T040857
CREATED:20250109T211801Z
LAST-MODIFIED:20250111T195522Z
UID:381500-1737813600-1737824400@goseedoatl.com
SUMMARY:Jersey Boys at Legacy Theatre
DESCRIPTION:Winner of Best Musical at both the Tony Awards and the Olivier Awards\, Jersey Boys takes you behind the music of Frankie Valli and the Four Seasons. Get your tickets at Legacy Theatre in Tyrone.
URL:https://goseedoatl.com/event/jersey-boys-at-legacy-theatre/2025-01-25/
LOCATION:The Legacy Theatre\, Tyrone GA
ATTACH;FMTTYPE=image/png:https://goseedoatl.com/wp-content/uploads/2023/09/Legacy-Theatre.png
END:VEVENT
BEGIN:VEVENT
DTSTART;TZID=America/Denver:20250124T190000
DTEND;TZID=America/Denver:20250124T220000
DTSTAMP:20260424T040857
CREATED:20250109T211801Z
LAST-MODIFIED:20250111T195130Z
UID:381446-1737745200-1737756000@goseedoatl.com
SUMMARY:Jersey Boys at Legacy Theatre
DESCRIPTION:Winner of Best Musical at both the Tony Awards and the Olivier Awards\, Jersey Boys takes you behind the music of Frankie Valli and the Four Seasons. Get your tickets at Legacy Theatre in Tyrone.
URL:https://goseedoatl.com/event/jersey-boys-at-legacy-theatre/2025-01-24/
LOCATION:The Legacy Theatre\, Tyrone GA
ATTACH;FMTTYPE=image/png:https://goseedoatl.com/wp-content/uploads/2023/09/Legacy-Theatre.png
END:VEVENT
BEGIN:VEVENT
DTSTART;TZID=America/Denver:20250108T183000
DTEND;TZID=America/Denver:20250108T213000
DTSTAMP:20260424T040857
CREATED:20241023T214556Z
LAST-MODIFIED:20241023T215711Z
UID:245455-1736361000-1736371800@goseedoatl.com
SUMMARY:LOVB Atlanta Volleyball vs LOVB Salt Lake Volleyball
DESCRIPTION:LOVB (League One Volleyball) comes to Atlanta at Gateway Center Arena in College Park. LOVB Atlanta Volleyball hosts LOVB Salt Lake Volleyball.
URL:https://goseedoatl.com/event/lovb-atlanta-vs-lovb-salt-lake/
LOCATION:Gateway Center Arena
END:VEVENT
BEGIN:VEVENT
DTSTART;TZID=America/Denver:20241229T183000
DTEND;TZID=America/Denver:20241229T210000
DTSTAMP:20260424T040857
CREATED:20240215T200902Z
LAST-MODIFIED:20240215T200902Z
UID:245011-1735497000-1735506000@goseedoatl.com
SUMMARY:Sunday Variety Series at Academy Theatre
DESCRIPTION:Every Sunday at Academy Theatre-Sunday Variety Series featuring a different act each week. Music\, dance\, improv\, magic and more. 599 N Central Avenue in Hapeville. Shows start at 6:30pm.
URL:https://goseedoatl.com/event/sunday-variety-series-at-academy-theatre-2/2024-12-29/
LOCATION:Academy Theatre\, 599 N Central Avenue\, Hapeville\, GA\, 30354\, United States
ATTACH;FMTTYPE=image/png:https://goseedoatl.com/wp-content/uploads/2023/09/Sunday-Series-Academy-Theatre.png
END:VEVENT
BEGIN:VEVENT
DTSTART;TZID=America/Denver:20241228T090000
DTEND;TZID=America/Denver:20241228T130000
DTSTAMP:20260424T040857
CREATED:20240817T154630Z
LAST-MODIFIED:20240817T154630Z
UID:245299-1735376400-1735390800@goseedoatl.com
SUMMARY:Peachtree City Farmers Market
DESCRIPTION:Every Wednesday and Saturday from 9am-1pm at Aberdeen Village Shopping Center at 215 Northlake Drive
URL:https://goseedoatl.com/event/peachtree-city-farmers-market/2024-12-28/
LOCATION:215 Northlake Drive  Peachtree City
ATTACH;FMTTYPE=image/jpeg:https://goseedoatl.com/wp-content/uploads/2023/02/Small-PC-Market.jpg
END:VEVENT
BEGIN:VEVENT
DTSTART;TZID=America/Denver:20241222T183000
DTEND;TZID=America/Denver:20241222T210000
DTSTAMP:20260424T040857
CREATED:20240215T200902Z
LAST-MODIFIED:20240215T200902Z
UID:245010-1734892200-1734901200@goseedoatl.com
SUMMARY:Sunday Variety Series at Academy Theatre
DESCRIPTION:Every Sunday at Academy Theatre-Sunday Variety Series featuring a different act each week. Music\, dance\, improv\, magic and more. 599 N Central Avenue in Hapeville. Shows start at 6:30pm.
URL:https://goseedoatl.com/event/sunday-variety-series-at-academy-theatre-2/2024-12-22/
LOCATION:Academy Theatre\, 599 N Central Avenue\, Hapeville\, GA\, 30354\, United States
ATTACH;FMTTYPE=image/png:https://goseedoatl.com/wp-content/uploads/2023/09/Sunday-Series-Academy-Theatre.png
END:VEVENT
END:VCALENDAR