BEGIN:VCALENDAR
VERSION:2.0
PRODID:-// GoSeeDoATL.com  - ECPv6.15.20//NONSGML v1.0//EN
CALSCALE:GREGORIAN
METHOD:PUBLISH
X-WR-CALNAME: GoSeeDoATL.com 
X-ORIGINAL-URL:https://goseedoatl.com
X-WR-CALDESC:Events for  GoSeeDoATL.com 
REFRESH-INTERVAL;VALUE=DURATION:PT1H
X-Robots-Tag:noindex
X-PUBLISHED-TTL:PT1H
BEGIN:VTIMEZONE
TZID:America/Denver
BEGIN:DAYLIGHT
TZOFFSETFROM:-0700
TZOFFSETTO:-0600
TZNAME:MDT
DTSTART:20230312T090000
END:DAYLIGHT
BEGIN:STANDARD
TZOFFSETFROM:-0600
TZOFFSETTO:-0700
TZNAME:MST
DTSTART:20231105T080000
END:STANDARD
BEGIN:DAYLIGHT
TZOFFSETFROM:-0700
TZOFFSETTO:-0600
TZNAME:MDT
DTSTART:20240310T090000
END:DAYLIGHT
BEGIN:STANDARD
TZOFFSETFROM:-0600
TZOFFSETTO:-0700
TZNAME:MST
DTSTART:20241103T080000
END:STANDARD
BEGIN:DAYLIGHT
TZOFFSETFROM:-0700
TZOFFSETTO:-0600
TZNAME:MDT
DTSTART:20250309T090000
END:DAYLIGHT
BEGIN:STANDARD
TZOFFSETFROM:-0600
TZOFFSETTO:-0700
TZNAME:MST
DTSTART:20251102T080000
END:STANDARD
BEGIN:DAYLIGHT
TZOFFSETFROM:-0700
TZOFFSETTO:-0600
TZNAME:MDT
DTSTART:20260308T090000
END:DAYLIGHT
BEGIN:STANDARD
TZOFFSETFROM:-0600
TZOFFSETTO:-0700
TZNAME:MST
DTSTART:20261101T080000
END:STANDARD
END:VTIMEZONE
BEGIN:VEVENT
DTSTART;TZID=America/Denver:20250131T190000
DTEND;TZID=America/Denver:20250131T220000
DTSTAMP:20260424T031247
CREATED:20250109T211801Z
LAST-MODIFIED:20250109T211801Z
UID:388564-1738350000-1738360800@goseedoatl.com
SUMMARY:Jersey Boys at Legacy Theatre
DESCRIPTION:Winner of Best Musical at both the Tony Awards and the Olivier Awards\, Jersey Boys takes you behind the music of Frankie Valli and the Four Seasons. Get your tickets at Legacy Theatre in Tyrone.
URL:https://goseedoatl.com/event/jersey-boys-at-legacy-theatre/2025-01-31/
LOCATION:The Legacy Theatre\, Tyrone GA
ATTACH;FMTTYPE=image/png:https://goseedoatl.com/wp-content/uploads/2023/09/Legacy-Theatre.png
END:VEVENT
BEGIN:VEVENT
DTSTART;TZID=America/Denver:20250131T183000
DTEND;TZID=America/Denver:20250131T213000
DTSTAMP:20260424T031247
CREATED:20241023T214556Z
LAST-MODIFIED:20250111T221138Z
UID:245457-1738348200-1738359000@goseedoatl.com
SUMMARY:LOVB Atlanta Volleyball vs LOVB Salt Lake Volleyball
DESCRIPTION:LOVB (League One Volleyball) comes to Atlanta at Gateway Center Arena in College Park. LOVB Atlanta Volleyball hosts LOVB Salt Lake Volleyball.
URL:https://goseedoatl.com/event/lovb-atlanta-vs-lovb-salt-lake-2025-01-31/2025-01-31/
LOCATION:Gateway Center Arena
ATTACH;FMTTYPE=image/png:https://goseedoatl.com/wp-content/uploads/2024/10/LOVB-ATL-.png
END:VEVENT
BEGIN:VEVENT
DTSTART;TZID=America/Denver:20250126T183000
DTEND;TZID=America/Denver:20250126T203000
DTSTAMP:20260424T031247
CREATED:20250119T184140Z
LAST-MODIFIED:20250119T193313Z
UID:413540-1737916200-1737923400@goseedoatl.com
SUMMARY:Academy Theatre presents Improvability Theory: Winter Makes Us Content
DESCRIPTION:Academy Theatre’s Improv Troupe presents Improvability Theory: Winter Makes Us Content. This improv troupe takes your tasteful suggestions and turns them into hilarity!
URL:https://goseedoatl.com/event/academy-theatre-presents-improvabiliy-theory-winter-makes-us-content/
LOCATION:Academy Theatre\, 599 N Central Avenue\, Hapeville\, GA\, 30354\, United States
ATTACH;FMTTYPE=image/jpeg:https://goseedoatl.com/wp-content/uploads/2025/01/Improvability-Theory.jpg
END:VEVENT
BEGIN:VEVENT
DTSTART;TZID=America/Denver:20250126T140000
DTEND;TZID=America/Denver:20250126T170000
DTSTAMP:20260424T031247
CREATED:20250109T211801Z
LAST-MODIFIED:20250111T195523Z
UID:381501-1737900000-1737910800@goseedoatl.com
SUMMARY:Jersey Boys at Legacy Theatre
DESCRIPTION:Winner of Best Musical at both the Tony Awards and the Olivier Awards\, Jersey Boys takes you behind the music of Frankie Valli and the Four Seasons. Get your tickets at Legacy Theatre in Tyrone.
URL:https://goseedoatl.com/event/jersey-boys-at-legacy-theatre/2025-01-26/
LOCATION:The Legacy Theatre\, Tyrone GA
ATTACH;FMTTYPE=image/png:https://goseedoatl.com/wp-content/uploads/2023/09/Legacy-Theatre.png
END:VEVENT
BEGIN:VEVENT
DTSTART;TZID=America/Denver:20250125T190000
DTEND;TZID=America/Denver:20250125T220000
DTSTAMP:20260424T031247
CREATED:20250109T211801Z
LAST-MODIFIED:20250109T211801Z
UID:388563-1737831600-1737842400@goseedoatl.com
SUMMARY:Jersey Boys at Legacy Theatre
DESCRIPTION:Winner of Best Musical at both the Tony Awards and the Olivier Awards\, Jersey Boys takes you behind the music of Frankie Valli and the Four Seasons. Get your tickets at Legacy Theatre in Tyrone.
URL:https://goseedoatl.com/event/jersey-boys-at-legacy-theatre/2025-01-25/
LOCATION:The Legacy Theatre\, Tyrone GA
ATTACH;FMTTYPE=image/png:https://goseedoatl.com/wp-content/uploads/2023/09/Legacy-Theatre.png
END:VEVENT
BEGIN:VEVENT
DTSTART;TZID=America/Denver:20250125T140000
DTEND;TZID=America/Denver:20250125T170000
DTSTAMP:20260424T031247
CREATED:20250109T211801Z
LAST-MODIFIED:20250111T195522Z
UID:381500-1737813600-1737824400@goseedoatl.com
SUMMARY:Jersey Boys at Legacy Theatre
DESCRIPTION:Winner of Best Musical at both the Tony Awards and the Olivier Awards\, Jersey Boys takes you behind the music of Frankie Valli and the Four Seasons. Get your tickets at Legacy Theatre in Tyrone.
URL:https://goseedoatl.com/event/jersey-boys-at-legacy-theatre/2025-01-25/
LOCATION:The Legacy Theatre\, Tyrone GA
ATTACH;FMTTYPE=image/png:https://goseedoatl.com/wp-content/uploads/2023/09/Legacy-Theatre.png
END:VEVENT
BEGIN:VEVENT
DTSTART;TZID=America/Denver:20250124T190000
DTEND;TZID=America/Denver:20250124T220000
DTSTAMP:20260424T031247
CREATED:20250109T211801Z
LAST-MODIFIED:20250111T195130Z
UID:381446-1737745200-1737756000@goseedoatl.com
SUMMARY:Jersey Boys at Legacy Theatre
DESCRIPTION:Winner of Best Musical at both the Tony Awards and the Olivier Awards\, Jersey Boys takes you behind the music of Frankie Valli and the Four Seasons. Get your tickets at Legacy Theatre in Tyrone.
URL:https://goseedoatl.com/event/jersey-boys-at-legacy-theatre/2025-01-24/
LOCATION:The Legacy Theatre\, Tyrone GA
ATTACH;FMTTYPE=image/png:https://goseedoatl.com/wp-content/uploads/2023/09/Legacy-Theatre.png
END:VEVENT
BEGIN:VEVENT
DTSTART;TZID=America/Denver:20250108T183000
DTEND;TZID=America/Denver:20250108T213000
DTSTAMP:20260424T031247
CREATED:20241023T214556Z
LAST-MODIFIED:20241023T215711Z
UID:245455-1736361000-1736371800@goseedoatl.com
SUMMARY:LOVB Atlanta Volleyball vs LOVB Salt Lake Volleyball
DESCRIPTION:LOVB (League One Volleyball) comes to Atlanta at Gateway Center Arena in College Park. LOVB Atlanta Volleyball hosts LOVB Salt Lake Volleyball.
URL:https://goseedoatl.com/event/lovb-atlanta-vs-lovb-salt-lake/
LOCATION:Gateway Center Arena
END:VEVENT
BEGIN:VEVENT
DTSTART;TZID=America/Denver:20241229T183000
DTEND;TZID=America/Denver:20241229T210000
DTSTAMP:20260424T031247
CREATED:20240215T200902Z
LAST-MODIFIED:20240215T200902Z
UID:245011-1735497000-1735506000@goseedoatl.com
SUMMARY:Sunday Variety Series at Academy Theatre
DESCRIPTION:Every Sunday at Academy Theatre-Sunday Variety Series featuring a different act each week. Music\, dance\, improv\, magic and more. 599 N Central Avenue in Hapeville. Shows start at 6:30pm.
URL:https://goseedoatl.com/event/sunday-variety-series-at-academy-theatre-2/2024-12-29/
LOCATION:Academy Theatre\, 599 N Central Avenue\, Hapeville\, GA\, 30354\, United States
ATTACH;FMTTYPE=image/png:https://goseedoatl.com/wp-content/uploads/2023/09/Sunday-Series-Academy-Theatre.png
END:VEVENT
BEGIN:VEVENT
DTSTART;TZID=America/Denver:20241228T090000
DTEND;TZID=America/Denver:20241228T130000
DTSTAMP:20260424T031247
CREATED:20240817T154630Z
LAST-MODIFIED:20240817T154630Z
UID:245299-1735376400-1735390800@goseedoatl.com
SUMMARY:Peachtree City Farmers Market
DESCRIPTION:Every Wednesday and Saturday from 9am-1pm at Aberdeen Village Shopping Center at 215 Northlake Drive
URL:https://goseedoatl.com/event/peachtree-city-farmers-market/2024-12-28/
LOCATION:215 Northlake Drive  Peachtree City
ATTACH;FMTTYPE=image/jpeg:https://goseedoatl.com/wp-content/uploads/2023/02/Small-PC-Market.jpg
END:VEVENT
BEGIN:VEVENT
DTSTART;TZID=America/Denver:20241222T183000
DTEND;TZID=America/Denver:20241222T210000
DTSTAMP:20260424T031247
CREATED:20240215T200902Z
LAST-MODIFIED:20240215T200902Z
UID:245010-1734892200-1734901200@goseedoatl.com
SUMMARY:Sunday Variety Series at Academy Theatre
DESCRIPTION:Every Sunday at Academy Theatre-Sunday Variety Series featuring a different act each week. Music\, dance\, improv\, magic and more. 599 N Central Avenue in Hapeville. Shows start at 6:30pm.
URL:https://goseedoatl.com/event/sunday-variety-series-at-academy-theatre-2/2024-12-22/
LOCATION:Academy Theatre\, 599 N Central Avenue\, Hapeville\, GA\, 30354\, United States
ATTACH;FMTTYPE=image/png:https://goseedoatl.com/wp-content/uploads/2023/09/Sunday-Series-Academy-Theatre.png
END:VEVENT
BEGIN:VEVENT
DTSTART;TZID=America/Denver:20241222T150000
DTEND;TZID=America/Denver:20241222T170000
DTSTAMP:20260424T031247
CREATED:20240528T193405Z
LAST-MODIFIED:20240528T193405Z
UID:244995-1734879600-1734886800@goseedoatl.com
SUMMARY:Aladdin and the Magic Lamp
DESCRIPTION:The second panto by Aris Theatre in conjunction with the Academy Theatre. Taking on both Atlanta and the traditional tale: A Sorcerer traps Aladdin in a cave but Aladdin discovers a genie who helps him triumph in life.
URL:https://goseedoatl.com/event/aladdin-and-the-magic-lamp/2024-12-22/
LOCATION:Academy Theatre\, 599 N Central Avenue\, Hapeville\, GA\, 30354\, United States
ATTACH;FMTTYPE=image/png:https://goseedoatl.com/wp-content/uploads/2024/05/aladdin.png
END:VEVENT
BEGIN:VEVENT
DTSTART;TZID=America/Denver:20241221T200000
DTEND;TZID=America/Denver:20241221T220000
DTSTAMP:20260424T031247
CREATED:20240528T193405Z
LAST-MODIFIED:20240528T193405Z
UID:244994-1734811200-1734818400@goseedoatl.com
SUMMARY:Aladdin and the Magic Lamp
DESCRIPTION:The second panto by Aris Theatre in conjunction with the Academy Theatre. Taking on both Atlanta and the traditional tale: A Sorcerer traps Aladdin in a cave but Aladdin discovers a genie who helps him triumph in life.
URL:https://goseedoatl.com/event/aladdin-and-the-magic-lamp/2024-12-21/
LOCATION:Academy Theatre\, 599 N Central Avenue\, Hapeville\, GA\, 30354\, United States
ATTACH;FMTTYPE=image/png:https://goseedoatl.com/wp-content/uploads/2024/05/aladdin.png
END:VEVENT
BEGIN:VEVENT
DTSTART;TZID=America/Denver:20241221T090000
DTEND;TZID=America/Denver:20241221T130000
DTSTAMP:20260424T031247
CREATED:20240817T154630Z
LAST-MODIFIED:20240817T154630Z
UID:245298-1734771600-1734786000@goseedoatl.com
SUMMARY:Peachtree City Farmers Market
DESCRIPTION:Every Wednesday and Saturday from 9am-1pm at Aberdeen Village Shopping Center at 215 Northlake Drive
URL:https://goseedoatl.com/event/peachtree-city-farmers-market/2024-12-21/
LOCATION:215 Northlake Drive  Peachtree City
ATTACH;FMTTYPE=image/jpeg:https://goseedoatl.com/wp-content/uploads/2023/02/Small-PC-Market.jpg
END:VEVENT
BEGIN:VEVENT
DTSTART;TZID=America/Denver:20241220T200000
DTEND;TZID=America/Denver:20241220T220000
DTSTAMP:20260424T031247
CREATED:20240528T193405Z
LAST-MODIFIED:20240528T193405Z
UID:244993-1734724800-1734732000@goseedoatl.com
SUMMARY:Aladdin and the Magic Lamp
DESCRIPTION:The second panto by Aris Theatre in conjunction with the Academy Theatre. Taking on both Atlanta and the traditional tale: A Sorcerer traps Aladdin in a cave but Aladdin discovers a genie who helps him triumph in life.
URL:https://goseedoatl.com/event/aladdin-and-the-magic-lamp/2024-12-20/
LOCATION:Academy Theatre\, 599 N Central Avenue\, Hapeville\, GA\, 30354\, United States
ATTACH;FMTTYPE=image/png:https://goseedoatl.com/wp-content/uploads/2024/05/aladdin.png
END:VEVENT
BEGIN:VEVENT
DTSTART;TZID=America/Denver:20241219T120000
DTEND;TZID=America/Denver:20241219T140000
DTSTAMP:20260424T031247
CREATED:20240926T180555Z
LAST-MODIFIED:20240926T180555Z
UID:245373-1734609600-1734616800@goseedoatl.com
SUMMARY:A Jazzy Holiday Celebration
DESCRIPTION:Join Jazz Matters and The Porter Sanford III Performing Arts & Community Center as they present A Jazzy Holiday Celebration featuring Edwin Williams & Friends. Tickets at www.yesjazzmatters.org
URL:https://goseedoatl.com/event/a-jazzy-holiday-celebration/
LOCATION:The Porter Sanford III Arts & Community Center
ATTACH;FMTTYPE=image/jpeg:https://goseedoatl.com/wp-content/uploads/2024/09/REV2-FINAL-Dec-19-Flyer-2.jpg
END:VEVENT
BEGIN:VEVENT
DTSTART;TZID=America/Denver:20241218T090000
DTEND;TZID=America/Denver:20241218T130000
DTSTAMP:20260424T031247
CREATED:20240817T155140Z
LAST-MODIFIED:20240817T155140Z
UID:245326-1734512400-1734526800@goseedoatl.com
SUMMARY:Peachtree City Farmers Market
DESCRIPTION:Every Wednesday and Saturday from 9am-1pm at Aberdeen Village Shopping Center at 215 Northlake Drive
URL:https://goseedoatl.com/event/peachtree-city-farmers-market-2/2024-12-18/
LOCATION:215 Northlake Drive  Peachtree City
ATTACH;FMTTYPE=image/jpeg:https://goseedoatl.com/wp-content/uploads/2023/02/Small-PC-Market.jpg
END:VEVENT
BEGIN:VEVENT
DTSTART;TZID=America/Denver:20241215T183000
DTEND;TZID=America/Denver:20241215T210000
DTSTAMP:20260424T031247
CREATED:20240215T200902Z
LAST-MODIFIED:20240215T200902Z
UID:245009-1734287400-1734296400@goseedoatl.com
SUMMARY:Sunday Variety Series at Academy Theatre
DESCRIPTION:Every Sunday at Academy Theatre-Sunday Variety Series featuring a different act each week. Music\, dance\, improv\, magic and more. 599 N Central Avenue in Hapeville. Shows start at 6:30pm.
URL:https://goseedoatl.com/event/sunday-variety-series-at-academy-theatre-2/2024-12-15/
LOCATION:Academy Theatre\, 599 N Central Avenue\, Hapeville\, GA\, 30354\, United States
ATTACH;FMTTYPE=image/png:https://goseedoatl.com/wp-content/uploads/2023/09/Sunday-Series-Academy-Theatre.png
END:VEVENT
BEGIN:VEVENT
DTSTART;TZID=America/Denver:20241215T150000
DTEND;TZID=America/Denver:20241215T170000
DTSTAMP:20260424T031247
CREATED:20240528T193405Z
LAST-MODIFIED:20240528T193405Z
UID:244992-1734274800-1734282000@goseedoatl.com
SUMMARY:Aladdin and the Magic Lamp
DESCRIPTION:The second panto by Aris Theatre in conjunction with the Academy Theatre. Taking on both Atlanta and the traditional tale: A Sorcerer traps Aladdin in a cave but Aladdin discovers a genie who helps him triumph in life.
URL:https://goseedoatl.com/event/aladdin-and-the-magic-lamp/2024-12-15/
LOCATION:Academy Theatre\, 599 N Central Avenue\, Hapeville\, GA\, 30354\, United States
ATTACH;FMTTYPE=image/png:https://goseedoatl.com/wp-content/uploads/2024/05/aladdin.png
END:VEVENT
BEGIN:VEVENT
DTSTART;TZID=America/Denver:20241215T140000
DTEND;TZID=America/Denver:20241215T160000
DTSTAMP:20260424T031247
CREATED:20240809T173448Z
LAST-MODIFIED:20240809T173448Z
UID:245239-1734271200-1734278400@goseedoatl.com
SUMMARY:Roald Dahl's Charlie and the Chocolate Factory
DESCRIPTION:Legacy Theatre presents Roald Dahl’s Charlie and the Chocolate Factory-a Broadway and West End musical based on the famous novel and hit movie.
URL:https://goseedoatl.com/event/roald-dahls-charlie-and-the-chocolate-factory/2024-12-15/
LOCATION:The Legacy Theatre\, Tyrone GA
ATTACH;FMTTYPE=image/jpeg:https://goseedoatl.com/wp-content/uploads/2024/08/Charlie-and-Chocolate-I.jpg
END:VEVENT
BEGIN:VEVENT
DTSTART;TZID=America/Denver:20241214T200000
DTEND;TZID=America/Denver:20241214T220000
DTSTAMP:20260424T031247
CREATED:20240528T193405Z
LAST-MODIFIED:20240528T193405Z
UID:244991-1734206400-1734213600@goseedoatl.com
SUMMARY:Aladdin and the Magic Lamp
DESCRIPTION:The second panto by Aris Theatre in conjunction with the Academy Theatre. Taking on both Atlanta and the traditional tale: A Sorcerer traps Aladdin in a cave but Aladdin discovers a genie who helps him triumph in life.
URL:https://goseedoatl.com/event/aladdin-and-the-magic-lamp/2024-12-14/
LOCATION:Academy Theatre\, 599 N Central Avenue\, Hapeville\, GA\, 30354\, United States
ATTACH;FMTTYPE=image/png:https://goseedoatl.com/wp-content/uploads/2024/05/aladdin.png
END:VEVENT
BEGIN:VEVENT
DTSTART;TZID=America/Denver:20241214T140000
DTEND;TZID=America/Denver:20241214T160000
DTSTAMP:20260424T031247
CREATED:20240809T173448Z
LAST-MODIFIED:20240809T173448Z
UID:245238-1734184800-1734192000@goseedoatl.com
SUMMARY:Roald Dahl's Charlie and the Chocolate Factory
DESCRIPTION:Legacy Theatre presents Roald Dahl’s Charlie and the Chocolate Factory-a Broadway and West End musical based on the famous novel and hit movie.
URL:https://goseedoatl.com/event/roald-dahls-charlie-and-the-chocolate-factory/2024-12-14/
LOCATION:The Legacy Theatre\, Tyrone GA
ATTACH;FMTTYPE=image/jpeg:https://goseedoatl.com/wp-content/uploads/2024/08/Charlie-and-Chocolate-I.jpg
END:VEVENT
BEGIN:VEVENT
DTSTART;TZID=America/Denver:20241214T090000
DTEND;TZID=America/Denver:20241214T130000
DTSTAMP:20260424T031247
CREATED:20240817T154630Z
LAST-MODIFIED:20240817T154630Z
UID:245297-1734166800-1734181200@goseedoatl.com
SUMMARY:Peachtree City Farmers Market
DESCRIPTION:Every Wednesday and Saturday from 9am-1pm at Aberdeen Village Shopping Center at 215 Northlake Drive
URL:https://goseedoatl.com/event/peachtree-city-farmers-market/2024-12-14/
LOCATION:215 Northlake Drive  Peachtree City
ATTACH;FMTTYPE=image/jpeg:https://goseedoatl.com/wp-content/uploads/2023/02/Small-PC-Market.jpg
END:VEVENT
BEGIN:VEVENT
DTSTART;TZID=America/Denver:20241213T200000
DTEND;TZID=America/Denver:20241213T220000
DTSTAMP:20260424T031247
CREATED:20240528T193405Z
LAST-MODIFIED:20240528T193405Z
UID:244990-1734120000-1734127200@goseedoatl.com
SUMMARY:Aladdin and the Magic Lamp
DESCRIPTION:The second panto by Aris Theatre in conjunction with the Academy Theatre. Taking on both Atlanta and the traditional tale: A Sorcerer traps Aladdin in a cave but Aladdin discovers a genie who helps him triumph in life.
URL:https://goseedoatl.com/event/aladdin-and-the-magic-lamp/2024-12-13/
LOCATION:Academy Theatre\, 599 N Central Avenue\, Hapeville\, GA\, 30354\, United States
ATTACH;FMTTYPE=image/png:https://goseedoatl.com/wp-content/uploads/2024/05/aladdin.png
END:VEVENT
BEGIN:VEVENT
DTSTART;TZID=America/Denver:20241213T190000
DTEND;TZID=America/Denver:20241213T210000
DTSTAMP:20260424T031247
CREATED:20240809T173448Z
LAST-MODIFIED:20240809T173448Z
UID:245237-1734116400-1734123600@goseedoatl.com
SUMMARY:Roald Dahl's Charlie and the Chocolate Factory
DESCRIPTION:Legacy Theatre presents Roald Dahl’s Charlie and the Chocolate Factory-a Broadway and West End musical based on the famous novel and hit movie.
URL:https://goseedoatl.com/event/roald-dahls-charlie-and-the-chocolate-factory/2024-12-13/
LOCATION:The Legacy Theatre\, Tyrone GA
ATTACH;FMTTYPE=image/jpeg:https://goseedoatl.com/wp-content/uploads/2024/08/Charlie-and-Chocolate-I.jpg
END:VEVENT
BEGIN:VEVENT
DTSTART;TZID=America/Denver:20241211T160000
DTEND;TZID=America/Denver:20241211T190000
DTSTAMP:20260424T031247
CREATED:20240817T161003Z
LAST-MODIFIED:20240817T161003Z
UID:245359-1733932800-1733943600@goseedoatl.com
SUMMARY:East Point Farmers Market
DESCRIPTION:Every Wednesday from 4-7pm through December 11\, 2024. Downtown Commons-2714 East Point Street.
URL:https://goseedoatl.com/event/east-point-farmers-market/2024-12-11/
LOCATION:Downtown Commons 2714 East Point Street
ATTACH;FMTTYPE=image/jpeg:https://goseedoatl.com/wp-content/uploads/2022/01/5.jpg
END:VEVENT
BEGIN:VEVENT
DTSTART;TZID=America/Denver:20241211T090000
DTEND;TZID=America/Denver:20241211T130000
DTSTAMP:20260424T031247
CREATED:20240817T155140Z
LAST-MODIFIED:20240817T155140Z
UID:245325-1733907600-1733922000@goseedoatl.com
SUMMARY:Peachtree City Farmers Market
DESCRIPTION:Every Wednesday and Saturday from 9am-1pm at Aberdeen Village Shopping Center at 215 Northlake Drive
URL:https://goseedoatl.com/event/peachtree-city-farmers-market-2/2024-12-11/
LOCATION:215 Northlake Drive  Peachtree City
ATTACH;FMTTYPE=image/jpeg:https://goseedoatl.com/wp-content/uploads/2023/02/Small-PC-Market.jpg
END:VEVENT
BEGIN:VEVENT
DTSTART;TZID=America/Denver:20241208T183000
DTEND;TZID=America/Denver:20241208T210000
DTSTAMP:20260424T031247
CREATED:20240215T200902Z
LAST-MODIFIED:20240215T200902Z
UID:245008-1733682600-1733691600@goseedoatl.com
SUMMARY:Sunday Variety Series at Academy Theatre
DESCRIPTION:Every Sunday at Academy Theatre-Sunday Variety Series featuring a different act each week. Music\, dance\, improv\, magic and more. 599 N Central Avenue in Hapeville. Shows start at 6:30pm.
URL:https://goseedoatl.com/event/sunday-variety-series-at-academy-theatre-2/2024-12-08/
LOCATION:Academy Theatre\, 599 N Central Avenue\, Hapeville\, GA\, 30354\, United States
ATTACH;FMTTYPE=image/png:https://goseedoatl.com/wp-content/uploads/2023/09/Sunday-Series-Academy-Theatre.png
END:VEVENT
BEGIN:VEVENT
DTSTART;TZID=America/Denver:20241208T150000
DTEND;TZID=America/Denver:20241208T170000
DTSTAMP:20260424T031247
CREATED:20240528T193405Z
LAST-MODIFIED:20240528T193405Z
UID:244989-1733670000-1733677200@goseedoatl.com
SUMMARY:Aladdin and the Magic Lamp
DESCRIPTION:The second panto by Aris Theatre in conjunction with the Academy Theatre. Taking on both Atlanta and the traditional tale: A Sorcerer traps Aladdin in a cave but Aladdin discovers a genie who helps him triumph in life.
URL:https://goseedoatl.com/event/aladdin-and-the-magic-lamp/2024-12-08/
LOCATION:Academy Theatre\, 599 N Central Avenue\, Hapeville\, GA\, 30354\, United States
ATTACH;FMTTYPE=image/png:https://goseedoatl.com/wp-content/uploads/2024/05/aladdin.png
END:VEVENT
BEGIN:VEVENT
DTSTART;TZID=America/Denver:20241208T140000
DTEND;TZID=America/Denver:20241208T160000
DTSTAMP:20260424T031247
CREATED:20240809T173448Z
LAST-MODIFIED:20240809T173448Z
UID:245236-1733666400-1733673600@goseedoatl.com
SUMMARY:Roald Dahl's Charlie and the Chocolate Factory
DESCRIPTION:Legacy Theatre presents Roald Dahl’s Charlie and the Chocolate Factory-a Broadway and West End musical based on the famous novel and hit movie.
URL:https://goseedoatl.com/event/roald-dahls-charlie-and-the-chocolate-factory/2024-12-08/
LOCATION:The Legacy Theatre\, Tyrone GA
ATTACH;FMTTYPE=image/jpeg:https://goseedoatl.com/wp-content/uploads/2024/08/Charlie-and-Chocolate-I.jpg
END:VEVENT
END:VCALENDAR