BEGIN:VCALENDAR
VERSION:2.0
PRODID:-// GoSeeDoATL.com  - ECPv6.15.20//NONSGML v1.0//EN
CALSCALE:GREGORIAN
METHOD:PUBLISH
X-WR-CALNAME: GoSeeDoATL.com 
X-ORIGINAL-URL:https://goseedoatl.com
X-WR-CALDESC:Events for  GoSeeDoATL.com 
REFRESH-INTERVAL;VALUE=DURATION:PT1H
X-Robots-Tag:noindex
X-PUBLISHED-TTL:PT1H
BEGIN:VTIMEZONE
TZID:America/Denver
BEGIN:DAYLIGHT
TZOFFSETFROM:-0700
TZOFFSETTO:-0600
TZNAME:MDT
DTSTART:20240310T090000
END:DAYLIGHT
BEGIN:STANDARD
TZOFFSETFROM:-0600
TZOFFSETTO:-0700
TZNAME:MST
DTSTART:20241103T080000
END:STANDARD
BEGIN:DAYLIGHT
TZOFFSETFROM:-0700
TZOFFSETTO:-0600
TZNAME:MDT
DTSTART:20250309T090000
END:DAYLIGHT
BEGIN:STANDARD
TZOFFSETFROM:-0600
TZOFFSETTO:-0700
TZNAME:MST
DTSTART:20251102T080000
END:STANDARD
BEGIN:DAYLIGHT
TZOFFSETFROM:-0700
TZOFFSETTO:-0600
TZNAME:MDT
DTSTART:20260308T090000
END:DAYLIGHT
BEGIN:STANDARD
TZOFFSETFROM:-0600
TZOFFSETTO:-0700
TZNAME:MST
DTSTART:20261101T080000
END:STANDARD
END:VTIMEZONE
BEGIN:VEVENT
DTSTART;TZID=America/Denver:20250615T150000
DTEND;TZID=America/Denver:20250615T173000
DTSTAMP:20260423T152549
CREATED:20250421T204045Z
LAST-MODIFIED:20250421T204045Z
UID:1011116-1749999600-1750008600@goseedoatl.com
SUMMARY:Midsummer: A Staged Reading with Music presented with Aris Theatre
DESCRIPTION:Academy Theatre and Aris Theatre present Midsummer: A Staged Reading by David Grier & Gordon McIntyre. It’s midsummer and it’s raining. Bob & Helena\, a pair of mismatched strangers\, find each other in a night of reckless abandon. A joyful story of love\, uncertainty and stupid decisions. Contact Academy Theatre for more information.
URL:https://goseedoatl.com/event/midsummer-a-staged-reading-with-music-presented-with-aris-theatre/
LOCATION:Academy Theatre\, 599 N Central Avenue\, Hapeville\, GA\, 30354\, United States
ATTACH;FMTTYPE=image/png:https://goseedoatl.com/wp-content/uploads/2025/04/Midsummer.png
END:VEVENT
BEGIN:VEVENT
DTSTART;TZID=America/Denver:20250614T180000
DTEND;TZID=America/Denver:20250614T220000
DTSTAMP:20260423T152549
CREATED:20250607T164358Z
LAST-MODIFIED:20250607T164358Z
UID:1320831-1749924000-1749938400@goseedoatl.com
SUMMARY:Union City's Juneteenth & Community Health Day
DESCRIPTION:Celebrate culture\, freedom and wellness at Union City’s Juneteenth & Community Health Day. Enjoy live music\, food trucks\, giveaways and a Luther Vandross Tribute performance by Danny Clay. Bring your family\, friends and lawn chairs to Eagles Nest Sports Complex.
URL:https://goseedoatl.com/event/union-citys-juneteenth-community-health-day/
LOCATION:Eagles Nest Sports Complex  6245 Roosevelt Highway Union City GA
ATTACH;FMTTYPE=image/jpeg:https://goseedoatl.com/wp-content/uploads/2025/06/UC-Juneteenth-2025.jpg
END:VEVENT
BEGIN:VEVENT
DTSTART;TZID=America/Denver:20250614T180000
DTEND;TZID=America/Denver:20250614T220000
DTSTAMP:20260423T152549
CREATED:20250607T162831Z
LAST-MODIFIED:20250607T162831Z
UID:1320765-1749924000-1749938400@goseedoatl.com
SUMMARY:City of South Fulton 2025 Juneteenth Celebration
DESCRIPTION:The City of South Fulton will host its annual Juneteenth Celebration Saturday\, June 14th from 6-10pm at Wolf Creek Amphitheater. FREE community event featuring live performances across a variety of music genres\, dance and spoken word. Food trucks\, bounce houses\, face painting and interactive exhibits.
URL:https://goseedoatl.com/event/city-of-south-fulton-2025-juneteenth-celebration/
LOCATION:Wolf Creek Amphitheater
ATTACH;FMTTYPE=image/png:https://goseedoatl.com/wp-content/uploads/2025/06/CSF-Juneteenth-2025.png
END:VEVENT
BEGIN:VEVENT
DTSTART;TZID=America/Denver:20250614T083000
DTEND;TZID=America/Denver:20250614T120000
DTSTAMP:20260423T152549
CREATED:20250119T180927Z
LAST-MODIFIED:20250119T180927Z
UID:413401-1749889800-1749902400@goseedoatl.com
SUMMARY:Hapeville Coffee and Chrome Car & Motorcycle Show
DESCRIPTION:Hapeville Coffee and Chrome Car & Motorcycle Show-2nd Saturday of the month April thru September from 8:30am-12:00pm. FREE admission and FREE entry for classic cars\, trucks and motorcycles. Jess Lucas Y-Teen Park-680 S Central Ave.
URL:https://goseedoatl.com/event/hapeville-coffee-and-chrome-car-motorcycle-show-4/
LOCATION:jess lucas y teen park hapeville
ATTACH;FMTTYPE=image/jpeg:https://goseedoatl.com/wp-content/uploads/2025/01/IMG_2138.jpg
END:VEVENT
BEGIN:VEVENT
DTSTART;TZID=America/Denver:20250601T103000
DTEND;TZID=America/Denver:20250601T180000
DTSTAMP:20260423T152549
CREATED:20250111T202405Z
LAST-MODIFIED:20250111T202405Z
UID:388659-1748773800-1748800800@goseedoatl.com
SUMMARY:Georgia Renaissance Festival 2025
DESCRIPTION:Celebrating 40 years of Fun and Cheers. Open 10:30am-6pm Saturdays and Sundays plus Memorial Day Monday-rain or shine. FREE parking
URL:https://goseedoatl.com/event/georgia-renaissance-festival-2025/2025-06-01/
LOCATION:GA Renaissance Festival Grounds Fairburn
ATTACH;FMTTYPE=image/jpeg:https://goseedoatl.com/wp-content/uploads/2025/01/RenFest-2025-scaled.jpg
END:VEVENT
BEGIN:VEVENT
DTSTART;TZID=America/Denver:20250531T103000
DTEND;TZID=America/Denver:20250531T180000
DTSTAMP:20260423T152549
CREATED:20250111T202405Z
LAST-MODIFIED:20250111T202405Z
UID:388658-1748687400-1748714400@goseedoatl.com
SUMMARY:Georgia Renaissance Festival 2025
DESCRIPTION:Celebrating 40 years of Fun and Cheers. Open 10:30am-6pm Saturdays and Sundays plus Memorial Day Monday-rain or shine. FREE parking
URL:https://goseedoatl.com/event/georgia-renaissance-festival-2025/2025-05-31/
LOCATION:GA Renaissance Festival Grounds Fairburn
ATTACH;FMTTYPE=image/jpeg:https://goseedoatl.com/wp-content/uploads/2025/01/RenFest-2025-scaled.jpg
END:VEVENT
BEGIN:VEVENT
DTSTART;TZID=America/Denver:20250526T103000
DTEND;TZID=America/Denver:20250526T180000
DTSTAMP:20260423T152549
CREATED:20250111T202405Z
LAST-MODIFIED:20250111T202405Z
UID:388657-1748255400-1748282400@goseedoatl.com
SUMMARY:Georgia Renaissance Festival 2025
DESCRIPTION:Celebrating 40 years of Fun and Cheers. Open 10:30am-6pm Saturdays and Sundays plus Memorial Day Monday-rain or shine. FREE parking
URL:https://goseedoatl.com/event/georgia-renaissance-festival-2025/2025-05-26/
LOCATION:GA Renaissance Festival Grounds Fairburn
ATTACH;FMTTYPE=image/jpeg:https://goseedoatl.com/wp-content/uploads/2025/01/RenFest-2025-scaled.jpg
END:VEVENT
BEGIN:VEVENT
DTSTART;TZID=America/Denver:20250525T150000
DTEND;TZID=America/Denver:20250525T173000
DTSTAMP:20260423T152549
CREATED:20250421T203451Z
LAST-MODIFIED:20250421T203451Z
UID:1011114-1748185200-1748194200@goseedoatl.com
SUMMARY:Tapas-9th Annual Short Play Festival at Academy Theatre
DESCRIPTION:A smorgasbord of short plays: from comedy to horror to drama to farce\, there is something for everyone. Contact Academy Theatre for more information.
URL:https://goseedoatl.com/event/tapas-9th-annual-short-play-festival-at-academy-theatre/2025-05-25/
LOCATION:Academy Theatre\, 599 N Central Avenue\, Hapeville\, GA\, 30354\, United States
ATTACH;FMTTYPE=image/jpeg:https://goseedoatl.com/wp-content/uploads/2025/04/Tapas.jpg
END:VEVENT
BEGIN:VEVENT
DTSTART;TZID=America/Denver:20250525T103000
DTEND;TZID=America/Denver:20250525T180000
DTSTAMP:20260423T152549
CREATED:20250111T202405Z
LAST-MODIFIED:20250111T202405Z
UID:388656-1748169000-1748196000@goseedoatl.com
SUMMARY:Georgia Renaissance Festival 2025
DESCRIPTION:Celebrating 40 years of Fun and Cheers. Open 10:30am-6pm Saturdays and Sundays plus Memorial Day Monday-rain or shine. FREE parking
URL:https://goseedoatl.com/event/georgia-renaissance-festival-2025/2025-05-25/
LOCATION:GA Renaissance Festival Grounds Fairburn
ATTACH;FMTTYPE=image/jpeg:https://goseedoatl.com/wp-content/uploads/2025/01/RenFest-2025-scaled.jpg
END:VEVENT
BEGIN:VEVENT
DTSTART;TZID=America/Denver:20250524T200000
DTEND;TZID=America/Denver:20250524T223000
DTSTAMP:20260423T152549
CREATED:20250421T203451Z
LAST-MODIFIED:20250421T203451Z
UID:1011113-1748116800-1748125800@goseedoatl.com
SUMMARY:Tapas-9th Annual Short Play Festival at Academy Theatre
DESCRIPTION:A smorgasbord of short plays: from comedy to horror to drama to farce\, there is something for everyone. Contact Academy Theatre for more information.
URL:https://goseedoatl.com/event/tapas-9th-annual-short-play-festival-at-academy-theatre/2025-05-24/
LOCATION:Academy Theatre\, 599 N Central Avenue\, Hapeville\, GA\, 30354\, United States
ATTACH;FMTTYPE=image/jpeg:https://goseedoatl.com/wp-content/uploads/2025/04/Tapas.jpg
END:VEVENT
BEGIN:VEVENT
DTSTART;TZID=America/Denver:20250524T103000
DTEND;TZID=America/Denver:20250524T180000
DTSTAMP:20260423T152549
CREATED:20250111T202405Z
LAST-MODIFIED:20250111T202405Z
UID:388655-1748082600-1748109600@goseedoatl.com
SUMMARY:Georgia Renaissance Festival 2025
DESCRIPTION:Celebrating 40 years of Fun and Cheers. Open 10:30am-6pm Saturdays and Sundays plus Memorial Day Monday-rain or shine. FREE parking
URL:https://goseedoatl.com/event/georgia-renaissance-festival-2025/2025-05-24/
LOCATION:GA Renaissance Festival Grounds Fairburn
ATTACH;FMTTYPE=image/jpeg:https://goseedoatl.com/wp-content/uploads/2025/01/RenFest-2025-scaled.jpg
END:VEVENT
BEGIN:VEVENT
DTSTART;TZID=America/Denver:20250518T150000
DTEND;TZID=America/Denver:20250518T173000
DTSTAMP:20260423T152549
CREATED:20250421T203451Z
LAST-MODIFIED:20250421T203451Z
UID:1011112-1747580400-1747589400@goseedoatl.com
SUMMARY:Tapas-9th Annual Short Play Festival at Academy Theatre
DESCRIPTION:A smorgasbord of short plays: from comedy to horror to drama to farce\, there is something for everyone. Contact Academy Theatre for more information.
URL:https://goseedoatl.com/event/tapas-9th-annual-short-play-festival-at-academy-theatre/2025-05-18/
LOCATION:Academy Theatre\, 599 N Central Avenue\, Hapeville\, GA\, 30354\, United States
ATTACH;FMTTYPE=image/jpeg:https://goseedoatl.com/wp-content/uploads/2025/04/Tapas.jpg
END:VEVENT
BEGIN:VEVENT
DTSTART;TZID=America/Denver:20250518T103000
DTEND;TZID=America/Denver:20250518T180000
DTSTAMP:20260423T152549
CREATED:20250111T202405Z
LAST-MODIFIED:20250111T202405Z
UID:388654-1747564200-1747591200@goseedoatl.com
SUMMARY:Georgia Renaissance Festival 2025
DESCRIPTION:Celebrating 40 years of Fun and Cheers. Open 10:30am-6pm Saturdays and Sundays plus Memorial Day Monday-rain or shine. FREE parking
URL:https://goseedoatl.com/event/georgia-renaissance-festival-2025/2025-05-18/
LOCATION:GA Renaissance Festival Grounds Fairburn
ATTACH;FMTTYPE=image/jpeg:https://goseedoatl.com/wp-content/uploads/2025/01/RenFest-2025-scaled.jpg
END:VEVENT
BEGIN:VEVENT
DTSTART;TZID=America/Denver:20250517T200000
DTEND;TZID=America/Denver:20250517T223000
DTSTAMP:20260423T152549
CREATED:20250421T203451Z
LAST-MODIFIED:20250421T203451Z
UID:1011111-1747512000-1747521000@goseedoatl.com
SUMMARY:Tapas-9th Annual Short Play Festival at Academy Theatre
DESCRIPTION:A smorgasbord of short plays: from comedy to horror to drama to farce\, there is something for everyone. Contact Academy Theatre for more information.
URL:https://goseedoatl.com/event/tapas-9th-annual-short-play-festival-at-academy-theatre/2025-05-17/
LOCATION:Academy Theatre\, 599 N Central Avenue\, Hapeville\, GA\, 30354\, United States
ATTACH;FMTTYPE=image/jpeg:https://goseedoatl.com/wp-content/uploads/2025/04/Tapas.jpg
END:VEVENT
BEGIN:VEVENT
DTSTART;TZID=America/Denver:20250517T170000
DTEND;TZID=America/Denver:20250517T200000
DTSTAMP:20260423T152549
CREATED:20250119T192239Z
LAST-MODIFIED:20250119T192239Z
UID:413631-1747501200-1747512000@goseedoatl.com
SUMMARY:La Fiesta en Hapeville
DESCRIPTION:FREE admission and parking. Join us for music\, food vendors\, face painting and more activities at Jess Lucas Y-Teen Park Saturday May 17th from 5-8pm.
URL:https://goseedoatl.com/event/la-fiesta-en-hapeville-4/
LOCATION:jess lucas y teen park hapeville
ATTACH;FMTTYPE=image/jpeg:https://goseedoatl.com/wp-content/uploads/2025/01/La-Fiesta-en-Hapeville.jpg
END:VEVENT
BEGIN:VEVENT
DTSTART;TZID=America/Denver:20250517T103000
DTEND;TZID=America/Denver:20250517T180000
DTSTAMP:20260423T152549
CREATED:20250111T202405Z
LAST-MODIFIED:20250111T202405Z
UID:388652-1747477800-1747504800@goseedoatl.com
SUMMARY:Georgia Renaissance Festival 2025
DESCRIPTION:Celebrating 40 years of Fun and Cheers. Open 10:30am-6pm Saturdays and Sundays plus Memorial Day Monday-rain or shine. FREE parking
URL:https://goseedoatl.com/event/georgia-renaissance-festival-2025/2025-05-17/
LOCATION:GA Renaissance Festival Grounds Fairburn
ATTACH;FMTTYPE=image/jpeg:https://goseedoatl.com/wp-content/uploads/2025/01/RenFest-2025-scaled.jpg
END:VEVENT
BEGIN:VEVENT
DTSTART;TZID=America/Denver:20250511T150000
DTEND;TZID=America/Denver:20250511T173000
DTSTAMP:20260423T152549
CREATED:20250421T203451Z
LAST-MODIFIED:20250421T203451Z
UID:1011110-1746975600-1746984600@goseedoatl.com
SUMMARY:Tapas-9th Annual Short Play Festival at Academy Theatre
DESCRIPTION:A smorgasbord of short plays: from comedy to horror to drama to farce\, there is something for everyone. Contact Academy Theatre for more information.
URL:https://goseedoatl.com/event/tapas-9th-annual-short-play-festival-at-academy-theatre/2025-05-11/
LOCATION:Academy Theatre\, 599 N Central Avenue\, Hapeville\, GA\, 30354\, United States
ATTACH;FMTTYPE=image/jpeg:https://goseedoatl.com/wp-content/uploads/2025/04/Tapas.jpg
END:VEVENT
BEGIN:VEVENT
DTSTART;TZID=America/Denver:20250511T103000
DTEND;TZID=America/Denver:20250511T180000
DTSTAMP:20260423T152549
CREATED:20250111T202405Z
LAST-MODIFIED:20250111T202405Z
UID:388651-1746959400-1746986400@goseedoatl.com
SUMMARY:Georgia Renaissance Festival 2025
DESCRIPTION:Celebrating 40 years of Fun and Cheers. Open 10:30am-6pm Saturdays and Sundays plus Memorial Day Monday-rain or shine. FREE parking
URL:https://goseedoatl.com/event/georgia-renaissance-festival-2025/2025-05-11/
LOCATION:GA Renaissance Festival Grounds Fairburn
ATTACH;FMTTYPE=image/jpeg:https://goseedoatl.com/wp-content/uploads/2025/01/RenFest-2025-scaled.jpg
END:VEVENT
BEGIN:VEVENT
DTSTART;TZID=America/Denver:20250510T200000
DTEND;TZID=America/Denver:20250510T223000
DTSTAMP:20260423T152549
CREATED:20250421T203451Z
LAST-MODIFIED:20250421T203451Z
UID:1011109-1746907200-1746916200@goseedoatl.com
SUMMARY:Tapas-9th Annual Short Play Festival at Academy Theatre
DESCRIPTION:A smorgasbord of short plays: from comedy to horror to drama to farce\, there is something for everyone. Contact Academy Theatre for more information.
URL:https://goseedoatl.com/event/tapas-9th-annual-short-play-festival-at-academy-theatre/2025-05-10/
LOCATION:Academy Theatre\, 599 N Central Avenue\, Hapeville\, GA\, 30354\, United States
ATTACH;FMTTYPE=image/jpeg:https://goseedoatl.com/wp-content/uploads/2025/04/Tapas.jpg
END:VEVENT
BEGIN:VEVENT
DTSTART;TZID=America/Denver:20250510T103000
DTEND;TZID=America/Denver:20250510T180000
DTSTAMP:20260423T152549
CREATED:20250111T202405Z
LAST-MODIFIED:20250111T202405Z
UID:388650-1746873000-1746900000@goseedoatl.com
SUMMARY:Georgia Renaissance Festival 2025
DESCRIPTION:Celebrating 40 years of Fun and Cheers. Open 10:30am-6pm Saturdays and Sundays plus Memorial Day Monday-rain or shine. FREE parking
URL:https://goseedoatl.com/event/georgia-renaissance-festival-2025/2025-05-10/
LOCATION:GA Renaissance Festival Grounds Fairburn
ATTACH;FMTTYPE=image/jpeg:https://goseedoatl.com/wp-content/uploads/2025/01/RenFest-2025-scaled.jpg
END:VEVENT
BEGIN:VEVENT
DTSTART;TZID=America/Denver:20250510T083000
DTEND;TZID=America/Denver:20250510T120000
DTSTAMP:20260423T152549
CREATED:20250119T180652Z
LAST-MODIFIED:20250119T180652Z
UID:413378-1746865800-1746878400@goseedoatl.com
SUMMARY:Hapeville Coffee and Chrome Car & Motorcycle Show
DESCRIPTION:Hapeville Coffee and Chrome Car & Motorcycle Show-2nd Saturday of the month April thru September from 8:30am-12:00pm. FREE admission and FREE entry for classic cars\, trucks and motorcycles. Jess Lucas Y-Teen Park-680 S Central Ave.
URL:https://goseedoatl.com/event/hapeville-coffee-and-chrome-car-motorcycle-show-3/
LOCATION:jess lucas y teen park hapeville
ATTACH;FMTTYPE=image/jpeg:https://goseedoatl.com/wp-content/uploads/2025/01/IMG_2102.jpg
END:VEVENT
BEGIN:VEVENT
DTSTART;TZID=America/Denver:20250509T200000
DTEND;TZID=America/Denver:20250509T223000
DTSTAMP:20260423T152549
CREATED:20250421T203451Z
LAST-MODIFIED:20250421T203451Z
UID:1011061-1746820800-1746829800@goseedoatl.com
SUMMARY:Tapas-9th Annual Short Play Festival at Academy Theatre
DESCRIPTION:A smorgasbord of short plays: from comedy to horror to drama to farce\, there is something for everyone. Contact Academy Theatre for more information.
URL:https://goseedoatl.com/event/tapas-9th-annual-short-play-festival-at-academy-theatre/2025-05-09/
LOCATION:Academy Theatre\, 599 N Central Avenue\, Hapeville\, GA\, 30354\, United States
ATTACH;FMTTYPE=image/jpeg:https://goseedoatl.com/wp-content/uploads/2025/04/Tapas.jpg
END:VEVENT
BEGIN:VEVENT
DTSTART;TZID=America/Denver:20250504T183000
DTEND;TZID=America/Denver:20250504T210000
DTSTAMP:20260423T152549
CREATED:20250421T202815Z
LAST-MODIFIED:20250421T202815Z
UID:1011058-1746383400-1746392400@goseedoatl.com
SUMMARY:Joe Gransden & Kenny Banks Swing the Great American Song Book
DESCRIPTION:Academy Theatre-Sunday May 4 at 6:30pm.Joe Gransden & Kenny Banks Sr. swing the great American Song Book as they take you on an intimate journey into the best jazz there is. Contact Academy Theatre for more information.
URL:https://goseedoatl.com/event/joe-gransden-kenny-banks-swing-the-great-american-song-book/
LOCATION:Academy Theatre\, 599 N Central Avenue\, Hapeville\, GA\, 30354\, United States
ATTACH;FMTTYPE=image/png:https://goseedoatl.com/wp-content/uploads/2025/04/JoeGransdenKennyBanks.png
END:VEVENT
BEGIN:VEVENT
DTSTART;TZID=America/Denver:20250504T103000
DTEND;TZID=America/Denver:20250504T180000
DTSTAMP:20260423T152549
CREATED:20250111T202405Z
LAST-MODIFIED:20250111T202405Z
UID:388649-1746354600-1746381600@goseedoatl.com
SUMMARY:Georgia Renaissance Festival 2025
DESCRIPTION:Celebrating 40 years of Fun and Cheers. Open 10:30am-6pm Saturdays and Sundays plus Memorial Day Monday-rain or shine. FREE parking
URL:https://goseedoatl.com/event/georgia-renaissance-festival-2025/2025-05-04/
LOCATION:GA Renaissance Festival Grounds Fairburn
ATTACH;FMTTYPE=image/jpeg:https://goseedoatl.com/wp-content/uploads/2025/01/RenFest-2025-scaled.jpg
END:VEVENT
BEGIN:VEVENT
DTSTART;TZID=America/Denver:20250503T103000
DTEND;TZID=America/Denver:20250503T180000
DTSTAMP:20260423T152549
CREATED:20250111T202405Z
LAST-MODIFIED:20250111T202405Z
UID:388648-1746268200-1746295200@goseedoatl.com
SUMMARY:Georgia Renaissance Festival 2025
DESCRIPTION:Celebrating 40 years of Fun and Cheers. Open 10:30am-6pm Saturdays and Sundays plus Memorial Day Monday-rain or shine. FREE parking
URL:https://goseedoatl.com/event/georgia-renaissance-festival-2025/2025-05-03/
LOCATION:GA Renaissance Festival Grounds Fairburn
ATTACH;FMTTYPE=image/jpeg:https://goseedoatl.com/wp-content/uploads/2025/01/RenFest-2025-scaled.jpg
END:VEVENT
BEGIN:VEVENT
DTSTART;TZID=America/Denver:20250501T190000
DTEND;TZID=America/Denver:20250501T210000
DTSTAMP:20260423T152549
CREATED:20250421T201916Z
LAST-MODIFIED:20250421T201916Z
UID:1011013-1746126000-1746133200@goseedoatl.com
SUMMARY:Password: A Cabaret of Memory and the Future
DESCRIPTION:In the year 2070\, Happy Kazedzhangian is desperate for her mother to remember the password to her antique laptop. To jog her memory\, Happy performs her mother’s favorite songs from 2014-2025 for the entire nursing home. This interactive cabaret comedy will have you laughing\, singing and hopefully envisioning a brighter future. Contact Academy Theatre for more information.
URL:https://goseedoatl.com/event/password-a-cabaret-of-memory-and-the-future/
LOCATION:Academy Theatre\, 599 N Central Avenue\, Hapeville\, GA\, 30354\, United States
ATTACH;FMTTYPE=image/jpeg:https://goseedoatl.com/wp-content/uploads/2025/04/password.jpg
END:VEVENT
BEGIN:VEVENT
DTSTART;TZID=America/Denver:20250427T183000
DTEND;TZID=America/Denver:20250427T210000
DTSTAMP:20260423T152549
CREATED:20250421T195430Z
LAST-MODIFIED:20250421T195611Z
UID:1010874-1745778600-1745787600@goseedoatl.com
SUMMARY:Susana Butler & Easy Living at the Academy Theatre
DESCRIPTION:Academy Theatre presents Susana Butler & Easy Living on Sunday April 27 at 6:30pm. Bringing an eclectic repetoire which weaves together Swing\, Latin Jazz\, French Chansons and moody\, bluesy takes on contemporary artists like Tom Waits. A night of Great Music-get tickets at academytheatre.simpletix.com
URL:https://goseedoatl.com/event/susana-butler-easy-living-at-the-academy-theatre/
LOCATION:Academy Theatre\, 599 N Central Avenue\, Hapeville\, GA\, 30354\, United States
ATTACH;FMTTYPE=image/jpeg:https://goseedoatl.com/wp-content/uploads/2025/04/Jazz-de-Soiree-Landscape-scaled.jpg
END:VEVENT
BEGIN:VEVENT
DTSTART;TZID=America/Denver:20250427T150000
DTEND;TZID=America/Denver:20250427T173000
DTSTAMP:20260423T152549
CREATED:20250421T201043Z
LAST-MODIFIED:20250421T201043Z
UID:1011011-1745766000-1745775000@goseedoatl.com
SUMMARY:Third Act Dating: A World Premiere Play by Gillian Royes
DESCRIPTION:When Dee dips her foot back into the dating pool\, both her children and those of her suitors fret. Is it ever too late for romance? Can anyone tell you whom not to love? At the Academy Theatre in Hapeville: April 24-27th. Check www.academytheatre.org for tickets and showtimes.
URL:https://goseedoatl.com/event/third-act-dating-a-world-premiere-play-by-gillian-royes/2025-04-27/
LOCATION:Academy Theatre\, 599 N Central Avenue\, Hapeville\, GA\, 30354\, United States
ATTACH;FMTTYPE=image/png:https://goseedoatl.com/wp-content/uploads/2025/04/ThirdActDating3-1271x1536-1.png
END:VEVENT
BEGIN:VEVENT
DTSTART;TZID=America/Denver:20250427T103000
DTEND;TZID=America/Denver:20250427T180000
DTSTAMP:20260423T152549
CREATED:20250111T202405Z
LAST-MODIFIED:20250111T202405Z
UID:388647-1745749800-1745776800@goseedoatl.com
SUMMARY:Georgia Renaissance Festival 2025
DESCRIPTION:Celebrating 40 years of Fun and Cheers. Open 10:30am-6pm Saturdays and Sundays plus Memorial Day Monday-rain or shine. FREE parking
URL:https://goseedoatl.com/event/georgia-renaissance-festival-2025/2025-04-27/
LOCATION:GA Renaissance Festival Grounds Fairburn
ATTACH;FMTTYPE=image/jpeg:https://goseedoatl.com/wp-content/uploads/2025/01/RenFest-2025-scaled.jpg
END:VEVENT
BEGIN:VEVENT
DTSTART;TZID=America/Denver:20250426T200000
DTEND;TZID=America/Denver:20250426T223000
DTSTAMP:20260423T152549
CREATED:20250421T201043Z
LAST-MODIFIED:20250421T201043Z
UID:1011010-1745697600-1745706600@goseedoatl.com
SUMMARY:Third Act Dating: A World Premiere Play by Gillian Royes
DESCRIPTION:When Dee dips her foot back into the dating pool\, both her children and those of her suitors fret. Is it ever too late for romance? Can anyone tell you whom not to love? At the Academy Theatre in Hapeville: April 24-27th. Check www.academytheatre.org for tickets and showtimes.
URL:https://goseedoatl.com/event/third-act-dating-a-world-premiere-play-by-gillian-royes/2025-04-26/
LOCATION:Academy Theatre\, 599 N Central Avenue\, Hapeville\, GA\, 30354\, United States
ATTACH;FMTTYPE=image/png:https://goseedoatl.com/wp-content/uploads/2025/04/ThirdActDating3-1271x1536-1.png
END:VEVENT
END:VCALENDAR