BEGIN:VCALENDAR
VERSION:2.0
PRODID:-// GoSeeDoATL.com  - ECPv6.15.20//NONSGML v1.0//EN
CALSCALE:GREGORIAN
METHOD:PUBLISH
X-ORIGINAL-URL:https://goseedoatl.com
X-WR-CALDESC:Events for  GoSeeDoATL.com 
REFRESH-INTERVAL;VALUE=DURATION:PT1H
X-Robots-Tag:noindex
X-PUBLISHED-TTL:PT1H
BEGIN:VTIMEZONE
TZID:America/Denver
BEGIN:DAYLIGHT
TZOFFSETFROM:-0700
TZOFFSETTO:-0600
TZNAME:MDT
DTSTART:20250309T090000
END:DAYLIGHT
BEGIN:STANDARD
TZOFFSETFROM:-0600
TZOFFSETTO:-0700
TZNAME:MST
DTSTART:20251102T080000
END:STANDARD
BEGIN:DAYLIGHT
TZOFFSETFROM:-0700
TZOFFSETTO:-0600
TZNAME:MDT
DTSTART:20260308T090000
END:DAYLIGHT
BEGIN:STANDARD
TZOFFSETFROM:-0600
TZOFFSETTO:-0700
TZNAME:MST
DTSTART:20261101T080000
END:STANDARD
BEGIN:DAYLIGHT
TZOFFSETFROM:-0700
TZOFFSETTO:-0600
TZNAME:MDT
DTSTART:20270314T090000
END:DAYLIGHT
BEGIN:STANDARD
TZOFFSETFROM:-0600
TZOFFSETTO:-0700
TZNAME:MST
DTSTART:20271107T080000
END:STANDARD
END:VTIMEZONE
BEGIN:VEVENT
DTSTART;TZID=America/Denver:20260509T083000
DTEND;TZID=America/Denver:20260509T120000
DTSTAMP:20260422T044720
CREATED:20260103T233448Z
LAST-MODIFIED:20260103T233448Z
UID:2049702-1778315400-1778328000@goseedoatl.com
SUMMARY:Hapeville Coffee and Chrome Car & Motorcycle Show
DESCRIPTION:Hapeville Coffee and Chrome Car & Motorcycle Show-2nd Saturday of the month April thru September from 8:30am-12:00pm. FREE admission and FREE entry for classic cars\, trucks and motorcycles. Jess Lucas Y-Teen Park-680 S Central Ave. in Hapeville.
URL:https://goseedoatl.com/event/hapeville-coffee-and-chrome-car-motorcycle-show-13/
LOCATION:jess lucas y teen park hapeville
ATTACH;FMTTYPE=image/jpeg:https://goseedoatl.com/wp-content/uploads/2025/01/IMG_2102.jpg
END:VEVENT
BEGIN:VEVENT
DTSTART;TZID=America/Denver:20260509T103000
DTEND;TZID=America/Denver:20260509T180000
DTSTAMP:20260422T044720
CREATED:20260103T181432Z
LAST-MODIFIED:20260103T181432Z
UID:2049522-1778322600-1778349600@goseedoatl.com
SUMMARY:Georgia Renaissance Festival
DESCRIPTION:Go back in time to the Renaissance era. Rain or shine event. Parking is free. Join us for entertainment shows\, arts & crafts\, games & rides and more.
URL:https://goseedoatl.com/event/georgia-renaissance-festival-5/2026-05-09/
LOCATION:6905 Virlyn B Smith Road Fairburn
ATTACH;FMTTYPE=image/jpeg:https://goseedoatl.com/wp-content/uploads/2025/12/GA-RenFest-2026-website-scaled.jpg
END:VEVENT
BEGIN:VEVENT
DTSTART;TZID=America/Denver:20260509T190000
DTEND;TZID=America/Denver:20260509T213000
DTSTAMP:20260422T044720
CREATED:20260107T154423Z
LAST-MODIFIED:20260107T154423Z
UID:2049804-1778353200-1778362200@goseedoatl.com
SUMMARY:Legacy Theatre presents Ain't Misbehavin'
DESCRIPTION:A sassy\, sultry musical celebration of legendary jazz great\, Fats Waller. One of the most popular\, well-crafted revues of all time and winner of the 1978 Tony Award for Best Musical.
URL:https://goseedoatl.com/event/legacy-theatre-presents-aint-misbehavin/2026-05-09/
LOCATION:The Legacy Theatre\, Tyrone GA
ATTACH;FMTTYPE=image/jpeg:https://goseedoatl.com/wp-content/uploads/2026/01/Aint-Misbehavin-w.jpg
END:VEVENT
BEGIN:VEVENT
DTSTART;TZID=America/Denver:20260509T193000
DTEND;TZID=America/Denver:20260509T210000
DTSTAMP:20260422T044720
CREATED:20260103T182257Z
LAST-MODIFIED:20260103T182257Z
UID:2049512-1778355000-1778360400@goseedoatl.com
SUMMARY:Southside Sidekicks Improv Show
DESCRIPTION:Enjoy the spontaneous world of improv comedy-these quick-thinking performers create scenes\, characters and stories on the fly-guided by audience suggestions and pure imagination.
URL:https://goseedoatl.com/event/southside-sidekicks-improv-show-2/2026-05-09/
LOCATION:Southside Theatre Guild
ATTACH;FMTTYPE=image/jpeg:https://goseedoatl.com/wp-content/uploads/2023/09/Southside-Theatre-Guild-III.jpg
END:VEVENT
END:VCALENDAR