BEGIN:VCALENDAR
VERSION:2.0
PRODID:-// GoSeeDoATL.com  - ECPv6.15.20//NONSGML v1.0//EN
CALSCALE:GREGORIAN
METHOD:PUBLISH
X-WR-CALNAME: GoSeeDoATL.com 
X-ORIGINAL-URL:https://goseedoatl.com
X-WR-CALDESC:Events for  GoSeeDoATL.com 
REFRESH-INTERVAL;VALUE=DURATION:PT1H
X-Robots-Tag:noindex
X-PUBLISHED-TTL:PT1H
BEGIN:VTIMEZONE
TZID:America/Denver
BEGIN:DAYLIGHT
TZOFFSETFROM:-0700
TZOFFSETTO:-0600
TZNAME:MDT
DTSTART:20250309T090000
END:DAYLIGHT
BEGIN:STANDARD
TZOFFSETFROM:-0600
TZOFFSETTO:-0700
TZNAME:MST
DTSTART:20251102T080000
END:STANDARD
BEGIN:DAYLIGHT
TZOFFSETFROM:-0700
TZOFFSETTO:-0600
TZNAME:MDT
DTSTART:20260308T090000
END:DAYLIGHT
BEGIN:STANDARD
TZOFFSETFROM:-0600
TZOFFSETTO:-0700
TZNAME:MST
DTSTART:20261101T080000
END:STANDARD
BEGIN:DAYLIGHT
TZOFFSETFROM:-0700
TZOFFSETTO:-0600
TZNAME:MDT
DTSTART:20270314T090000
END:DAYLIGHT
BEGIN:STANDARD
TZOFFSETFROM:-0600
TZOFFSETTO:-0700
TZNAME:MST
DTSTART:20271107T080000
END:STANDARD
END:VTIMEZONE
BEGIN:VEVENT
DTSTART;TZID=America/Denver:20260307T090000
DTEND;TZID=America/Denver:20260307T160000
DTSTAMP:20260422T063740
CREATED:20260206T194259Z
LAST-MODIFIED:20260206T194259Z
UID:2049852-1772874000-1772899200@goseedoatl.com
SUMMARY:Tony Young Personal Wellness Inc. 2026 All Star Nationals
DESCRIPTION:Join us for two days of excitement: Tony Young 2026 All Star Nationals Karate tournament featuring team fighting\, musical forms\, point fighting\, traditional forms and more. March 6 & 7 at Welcome All Park Multi-Purpose Facility.
URL:https://goseedoatl.com/event/tony-young-personal-wellness-inc-2026-all-star-nationals/2026-03-07/
LOCATION:Welcome All Park Multi-Purpose Facility\, 4255 Will Lee Road\, South Fulton\, GA\, 30349\, United States
ATTACH;FMTTYPE=image/jpeg:https://goseedoatl.com/wp-content/uploads/2026/02/March-m.jpg
END:VEVENT
BEGIN:VEVENT
DTSTART;TZID=America/Denver:20260307T193000
DTEND;TZID=America/Denver:20260307T210000
DTSTAMP:20260422T063740
CREATED:20260103T182257Z
LAST-MODIFIED:20260103T182257Z
UID:2049510-1772911800-1772917200@goseedoatl.com
SUMMARY:Southside Sidekicks Improv Show
DESCRIPTION:Enjoy the spontaneous world of improv comedy-these quick-thinking performers create scenes\, characters and stories on the fly-guided by audience suggestions and pure imagination.
URL:https://goseedoatl.com/event/southside-sidekicks-improv-show-2/2026-03-07/
LOCATION:Southside Theatre Guild
ATTACH;FMTTYPE=image/jpeg:https://goseedoatl.com/wp-content/uploads/2023/09/Southside-Theatre-Guild-III.jpg
END:VEVENT
END:VCALENDAR