BEGIN:VCALENDAR
VERSION:2.0
PRODID:-// GoSeeDoATL.com  - ECPv6.15.20//NONSGML v1.0//EN
CALSCALE:GREGORIAN
METHOD:PUBLISH
X-WR-CALNAME: GoSeeDoATL.com 
X-ORIGINAL-URL:https://goseedoatl.com
X-WR-CALDESC:Events for  GoSeeDoATL.com 
REFRESH-INTERVAL;VALUE=DURATION:PT1H
X-Robots-Tag:noindex
X-PUBLISHED-TTL:PT1H
BEGIN:VTIMEZONE
TZID:America/Denver
BEGIN:DAYLIGHT
TZOFFSETFROM:-0700
TZOFFSETTO:-0600
TZNAME:MDT
DTSTART:20250309T090000
END:DAYLIGHT
BEGIN:STANDARD
TZOFFSETFROM:-0600
TZOFFSETTO:-0700
TZNAME:MST
DTSTART:20251102T080000
END:STANDARD
BEGIN:DAYLIGHT
TZOFFSETFROM:-0700
TZOFFSETTO:-0600
TZNAME:MDT
DTSTART:20260308T090000
END:DAYLIGHT
BEGIN:STANDARD
TZOFFSETFROM:-0600
TZOFFSETTO:-0700
TZNAME:MST
DTSTART:20261101T080000
END:STANDARD
BEGIN:DAYLIGHT
TZOFFSETFROM:-0700
TZOFFSETTO:-0600
TZNAME:MDT
DTSTART:20270314T090000
END:DAYLIGHT
BEGIN:STANDARD
TZOFFSETFROM:-0600
TZOFFSETTO:-0700
TZNAME:MST
DTSTART:20271107T080000
END:STANDARD
END:VTIMEZONE
BEGIN:VEVENT
DTSTART;TZID=America/Denver:20260220T190000
DTEND;TZID=America/Denver:20260220T213000
DTSTAMP:20260422T130825
CREATED:20250829T195646Z
LAST-MODIFIED:20250829T204349Z
UID:1541520-1771614000-1771623000@goseedoatl.com
SUMMARY:Escape to Margaritaville at Legacy Theatre
DESCRIPTION:Jimmy Buffett’s Escape to Margaritaville is a musical comedy featuring the most-loved Jimmy Buffett classics and a book by Greg Garcia and Mike O’Malley.
URL:https://goseedoatl.com/event/escape-to-margaritaville-at-legacy-theatre/2026-02-20/
LOCATION:The Legacy Theatre\, Tyrone GA
ATTACH;FMTTYPE=image/png:https://goseedoatl.com/wp-content/uploads/2025/08/Screenshot-2025-08-29-at-16-24-40-Escape-to-Margaritaville-Legacy-Theater.png
END:VEVENT
BEGIN:VEVENT
DTSTART;TZID=America/Denver:20260220T200000
DTEND;TZID=America/Denver:20260220T210000
DTSTAMP:20260422T130825
CREATED:20260103T220510Z
LAST-MODIFIED:20260103T220510Z
UID:2049562-1771617600-1771621200@goseedoatl.com
SUMMARY:The Pure of Heart by John B. Keane: A Co-Production of Refuge & Academy Theatre
DESCRIPTION:THE PURE OF HEART-a short\, hilarious farce. Using a simple roadside setting\, a June night and three characters\, Keane has created a memorable piece of theatre. Directed by John Ammerman
URL:https://goseedoatl.com/event/the-pure-of-heart-by-john-b-keane-a-co-production-of-refuge-academy-theatre/2026-02-20/
LOCATION:Academy Theatre\, 599 N Central Avenue\, Hapeville\, GA\, 30354\, United States
ATTACH;FMTTYPE=image/png:https://goseedoatl.com/wp-content/uploads/2026/01/CountyCorkroad.png
END:VEVENT
END:VCALENDAR