BEGIN:VCALENDAR
VERSION:2.0
PRODID:-// GoSeeDoATL.com  - ECPv6.15.20//NONSGML v1.0//EN
CALSCALE:GREGORIAN
METHOD:PUBLISH
X-ORIGINAL-URL:https://goseedoatl.com
X-WR-CALDESC:Events for  GoSeeDoATL.com 
REFRESH-INTERVAL;VALUE=DURATION:PT1H
X-Robots-Tag:noindex
X-PUBLISHED-TTL:PT1H
BEGIN:VTIMEZONE
TZID:America/Denver
BEGIN:DAYLIGHT
TZOFFSETFROM:-0700
TZOFFSETTO:-0600
TZNAME:MDT
DTSTART:20230312T090000
END:DAYLIGHT
BEGIN:STANDARD
TZOFFSETFROM:-0600
TZOFFSETTO:-0700
TZNAME:MST
DTSTART:20231105T080000
END:STANDARD
BEGIN:DAYLIGHT
TZOFFSETFROM:-0700
TZOFFSETTO:-0600
TZNAME:MDT
DTSTART:20240310T090000
END:DAYLIGHT
BEGIN:STANDARD
TZOFFSETFROM:-0600
TZOFFSETTO:-0700
TZNAME:MST
DTSTART:20241103T080000
END:STANDARD
BEGIN:DAYLIGHT
TZOFFSETFROM:-0700
TZOFFSETTO:-0600
TZNAME:MDT
DTSTART:20250309T090000
END:DAYLIGHT
BEGIN:STANDARD
TZOFFSETFROM:-0600
TZOFFSETTO:-0700
TZNAME:MST
DTSTART:20251102T080000
END:STANDARD
END:VTIMEZONE
BEGIN:VEVENT
DTSTART;TZID=America/Denver:20240519T140000
DTEND;TZID=America/Denver:20240519T160000
DTSTAMP:20260421T172848
CREATED:20240309T172226Z
LAST-MODIFIED:20240309T172226Z
UID:244870-1716127200-1716134400@goseedoatl.com
SUMMARY:Rhythm of Love The Musical
DESCRIPTION:Here is an original musical from Forever Standing Productions: Rhythm of Love The Musical.-A Love Story of Dance & Dreams. Written\, produced & directed by Lance Forest-coming to Town Square Playhouse in Fayetteville May 17th-19th.
URL:https://goseedoatl.com/event/rhythm-of-love-the-musical/2024-05-19/
LOCATION:town square playhouse fayetteville
ATTACH;FMTTYPE=image/jpeg:https://goseedoatl.com/wp-content/uploads/2024/03/Rhythm-of-Love-ATL-scaled.jpg
END:VEVENT
BEGIN:VEVENT
DTSTART;TZID=America/Denver:20240518T190000
DTEND;TZID=America/Denver:20240518T210000
DTSTAMP:20260421T172848
CREATED:20240309T172226Z
LAST-MODIFIED:20240309T172226Z
UID:244869-1716058800-1716066000@goseedoatl.com
SUMMARY:Rhythm of Love The Musical
DESCRIPTION:Here is an original musical from Forever Standing Productions: Rhythm of Love The Musical.-A Love Story of Dance & Dreams. Written\, produced & directed by Lance Forest-coming to Town Square Playhouse in Fayetteville May 17th-19th.
URL:https://goseedoatl.com/event/rhythm-of-love-the-musical/2024-05-18/2/
LOCATION:town square playhouse fayetteville
ATTACH;FMTTYPE=image/jpeg:https://goseedoatl.com/wp-content/uploads/2024/03/Rhythm-of-Love-ATL-scaled.jpg
END:VEVENT
BEGIN:VEVENT
DTSTART;TZID=America/Denver:20240518T140000
DTEND;TZID=America/Denver:20240518T160000
DTSTAMP:20260421T172848
CREATED:20240309T172226Z
LAST-MODIFIED:20240309T172226Z
UID:244868-1716040800-1716048000@goseedoatl.com
SUMMARY:Rhythm of Love The Musical
DESCRIPTION:Here is an original musical from Forever Standing Productions: Rhythm of Love The Musical.-A Love Story of Dance & Dreams. Written\, produced & directed by Lance Forest-coming to Town Square Playhouse in Fayetteville May 17th-19th.
URL:https://goseedoatl.com/event/rhythm-of-love-the-musical/2024-05-18/
LOCATION:town square playhouse fayetteville
ATTACH;FMTTYPE=image/jpeg:https://goseedoatl.com/wp-content/uploads/2024/03/Rhythm-of-Love-ATL-scaled.jpg
END:VEVENT
BEGIN:VEVENT
DTSTART;TZID=America/Denver:20240517T190000
DTEND;TZID=America/Denver:20240517T210000
DTSTAMP:20260421T172848
CREATED:20240309T172226Z
LAST-MODIFIED:20240309T172226Z
UID:244866-1715972400-1715979600@goseedoatl.com
SUMMARY:Rhythm of Love The Musical
DESCRIPTION:Here is an original musical from Forever Standing Productions: Rhythm of Love The Musical.-A Love Story of Dance & Dreams. Written\, produced & directed by Lance Forest-coming to Town Square Playhouse in Fayetteville May 17th-19th.
URL:https://goseedoatl.com/event/rhythm-of-love-the-musical/2024-05-17/
LOCATION:town square playhouse fayetteville
ATTACH;FMTTYPE=image/jpeg:https://goseedoatl.com/wp-content/uploads/2024/03/Rhythm-of-Love-ATL-scaled.jpg
END:VEVENT
END:VCALENDAR