BEGIN:VCALENDAR
VERSION:2.0
PRODID:-// GoSeeDoATL.com  - ECPv6.15.20//NONSGML v1.0//EN
CALSCALE:GREGORIAN
METHOD:PUBLISH
X-WR-CALNAME: GoSeeDoATL.com 
X-ORIGINAL-URL:https://goseedoatl.com
X-WR-CALDESC:Events for  GoSeeDoATL.com 
REFRESH-INTERVAL;VALUE=DURATION:PT1H
X-Robots-Tag:noindex
X-PUBLISHED-TTL:PT1H
BEGIN:VTIMEZONE
TZID:America/Denver
BEGIN:DAYLIGHT
TZOFFSETFROM:-0700
TZOFFSETTO:-0600
TZNAME:MDT
DTSTART:20250309T090000
END:DAYLIGHT
BEGIN:STANDARD
TZOFFSETFROM:-0600
TZOFFSETTO:-0700
TZNAME:MST
DTSTART:20251102T080000
END:STANDARD
BEGIN:DAYLIGHT
TZOFFSETFROM:-0700
TZOFFSETTO:-0600
TZNAME:MDT
DTSTART:20260308T090000
END:DAYLIGHT
BEGIN:STANDARD
TZOFFSETFROM:-0600
TZOFFSETTO:-0700
TZNAME:MST
DTSTART:20261101T080000
END:STANDARD
BEGIN:DAYLIGHT
TZOFFSETFROM:-0700
TZOFFSETTO:-0600
TZNAME:MDT
DTSTART:20270314T090000
END:DAYLIGHT
BEGIN:STANDARD
TZOFFSETFROM:-0600
TZOFFSETTO:-0700
TZNAME:MST
DTSTART:20271107T080000
END:STANDARD
END:VTIMEZONE
BEGIN:VEVENT
DTSTART;TZID=America/Denver:20260424T190000
DTEND;TZID=America/Denver:20260424T213000
DTSTAMP:20260421T024916
CREATED:20260107T154423Z
LAST-MODIFIED:20260107T154423Z
UID:2049782-1777057200-1777066200@goseedoatl.com
SUMMARY:Legacy Theatre presents Ain't Misbehavin'
DESCRIPTION:A sassy\, sultry musical celebration of legendary jazz great\, Fats Waller. One of the most popular\, well-crafted revues of all time and winner of the 1978 Tony Award for Best Musical.
URL:https://goseedoatl.com/event/legacy-theatre-presents-aint-misbehavin/2026-04-24/
LOCATION:The Legacy Theatre\, Tyrone GA
ATTACH;FMTTYPE=image/jpeg:https://goseedoatl.com/wp-content/uploads/2026/01/Aint-Misbehavin-w.jpg
END:VEVENT
BEGIN:VEVENT
DTSTART;TZID=America/Denver:20260425T190000
DTEND;TZID=America/Denver:20260425T213000
DTSTAMP:20260421T024916
CREATED:20260107T154423Z
LAST-MODIFIED:20260107T154423Z
UID:2049783-1777143600-1777152600@goseedoatl.com
SUMMARY:Legacy Theatre presents Ain't Misbehavin'
DESCRIPTION:A sassy\, sultry musical celebration of legendary jazz great\, Fats Waller. One of the most popular\, well-crafted revues of all time and winner of the 1978 Tony Award for Best Musical.
URL:https://goseedoatl.com/event/legacy-theatre-presents-aint-misbehavin/2026-04-25/
LOCATION:The Legacy Theatre\, Tyrone GA
ATTACH;FMTTYPE=image/jpeg:https://goseedoatl.com/wp-content/uploads/2026/01/Aint-Misbehavin-w.jpg
END:VEVENT
BEGIN:VEVENT
DTSTART;TZID=America/Denver:20260426T190000
DTEND;TZID=America/Denver:20260426T213000
DTSTAMP:20260421T024916
CREATED:20260107T154423Z
LAST-MODIFIED:20260107T154423Z
UID:2049784-1777230000-1777239000@goseedoatl.com
SUMMARY:Legacy Theatre presents Ain't Misbehavin'
DESCRIPTION:A sassy\, sultry musical celebration of legendary jazz great\, Fats Waller. One of the most popular\, well-crafted revues of all time and winner of the 1978 Tony Award for Best Musical.
URL:https://goseedoatl.com/event/legacy-theatre-presents-aint-misbehavin/2026-04-26/
LOCATION:The Legacy Theatre\, Tyrone GA
ATTACH;FMTTYPE=image/jpeg:https://goseedoatl.com/wp-content/uploads/2026/01/Aint-Misbehavin-w.jpg
END:VEVENT
BEGIN:VEVENT
DTSTART;TZID=America/Denver:20260501T190000
DTEND;TZID=America/Denver:20260501T213000
DTSTAMP:20260421T024916
CREATED:20260107T154423Z
LAST-MODIFIED:20260107T154423Z
UID:2049785-1777662000-1777671000@goseedoatl.com
SUMMARY:Legacy Theatre presents Ain't Misbehavin'
DESCRIPTION:A sassy\, sultry musical celebration of legendary jazz great\, Fats Waller. One of the most popular\, well-crafted revues of all time and winner of the 1978 Tony Award for Best Musical.
URL:https://goseedoatl.com/event/legacy-theatre-presents-aint-misbehavin/2026-05-01/
LOCATION:The Legacy Theatre\, Tyrone GA
ATTACH;FMTTYPE=image/jpeg:https://goseedoatl.com/wp-content/uploads/2026/01/Aint-Misbehavin-w.jpg
END:VEVENT
BEGIN:VEVENT
DTSTART;TZID=America/Denver:20260502T190000
DTEND;TZID=America/Denver:20260502T213000
DTSTAMP:20260421T024916
CREATED:20260107T154423Z
LAST-MODIFIED:20260107T154423Z
UID:2049786-1777748400-1777757400@goseedoatl.com
SUMMARY:Legacy Theatre presents Ain't Misbehavin'
DESCRIPTION:A sassy\, sultry musical celebration of legendary jazz great\, Fats Waller. One of the most popular\, well-crafted revues of all time and winner of the 1978 Tony Award for Best Musical.
URL:https://goseedoatl.com/event/legacy-theatre-presents-aint-misbehavin/2026-05-02/
LOCATION:The Legacy Theatre\, Tyrone GA
ATTACH;FMTTYPE=image/jpeg:https://goseedoatl.com/wp-content/uploads/2026/01/Aint-Misbehavin-w.jpg
END:VEVENT
BEGIN:VEVENT
DTSTART;TZID=America/Denver:20260503T190000
DTEND;TZID=America/Denver:20260503T213000
DTSTAMP:20260421T024916
CREATED:20260107T154423Z
LAST-MODIFIED:20260107T154423Z
UID:2049787-1777834800-1777843800@goseedoatl.com
SUMMARY:Legacy Theatre presents Ain't Misbehavin'
DESCRIPTION:A sassy\, sultry musical celebration of legendary jazz great\, Fats Waller. One of the most popular\, well-crafted revues of all time and winner of the 1978 Tony Award for Best Musical.
URL:https://goseedoatl.com/event/legacy-theatre-presents-aint-misbehavin/2026-05-03/
LOCATION:The Legacy Theatre\, Tyrone GA
ATTACH;FMTTYPE=image/jpeg:https://goseedoatl.com/wp-content/uploads/2026/01/Aint-Misbehavin-w.jpg
END:VEVENT
BEGIN:VEVENT
DTSTART;TZID=America/Denver:20260508T190000
DTEND;TZID=America/Denver:20260508T213000
DTSTAMP:20260421T024916
CREATED:20260107T154423Z
LAST-MODIFIED:20260107T154423Z
UID:2049788-1778266800-1778275800@goseedoatl.com
SUMMARY:Legacy Theatre presents Ain't Misbehavin'
DESCRIPTION:A sassy\, sultry musical celebration of legendary jazz great\, Fats Waller. One of the most popular\, well-crafted revues of all time and winner of the 1978 Tony Award for Best Musical.
URL:https://goseedoatl.com/event/legacy-theatre-presents-aint-misbehavin/2026-05-08/
LOCATION:The Legacy Theatre\, Tyrone GA
ATTACH;FMTTYPE=image/jpeg:https://goseedoatl.com/wp-content/uploads/2026/01/Aint-Misbehavin-w.jpg
END:VEVENT
BEGIN:VEVENT
DTSTART;TZID=America/Denver:20260509T190000
DTEND;TZID=America/Denver:20260509T213000
DTSTAMP:20260421T024916
CREATED:20260107T154423Z
LAST-MODIFIED:20260107T154423Z
UID:2049804-1778353200-1778362200@goseedoatl.com
SUMMARY:Legacy Theatre presents Ain't Misbehavin'
DESCRIPTION:A sassy\, sultry musical celebration of legendary jazz great\, Fats Waller. One of the most popular\, well-crafted revues of all time and winner of the 1978 Tony Award for Best Musical.
URL:https://goseedoatl.com/event/legacy-theatre-presents-aint-misbehavin/2026-05-09/
LOCATION:The Legacy Theatre\, Tyrone GA
ATTACH;FMTTYPE=image/jpeg:https://goseedoatl.com/wp-content/uploads/2026/01/Aint-Misbehavin-w.jpg
END:VEVENT
BEGIN:VEVENT
DTSTART;TZID=America/Denver:20260510T190000
DTEND;TZID=America/Denver:20260510T213000
DTSTAMP:20260421T024916
CREATED:20260107T154423Z
LAST-MODIFIED:20260107T154423Z
UID:2049805-1778439600-1778448600@goseedoatl.com
SUMMARY:Legacy Theatre presents Ain't Misbehavin'
DESCRIPTION:A sassy\, sultry musical celebration of legendary jazz great\, Fats Waller. One of the most popular\, well-crafted revues of all time and winner of the 1978 Tony Award for Best Musical.
URL:https://goseedoatl.com/event/legacy-theatre-presents-aint-misbehavin/2026-05-10/
LOCATION:The Legacy Theatre\, Tyrone GA
ATTACH;FMTTYPE=image/jpeg:https://goseedoatl.com/wp-content/uploads/2026/01/Aint-Misbehavin-w.jpg
END:VEVENT
END:VCALENDAR