BEGIN:VCALENDAR
VERSION:2.0
PRODID:-// GoSeeDoATL.com  - ECPv6.15.20//NONSGML v1.0//EN
CALSCALE:GREGORIAN
METHOD:PUBLISH
X-ORIGINAL-URL:https://goseedoatl.com
X-WR-CALDESC:Events for  GoSeeDoATL.com 
REFRESH-INTERVAL;VALUE=DURATION:PT1H
X-Robots-Tag:noindex
X-PUBLISHED-TTL:PT1H
BEGIN:VTIMEZONE
TZID:America/Denver
BEGIN:DAYLIGHT
TZOFFSETFROM:-0700
TZOFFSETTO:-0600
TZNAME:MDT
DTSTART:20250309T090000
END:DAYLIGHT
BEGIN:STANDARD
TZOFFSETFROM:-0600
TZOFFSETTO:-0700
TZNAME:MST
DTSTART:20251102T080000
END:STANDARD
BEGIN:DAYLIGHT
TZOFFSETFROM:-0700
TZOFFSETTO:-0600
TZNAME:MDT
DTSTART:20260308T090000
END:DAYLIGHT
BEGIN:STANDARD
TZOFFSETFROM:-0600
TZOFFSETTO:-0700
TZNAME:MST
DTSTART:20261101T080000
END:STANDARD
BEGIN:DAYLIGHT
TZOFFSETFROM:-0700
TZOFFSETTO:-0600
TZNAME:MDT
DTSTART:20270314T090000
END:DAYLIGHT
BEGIN:STANDARD
TZOFFSETFROM:-0600
TZOFFSETTO:-0700
TZNAME:MST
DTSTART:20271107T080000
END:STANDARD
END:VTIMEZONE
BEGIN:VEVENT
DTSTART;TZID=America/Denver:20260419T190000
DTEND;TZID=America/Denver:20260419T213000
DTSTAMP:20260421T044143
CREATED:20260107T154423Z
LAST-MODIFIED:20260107T154423Z
UID:2049803-1776625200-1776634200@goseedoatl.com
SUMMARY:Legacy Theatre presents Ain't Misbehavin'
DESCRIPTION:A sassy\, sultry musical celebration of legendary jazz great\, Fats Waller. One of the most popular\, well-crafted revues of all time and winner of the 1978 Tony Award for Best Musical.
URL:https://goseedoatl.com/event/legacy-theatre-presents-aint-misbehavin/2026-04-19/
LOCATION:The Legacy Theatre\, Tyrone GA
ATTACH;FMTTYPE=image/jpeg:https://goseedoatl.com/wp-content/uploads/2026/01/Aint-Misbehavin-w.jpg
END:VEVENT
BEGIN:VEVENT
DTSTART;TZID=America/Denver:20260418T190000
DTEND;TZID=America/Denver:20260418T213000
DTSTAMP:20260421T044143
CREATED:20260107T154423Z
LAST-MODIFIED:20260107T154423Z
UID:2049779-1776538800-1776547800@goseedoatl.com
SUMMARY:Legacy Theatre presents Ain't Misbehavin'
DESCRIPTION:A sassy\, sultry musical celebration of legendary jazz great\, Fats Waller. One of the most popular\, well-crafted revues of all time and winner of the 1978 Tony Award for Best Musical.
URL:https://goseedoatl.com/event/legacy-theatre-presents-aint-misbehavin/2026-04-18/
LOCATION:The Legacy Theatre\, Tyrone GA
ATTACH;FMTTYPE=image/jpeg:https://goseedoatl.com/wp-content/uploads/2026/01/Aint-Misbehavin-w.jpg
END:VEVENT
BEGIN:VEVENT
DTSTART;TZID=America/Denver:20260417T190000
DTEND;TZID=America/Denver:20260417T213000
DTSTAMP:20260421T044143
CREATED:20260107T154423Z
LAST-MODIFIED:20260107T154423Z
UID:2049778-1776452400-1776461400@goseedoatl.com
SUMMARY:Legacy Theatre presents Ain't Misbehavin'
DESCRIPTION:A sassy\, sultry musical celebration of legendary jazz great\, Fats Waller. One of the most popular\, well-crafted revues of all time and winner of the 1978 Tony Award for Best Musical.
URL:https://goseedoatl.com/event/legacy-theatre-presents-aint-misbehavin/2026-04-17/
LOCATION:The Legacy Theatre\, Tyrone GA
ATTACH;FMTTYPE=image/jpeg:https://goseedoatl.com/wp-content/uploads/2026/01/Aint-Misbehavin-w.jpg
END:VEVENT
END:VCALENDAR