BEGIN:VCALENDAR
VERSION:2.0
PRODID:-// GoSeeDoATL.com  - ECPv6.15.20//NONSGML v1.0//EN
CALSCALE:GREGORIAN
METHOD:PUBLISH
X-ORIGINAL-URL:https://goseedoatl.com
X-WR-CALDESC:Events for  GoSeeDoATL.com 
REFRESH-INTERVAL;VALUE=DURATION:PT1H
X-Robots-Tag:noindex
X-PUBLISHED-TTL:PT1H
BEGIN:VTIMEZONE
TZID:America/Denver
BEGIN:DAYLIGHT
TZOFFSETFROM:-0700
TZOFFSETTO:-0600
TZNAME:MDT
DTSTART:20230312T090000
END:DAYLIGHT
BEGIN:STANDARD
TZOFFSETFROM:-0600
TZOFFSETTO:-0700
TZNAME:MST
DTSTART:20231105T080000
END:STANDARD
BEGIN:DAYLIGHT
TZOFFSETFROM:-0700
TZOFFSETTO:-0600
TZNAME:MDT
DTSTART:20240310T090000
END:DAYLIGHT
BEGIN:STANDARD
TZOFFSETFROM:-0600
TZOFFSETTO:-0700
TZNAME:MST
DTSTART:20241103T080000
END:STANDARD
BEGIN:DAYLIGHT
TZOFFSETFROM:-0700
TZOFFSETTO:-0600
TZNAME:MDT
DTSTART:20250309T090000
END:DAYLIGHT
BEGIN:STANDARD
TZOFFSETFROM:-0600
TZOFFSETTO:-0700
TZNAME:MST
DTSTART:20251102T080000
END:STANDARD
END:VTIMEZONE
BEGIN:VEVENT
DTSTART;TZID=America/Denver:20240921T190000
DTEND;TZID=America/Denver:20240921T230000
DTSTAMP:20260422T150517
CREATED:20240809T155905Z
LAST-MODIFIED:20240809T155905Z
UID:245170-1726945200-1726959600@goseedoatl.com
SUMMARY:Happy Days Weekend in Hapeville
DESCRIPTION:Join us for two nights of free concerts in Jess Lucas Park-Friday Sept. 20 and Saturday Sept. 21 from 7-11pm. Two performances each night plus food and artist vendors.
URL:https://goseedoatl.com/event/happy-days-weekend-in-hapeville/2024-09-21/
LOCATION:jess lucas y teen park hapeville
ATTACH;FMTTYPE=image/jpeg:https://goseedoatl.com/wp-content/uploads/2024/08/DSC01104-scaled.jpg
END:VEVENT
BEGIN:VEVENT
DTSTART;TZID=America/Denver:20240920T190000
DTEND;TZID=America/Denver:20240920T230000
DTSTAMP:20260422T150517
CREATED:20240809T155905Z
LAST-MODIFIED:20240809T155905Z
UID:245168-1726858800-1726873200@goseedoatl.com
SUMMARY:Happy Days Weekend in Hapeville
DESCRIPTION:Join us for two nights of free concerts in Jess Lucas Park-Friday Sept. 20 and Saturday Sept. 21 from 7-11pm. Two performances each night plus food and artist vendors.
URL:https://goseedoatl.com/event/happy-days-weekend-in-hapeville/2024-09-20/
LOCATION:jess lucas y teen park hapeville
ATTACH;FMTTYPE=image/jpeg:https://goseedoatl.com/wp-content/uploads/2024/08/DSC01104-scaled.jpg
END:VEVENT
END:VCALENDAR