BEGIN:VCALENDAR
VERSION:2.0
PRODID:-// GoSeeDoATL.com  - ECPv6.15.20//NONSGML v1.0//EN
CALSCALE:GREGORIAN
METHOD:PUBLISH
X-ORIGINAL-URL:https://goseedoatl.com
X-WR-CALDESC:Events for  GoSeeDoATL.com 
REFRESH-INTERVAL;VALUE=DURATION:PT1H
X-Robots-Tag:noindex
X-PUBLISHED-TTL:PT1H
BEGIN:VTIMEZONE
TZID:America/Denver
BEGIN:DAYLIGHT
TZOFFSETFROM:-0700
TZOFFSETTO:-0600
TZNAME:MDT
DTSTART:20230312T090000
END:DAYLIGHT
BEGIN:STANDARD
TZOFFSETFROM:-0600
TZOFFSETTO:-0700
TZNAME:MST
DTSTART:20231105T080000
END:STANDARD
BEGIN:DAYLIGHT
TZOFFSETFROM:-0700
TZOFFSETTO:-0600
TZNAME:MDT
DTSTART:20240310T090000
END:DAYLIGHT
BEGIN:STANDARD
TZOFFSETFROM:-0600
TZOFFSETTO:-0700
TZNAME:MST
DTSTART:20241103T080000
END:STANDARD
BEGIN:DAYLIGHT
TZOFFSETFROM:-0700
TZOFFSETTO:-0600
TZNAME:MDT
DTSTART:20250309T090000
END:DAYLIGHT
BEGIN:STANDARD
TZOFFSETFROM:-0600
TZOFFSETTO:-0700
TZNAME:MST
DTSTART:20251102T080000
END:STANDARD
END:VTIMEZONE
BEGIN:VEVENT
DTSTART;TZID=America/Denver:20240630T140000
DTEND;TZID=America/Denver:20240630T160000
DTSTAMP:20260421T150746
CREATED:20240617T191042Z
LAST-MODIFIED:20240617T192813Z
UID:245039-1719756000-1719763200@goseedoatl.com
SUMMARY:Anastasia the Musical
DESCRIPTION:Anastasis (the musical) presented by the Ovations Teens cast at Town Square Playhouse June 28-30\, 2024.
URL:https://goseedoatl.com/event/anastasia-the-musical/2024-06-30/
LOCATION:town square playhouse fayetteville
ATTACH;FMTTYPE=image/png:https://goseedoatl.com/wp-content/uploads/2024/06/TSP-June.png
END:VEVENT
BEGIN:VEVENT
DTSTART;TZID=America/Denver:20240629T190000
DTEND;TZID=America/Denver:20240629T210000
DTSTAMP:20260421T150746
CREATED:20240617T191042Z
LAST-MODIFIED:20240617T192811Z
UID:245038-1719687600-1719694800@goseedoatl.com
SUMMARY:Anastasia the Musical
DESCRIPTION:Anastasis (the musical) presented by the Ovations Teens cast at Town Square Playhouse June 28-30\, 2024.
URL:https://goseedoatl.com/event/anastasia-the-musical/2024-06-29/2/
LOCATION:town square playhouse fayetteville
ATTACH;FMTTYPE=image/png:https://goseedoatl.com/wp-content/uploads/2024/06/TSP-June.png
END:VEVENT
BEGIN:VEVENT
DTSTART;TZID=America/Denver:20240629T140000
DTEND;TZID=America/Denver:20240629T160000
DTSTAMP:20260421T150746
CREATED:20240617T191042Z
LAST-MODIFIED:20240617T192809Z
UID:245037-1719669600-1719676800@goseedoatl.com
SUMMARY:Anastasia the Musical
DESCRIPTION:Anastasis (the musical) presented by the Ovations Teens cast at Town Square Playhouse June 28-30\, 2024.
URL:https://goseedoatl.com/event/anastasia-the-musical/2024-06-29/
LOCATION:town square playhouse fayetteville
ATTACH;FMTTYPE=image/png:https://goseedoatl.com/wp-content/uploads/2024/06/TSP-June.png
END:VEVENT
BEGIN:VEVENT
DTSTART;TZID=America/Denver:20240628T190000
DTEND;TZID=America/Denver:20240628T210000
DTSTAMP:20260421T150746
CREATED:20240617T191042Z
LAST-MODIFIED:20240617T192807Z
UID:245035-1719601200-1719608400@goseedoatl.com
SUMMARY:Anastasia the Musical
DESCRIPTION:Anastasis (the musical) presented by the Ovations Teens cast at Town Square Playhouse June 28-30\, 2024.
URL:https://goseedoatl.com/event/anastasia-the-musical/2024-06-28/
LOCATION:town square playhouse fayetteville
ATTACH;FMTTYPE=image/png:https://goseedoatl.com/wp-content/uploads/2024/06/TSP-June.png
END:VEVENT
END:VCALENDAR